{"text_format":"1","workbook":"xlsx","n_sheets":9,"sheets":["Instructions","SCE Formatting","Net Usage","Green Button Data","PV Data","Conversions","Overlaid Data","tblch","Demand Chart"],"not_rendered":{"charts":2,"images":30,"macros":1,"external_links":0,"defined_names":4,"comments":0,"pivot_tables":0},"unopened":[{"sheet":"Demand Chart","index":8,"reason":"not_a_worksheet"}],"bounds":{"document_bytes":16777216,"sheet_cells":100000,"rows_first":2000,"rows_last":500,"rows_between":2000,"halvings":0,"cell_chars":16384,"cell_head_chars":4096},"cells_cut":0,"cells_raw":0,"read":"whole","date_system":"1900"}

{"sheet":"Instructions","index":0,"n_rows":383,"n_cols":5,"rows_kept":383,"cut":false,"hidden":false,"merged":[[302,0,303,7],[260,0,261,7],[275,0,277,7],[284,0,289,7],[196,0,201,7],[248,0,255,7],[231,0,231,7],[290,0,294,7],[202,0,204,7],[214,0,216,7],[232,0,232,7],[0,0,4,7],[70,0,73,7],[82,0,85,7],[152,0,154,7],[163,0,165,7],[96,0,96,7],[97,0,102,7],[103,0,104,3],[127,0,128,7],[136,0,136,7],[137,0,139,7],[146,0,148,7],[103,4,104,7],[112,0,112,7],[113,0,116,7],[126,0,126,7],[319,0,319,7],[337,0,340,7],[310,0,312,7],[328,0,329,7],[382,0,387,7],[359,0,360,7],[380,0,381,7],[52,0,57,7],[68,0,69,7],[195,0,195,7],[5,0,10,7],[11,0,11,7],[23,0,26,7],[36,0,41,7],[149,0,150,7],[151,0,151,7],[182,2,188,7],[189,2,194,7],[177,0,180,7],[176,0,176,3],[176,4,176,7],[181,0,181,7]]}
["This workbook is designed with the purpose of overlaying SCE Green Button Data (GBD) and PV Watts data, easier, and to help determine the site peak load for a given project site. Below are instructions on how to use the workbook, and are placed in sequential order. Skipping steps may result in an incorrect peak, therefore, it is recommended that the instructions are followed in order."]
[]
[]
[]
[]
["OPTIONAL STEP: An SCE GBD report may come with additional information that must be cleared and reformatted, such as blank rows, customer information, and other miscellaneous information. In order to properly use this tool, it is recommended that such GBD report be reformatted prior to placing it into the \"Green Button Data\" tab. This can either be done manually or by placing the data into the \"SCE Formatting\" tab. A screenshot is shown below:"]
[]
[]
[]
[]
[]
[]
[]
[]
[]
[]
[]
[]
[]
[]
[]
[]
[]
["If using this for the first time or to clear existing data, press the following combination your keyboard: \"Ctrl + Shift + R\". The tab will reset to the screenshot above. Next, copy and paste the data into Columns A, B, and C. DO NOT PLACE DATA OUTSIDE OF COLUMNS A-C."]
[]
[]
[]
[]
[]
[]
[]
[]
[]
[]
[]
[]
["Notice that all data is within Columns A-C. Next, to reformat, press the following keyboard combination: \"Ctrl + Shift + E\". The tool will then analyze the data and eliminate miscellaneous information, blank rows, and customer information, leaving behind the timestamps and kWh information as shown in the screenshot below. (NOTE: This process may take from a few seconds to a few minutes depending on the computer.)"]
[]
[]
[]
[]
[]
[]
[]
[]
[]
[]
[]
[]
[]
[]
[]
["If the reformatting is successful, a prompt will appear and will ask if you if you wish to copy the data into the \"Green Button Data\" tab. If you do not wish to do this automatically, then you can click \"No\", in which case the data will have to be copied over manually into Columns D and F, while also selecting the \"String\" input option. In case the \"Yes\" option is selected, the tool will copy the data into the \"Green Button Data\" tab as shown below:"]
[]
[]
[]
[]
[]
[]
[]
[]
[]
[]
[]
[]
[]
[]
[]
["Note that the data has been copied over into Columns D and F. The \"String\" option will need to be selected in order to recognize the input if it is not already selected."]
[]
["A screenshot of the \"Green Button Data\" tab is shown below. For purposes of identifying the application information, Columns A, B, and C are included, though, for purposes of calculating the peak load, Columns D, E, and F should be filled out with a continuous set of data (avoid spaces)."]
[]
[]
[]
[]
[]
[]
[]
[]
[]
[]
[]
["Once data has been copied into Columns A-F, the buttons in Columns H and I can be used to refine the data, and the output will be displayed on Columns K and L. Please note that the radio buttons in the \"Time Format Input\" should be selected according to the format of data in Columns D and E. Please see the following examples."]
[]
[]
[]
[]
[]
[]
[]
[]
[]
[]
[]
[]
[]
["Time Format Input \"String (SCE GBD)\""]
["For data in which the timestamp includes the beginning and end as a string, the \"String\" button should be selected. When selecting this option, Column E is auto-hidden. When clicking the \"Convert to Timestamp and Power\" button, the workbook will obtain the first part of the interval and display the output on Column K. If the data pasted contains characters other than the sample data below, then additional formatting outside of the workbook may be necessary."]
[]
[]
[]
[]
[]
["Sample of \"String\" data. Note the timestamp on the left and kWh on the right.",null,null,null,"Sample of conversion after clicking on \"Convert to Timestamp and Power\""]
[]
[]
[]
[]
[]
[]
[]
[]
["Time Format Input \"Date + Time (X:XX)\""]
["For data in which the timestamp is separated into separate Data and Time, select the appropriate \"Date + Time (X:XX)\" button. For reference the (:) is for timestamps in the \"HH:MM:SS\" format. Note the format below after \"Convert to Timestamp and Power\" button is used."]
[]
[]
[]
[]
[]
[]
[]
[]
[]
[]
[]
[]
["Time Format Input \"1:1\""]
["Similarly, if the data is already in the correct format, then the \"1:1\" button should be selected, in which case the workbook will not modify the data."]
[]
[]
[]
[]
[]
[]
[]
[]
["kW Output Options"]
["When converting the formats, select the appropriate output for the kW. If the input data is in 1-hour intervals, then the output should be 1-hour. Similarly, if the input data is in 15-minute intervals, then the 15-minute option should be used."]
[]
[]
[]
[]
[]
[]
[]
[]
["Once complete, click on the \"Convert to Timestamp and Power\" button to convert the inputs to the appropriate format. The results will then be displayed in Columns K and L."]
[]
[]
["The \"Reset\" button can be used to clear out all contents when re-using the sheet, or if it becomes necessary to start over."]
[]
["Once this sheet is completed, the user should move to the 'PV Data' tab."]
["A screenshot of the \"PV Data\" sheet is included below. Data from PV Watts should be placed within Columns A-D."]
[]
[]
[]
[]
[]
[]
[]
[]
[]
[]
["Use the \"Add Year to PV\" to add the year to the PV Watts Data based on the GBD. Note: Since the most recent 12-months of data is acceptable, the PV data will \"wrap around\" the most recent GBD timestamp - therefore, if more than 1-year of data is submitted, it will be ignored."]
[]
[]
[]
[]
[]
[]
[]
[]
[]
[]
[]
[]
["PV Watts Data Before Year.",null,null,null,"PV Watts Data After Year."]
["Please note, adding the year can be a time-intensive process, therefore, avoid closing the workbook while the year is added. Additionally, if a PV interconnection date is available then it can be used to filter or \"trim\" the PV Watts data. The date can be entered in the yellow colored cell:"]
[]
[]
[]
["PV Interconnection Date"]
[null,null,"Note: The data will be modified in the output of Columns K and L. Additionally, if no date is entered, then there will no filter applied. However, if a date is entered, it should be in a (mm/dd/yyyy) format."]
[]
[]
[]
[]
[]
[]
[null,null,"Note: The left screenshot shows an example of the format to be entered for the date (mm/dd/yyyy)."]
[]
[]
[]
[]
[]
["kW Output Options"]
["To properly overlay the data, select the correct output. If the GBD data is in 1-hour intervals, then the 1-hour option should be selected, otherwise, if the data is in 15-minute intervals, then the 15-minute option should be selected. Note: If using the 15-minute option, this can result in a time-intensive process due to the number of data points the workbook must accommodate. Please wait until the workbook completes its process before proceeding to the next tab."]
[]
[]
[]
[]
[]
["Use the \"Add Timestamp and Power\" button to format the timestamps and power correctly. Output will be shown in Columns K and L."]
[]
[]
[]
[]
[]
[]
[]
[]
[]
[]
[]
["Please note the outputs on Columns K and L with the correct format. Additionally, since the interconnection date was entered as \"1/2/2021\", any values before this date are zeroed out."]
[]
[]
[]
[]
[]
[]
[]
[]
[]
[]
[]
[]
[]
[]
[]
[]
["If necessary, the \"Reset\" button can be used to clear out the contents of the sheet."]
["Once completed, proceed to the \"Overlaid Data\" tab."]
[]
[]
[]
[]
[]
[]
[]
[]
[]
[]
[]
[]
[]
[]
[]
["A screenshot of the \"Overlaid Data\" sheet is shown below. First use the \"Reset\" button to clear any data and reset the analysis timeframe. Next, click on the \"Import and Overlay Data\" button to import data from the \"Green Button Data\" sheet and the \"PV Data\" sheet (if there is no data present, then the \"Import and Overlay\" button can be clicked without clicking the \"Reset\" button first). Note: Ensure that Columns K and L of the \"Green Button Data\" sheet and Columns K and L of the \"PV Data\" sheet have been filled out prior to clicking this button. If no data is shown, then refer back to the individual sheets."]
[]
[]
[]
[]
[]
[]
[]
[]
[]
[]
[]
["The imported data will be shown in Columns A-D."]
[]
[]
[]
[]
[]
[]
[]
[]
[]
[]
[]
[]
[]
[]
["Columns J-N will also display relevant information such as GBD timestamp of the peak load, the peak load, and rows for the quantities added from the GBD and PV watts data that can be used as confirmation."]
[]
[]
[]
[]
[]
[]
[]
[]
["The data shown will display the peak demand, as well as the timestamp and row in which the peak occurs. An additional row will also show the second highest peak period of the data. The first peak demand is 21.04 and occurs at the GBD timestamp of 7/10/2021 at 11:00 AM, while the second peak is 20.98 kW and occurs on 7/10/2021 at 12:00 PM. Please also note, that the workbook will also display an \"Overlay Created On:\" and \"Graph Generator On:\" dates."]
[]
[]
[]
[]
[]
["A chart is included to view the demand throughout the analysis period. To graph the data, click on the \"Graph Data\" button on the \"Overlaid Data\" tab. Note: The graph should be generated after overlaying data to view accurate information. If no graph has been generated, then the cell will be blank, otherwise, the last date since the graph was generated will be displayed."]
[]
[]
[]
[]
[]
[]
[]
[]
[]
[]
[]
["If you choose not to graph the data and proceed to the \"Demand Chart\" tab, then you may receive the following prompt:"]
[]
[]
[]
[]
[]
[]
[]
["Clicking \"Yes\" will generate the graph using the latest overlay data. If you click \"No\", then a second prompt will appear:"]
[]
[]
[]
[]
[]
[]
[]
[]
["The graph will then be turned off."]
[]
[]
[]
[]
[]
[]
[]
[]
[" If you wish to generate the data, then you may do so at the \"Overlaid Data\" tab, or click \"Yes\" when the first prompt is displayed:"]
[]
[]
[]
[]
[]
[]
[]
[]
["On the \"Demand Chart\" tab, other views can be toggled using the checkboxes in the bottom-right corner and view either the Combined Peak OR individual GBD and individual PV Power (both combined). Clicking on the \"Cmbnd Peak\" box will generate the following graph:"]
[]
[]
[]
[]
[]
[]
[]
[]
[]
[]
[]
[]
[]
[]
[]
[]
[]
[]
[]
[]
[]
["Clicking on the \"GBD Power\" and \"PV Power\" checkboxes will generate the following graph:"]
[]
[]
[]
[]
[]
[]
[]
[]
[]
[]
[]
[]
[]
[]
[]
[]
[]
[]
[]
[]
["Note: If all checkboxes are left unchecked, no graph will be visible, please ensure that at least 1 checkbox has been selected to view its graph. "]
[]
["Note:  Use the \"Graph Data\" button (found in the \"Overlaid Data\" tab), to regraph new entries of GBD + PV data, or click \"Yes\" on the prompt if asked if you wish to regenerate the graph. By default, the chart will not graph any data that is not within the analysis period, and therefore the \"Overlaid Data\" tab must be filled out so that a graph can be generated. If either no points or not enough points are provided, you will get one of the following messages."]

{"sheet":"SCE Formatting","index":1,"n_rows":1,"n_cols":8,"rows_kept":1,"cut":false,"hidden":false,"merged":[[0,7,9,12]]}
[null,null,null,null,null,null,null,"1. Clear out the contents by pressing on \"Ctrl + Shift + R\" buttons on your keyboard.\n2. Copy and Paste the data as-is from the GBD file, and paste it into Columns A-C.\n3. Reformat the data to extract the GBD timestamps and kWh by pressing \"Ctrl + Shift + E\" on your keyboard.\n4. When prompted, click \"Yes\" to copy the GBD information to the \"Green Button Data\" sheet, or click \"No\" to do it manually. NOTE: If copying and pasting manually, select \"String\" in the \"Green Button Data\" tab."]

{"sheet":"Net Usage","index":2,"n_rows":0,"n_cols":0,"rows_kept":0,"cut":false,"hidden":true,"merged":[]}

{"sheet":"Green Button Data","index":3,"n_rows":1,"n_cols":12,"rows_kept":1,"cut":false,"hidden":false,"merged":[]}
["Application Code","SA-ID","Meter ID","Date","Hour","kWh",null,null,null,null,"GBD Timestamp","GBD Power(kW)"]

{"sheet":"PV Data","index":4,"n_rows":1,"n_cols":12,"rows_kept":1,"cut":false,"hidden":false,"merged":[[9,7,9,8]]}
["Month","Day","Hour","AC System Output (W)","Year",null,null,null,null,null,"PV Timestamp","PV Power (kW)"]

{"sheet":"Conversions","index":5,"n_rows":35041,"n_cols":8,"rows_kept":4500,"cut":true,"hidden":true,"merged":[[0,7,0,13]],"bounds":{"rows_first":2000,"rows_last":500,"rows_between":2000,"halvings":0}}
["PV Timestamp","PV Power (kW)","Year","Month","Day","hour (adj)",null,"DO NOT EDIT THIS SHEET"]
[{"$f":"DATE($C$2,$D$2,$E$2) + TIME($F$2,0,0)","v":"1900-01-01"},{"$f":"IF(A2<'PV Data'!$H$10,0,SUMIFS('PV Data'!D:D,'PV Data'!A:A,MONTH(Conversions!A2),'PV Data'!B:B,DAY(Conversions!A2),'PV Data'!C:C,HOUR(Conversions!A2))/1000)","v":0},null,1,1,0]
[{"$f":"A2+TIME(0,15,0)","v":"1900-01-01T00:15:00"},{"$f":"B2","v":0},null,1,1,1]
[{"$f":"A3+TIME(0,15,0)","v":"1900-01-01T00:30:00"},{"$f":"B2","v":0},null,1,1,2]
[{"$f":"A4+TIME(0,15,0)","v":"1900-01-01T00:45:00"},{"$f":"B2","v":0},null,1,1,3]
[{"$f":"DATE($C$3,$D$3,$E$3) + TIME($F$3,0,0)","v":"1900-01-01T01:00:00"},{"$f":"IF(A6<'PV Data'!$H$10,0,SUMIFS('PV Data'!D:D,'PV Data'!A:A,MONTH(Conversions!A6),'PV Data'!B:B,DAY(Conversions!A6),'PV Data'!C:C,HOUR(Conversions!A6))/1000)","v":0},null,1,1,4]
[{"$f":"A6+TIME(0,15,0)","v":"1900-01-01T01:15:00"},{"$f":"B6","v":0},null,1,1,5]
[{"$f":"A7+TIME(0,15,0)","v":"1900-01-01T01:30:00"},{"$f":"B6","v":0},null,1,1,6]
[{"$f":"A8+TIME(0,15,0)","v":"1900-01-01T01:45:00"},{"$f":"B6","v":0},null,1,1,7]
[{"$f":"DATE($C$4,$D$4,$E$4) + TIME($F$4,0,0)","v":"1900-01-01T02:00:00"},{"$f":"IF(A10<'PV Data'!$H$10,0,SUMIFS('PV Data'!D:D,'PV Data'!A:A,MONTH(Conversions!A10),'PV Data'!B:B,DAY(Conversions!A10),'PV Data'!C:C,HOUR(Conversions!A10))/1000)","v":0},null,1,1,8]
[{"$f":"A10+TIME(0,15,0)","v":"1900-01-01T02:15:00"},{"$f":"B10","v":0},null,1,1,9]
[{"$f":"A11+TIME(0,15,0)","v":"1900-01-01T02:30:00"},{"$f":"B10","v":0},null,1,1,10]
[{"$f":"A12+TIME(0,15,0)","v":"1900-01-01T02:45:00"},{"$f":"B10","v":0},null,1,1,11]
[{"$f":"DATE($C$5,$D$5,$E$5) + TIME($F$5,0,0)","v":"1900-01-01T03:00:00"},{"$f":"IF(A14<'PV Data'!$H$10,0,SUMIFS('PV Data'!D:D,'PV Data'!A:A,MONTH(Conversions!A14),'PV Data'!B:B,DAY(Conversions!A14),'PV Data'!C:C,HOUR(Conversions!A14))/1000)","v":0},null,1,1,12]
[{"$f":"A14+TIME(0,15,0)","v":"1900-01-01T03:15:00"},{"$f":"B14","v":0},null,1,1,13]
[{"$f":"A15+TIME(0,15,0)","v":"1900-01-01T03:30:00"},{"$f":"B14","v":0},null,1,1,14]
[{"$f":"A16+TIME(0,15,0)","v":"1900-01-01T03:45:00"},{"$f":"B14","v":0},null,1,1,15]
[{"$f":"DATE($C$6,$D$6,$E$6) + TIME($F$6,0,0)","v":"1900-01-01T04:00:00"},{"$f":"IF(A18<'PV Data'!$H$10,0,SUMIFS('PV Data'!D:D,'PV Data'!A:A,MONTH(Conversions!A18),'PV Data'!B:B,DAY(Conversions!A18),'PV Data'!C:C,HOUR(Conversions!A18))/1000)","v":0},null,1,1,16]
[{"$f":"A18+TIME(0,15,0)","v":"1900-01-01T04:15:00"},{"$f":"B18","v":0},null,1,1,17]
[{"$f":"A19+TIME(0,15,0)","v":"1900-01-01T04:30:00"},{"$f":"B18","v":0},null,1,1,18]
[{"$f":"A20+TIME(0,15,0)","v":"1900-01-01T04:45:00"},{"$f":"B18","v":0},null,1,1,19]
[{"$f":"DATE($C$7,$D$7,$E$7) + TIME($F$7,0,0)","v":"1900-01-01T05:00:00"},{"$f":"IF(A22<'PV Data'!$H$10,0,SUMIFS('PV Data'!D:D,'PV Data'!A:A,MONTH(Conversions!A22),'PV Data'!B:B,DAY(Conversions!A22),'PV Data'!C:C,HOUR(Conversions!A22))/1000)","v":0},null,1,1,20]
[{"$f":"A22+TIME(0,15,0)","v":"1900-01-01T05:15:00"},{"$f":"B22","v":0},null,1,1,21]
[{"$f":"A23+TIME(0,15,0)","v":"1900-01-01T05:30:00"},{"$f":"B22","v":0},null,1,1,22]
[{"$f":"A24+TIME(0,15,0)","v":"1900-01-01T05:45:00"},{"$f":"B22","v":0},null,1,1,23]
[{"$f":"DATE($C$8,$D$8,$E$8) + TIME($F$8,0,0)","v":"1900-01-01T06:00:00"},{"$f":"IF(A26<'PV Data'!$H$10,0,SUMIFS('PV Data'!D:D,'PV Data'!A:A,MONTH(Conversions!A26),'PV Data'!B:B,DAY(Conversions!A26),'PV Data'!C:C,HOUR(Conversions!A26))/1000)","v":0},null,1,2,0]
[{"$f":"A26+TIME(0,15,0)","v":"1900-01-01T06:15:00"},{"$f":"B26","v":0},null,1,2,1]
[{"$f":"A27+TIME(0,15,0)","v":"1900-01-01T06:30:00"},{"$f":"B26","v":0},null,1,2,2]
[{"$f":"A28+TIME(0,15,0)","v":"1900-01-01T06:45:00"},{"$f":"B26","v":0},null,1,2,3]
[{"$f":"DATE($C$9,$D$9,$E$9) + TIME($F$9,0,0)","v":"1900-01-01T07:00:00"},{"$f":"IF(A30<'PV Data'!$H$10,0,SUMIFS('PV Data'!D:D,'PV Data'!A:A,MONTH(Conversions!A30),'PV Data'!B:B,DAY(Conversions!A30),'PV Data'!C:C,HOUR(Conversions!A30))/1000)","v":0},null,1,2,4]
[{"$f":"A30+TIME(0,15,0)","v":"1900-01-01T07:15:00"},{"$f":"B30","v":0},null,1,2,5]
[{"$f":"A31+TIME(0,15,0)","v":"1900-01-01T07:30:00"},{"$f":"B30","v":0},null,1,2,6]
[{"$f":"A32+TIME(0,15,0)","v":"1900-01-01T07:45:00"},{"$f":"B30","v":0},null,1,2,7]
[{"$f":"DATE($C$10,$D$10,$E$10) + TIME($F$10,0,0)","v":"1900-01-01T08:00:00"},{"$f":"IF(A34<'PV Data'!$H$10,0,SUMIFS('PV Data'!D:D,'PV Data'!A:A,MONTH(Conversions!A34),'PV Data'!B:B,DAY(Conversions!A34),'PV Data'!C:C,HOUR(Conversions!A34))/1000)","v":0},null,1,2,8]
[{"$f":"A34+TIME(0,15,0)","v":"1900-01-01T08:15:00"},{"$f":"B34","v":0},null,1,2,9]
[{"$f":"A35+TIME(0,15,0)","v":"1900-01-01T08:30:00"},{"$f":"B34","v":0},null,1,2,10]
[{"$f":"A36+TIME(0,15,0)","v":"1900-01-01T08:45:00"},{"$f":"B34","v":0},null,1,2,11]
[{"$f":"DATE($C$11,$D$11,$E$11) + TIME($F$11,0,0)","v":"1900-01-01T09:00:00"},{"$f":"IF(A38<'PV Data'!$H$10,0,SUMIFS('PV Data'!D:D,'PV Data'!A:A,MONTH(Conversions!A38),'PV Data'!B:B,DAY(Conversions!A38),'PV Data'!C:C,HOUR(Conversions!A38))/1000)","v":0},null,1,2,12]
[{"$f":"A38+TIME(0,15,0)","v":"1900-01-01T09:15:00"},{"$f":"B38","v":0},null,1,2,13]
[{"$f":"A39+TIME(0,15,0)","v":"1900-01-01T09:30:00"},{"$f":"B38","v":0},null,1,2,14]
[{"$f":"A40+TIME(0,15,0)","v":"1900-01-01T09:45:00"},{"$f":"B38","v":0},null,1,2,15]
[{"$f":"DATE($C$12,$D$12,$E$12) + TIME($F$12,0,0)","v":"1900-01-01T10:00:00"},{"$f":"IF(A42<'PV Data'!$H$10,0,SUMIFS('PV Data'!D:D,'PV Data'!A:A,MONTH(Conversions!A42),'PV Data'!B:B,DAY(Conversions!A42),'PV Data'!C:C,HOUR(Conversions!A42))/1000)","v":0},null,1,2,16]
[{"$f":"A42+TIME(0,15,0)","v":"1900-01-01T10:15:00"},{"$f":"B42","v":0},null,1,2,17]
[{"$f":"A43+TIME(0,15,0)","v":"1900-01-01T10:30:00"},{"$f":"B42","v":0},null,1,2,18]
[{"$f":"A44+TIME(0,15,0)","v":"1900-01-01T10:45:00"},{"$f":"B42","v":0},null,1,2,19]
[{"$f":"DATE($C$13,$D$13,$E$13) + TIME($F$13,0,0)","v":"1900-01-01T11:00:00"},{"$f":"IF(A46<'PV Data'!$H$10,0,SUMIFS('PV Data'!D:D,'PV Data'!A:A,MONTH(Conversions!A46),'PV Data'!B:B,DAY(Conversions!A46),'PV Data'!C:C,HOUR(Conversions!A46))/1000)","v":0},null,1,2,20]
[{"$f":"A46+TIME(0,15,0)","v":"1900-01-01T11:15:00"},{"$f":"B46","v":0},null,1,2,21]
[{"$f":"A47+TIME(0,15,0)","v":"1900-01-01T11:30:00"},{"$f":"B46","v":0},null,1,2,22]
[{"$f":"A48+TIME(0,15,0)","v":"1900-01-01T11:45:00"},{"$f":"B46","v":0},null,1,2,23]
[{"$f":"DATE($C$14,$D$14,$E$14) + TIME($F$14,0,0)","v":"1900-01-01T12:00:00"},{"$f":"IF(A50<'PV Data'!$H$10,0,SUMIFS('PV Data'!D:D,'PV Data'!A:A,MONTH(Conversions!A50),'PV Data'!B:B,DAY(Conversions!A50),'PV Data'!C:C,HOUR(Conversions!A50))/1000)","v":0},null,1,3,0]
[{"$f":"A50+TIME(0,15,0)","v":"1900-01-01T12:15:00"},{"$f":"B50","v":0},null,1,3,1]
[{"$f":"A51+TIME(0,15,0)","v":"1900-01-01T12:30:00"},{"$f":"B50","v":0},null,1,3,2]
[{"$f":"A52+TIME(0,15,0)","v":"1900-01-01T12:45:00"},{"$f":"B50","v":0},null,1,3,3]
[{"$f":"DATE($C$15,$D$15,$E$15) + TIME($F$15,0,0)","v":"1900-01-01T13:00:00"},{"$f":"IF(A54<'PV Data'!$H$10,0,SUMIFS('PV Data'!D:D,'PV Data'!A:A,MONTH(Conversions!A54),'PV Data'!B:B,DAY(Conversions!A54),'PV Data'!C:C,HOUR(Conversions!A54))/1000)","v":0},null,1,3,4]
[{"$f":"A54+TIME(0,15,0)","v":"1900-01-01T13:15:00"},{"$f":"B54","v":0},null,1,3,5]
[{"$f":"A55+TIME(0,15,0)","v":"1900-01-01T13:30:00"},{"$f":"B54","v":0},null,1,3,6]
[{"$f":"A56+TIME(0,15,0)","v":"1900-01-01T13:45:00"},{"$f":"B54","v":0},null,1,3,7]
[{"$f":"DATE($C$16,$D$16,$E$16) + TIME($F$16,0,0)","v":"1900-01-01T14:00:00"},{"$f":"IF(A58<'PV Data'!$H$10,0,SUMIFS('PV Data'!D:D,'PV Data'!A:A,MONTH(Conversions!A58),'PV Data'!B:B,DAY(Conversions!A58),'PV Data'!C:C,HOUR(Conversions!A58))/1000)","v":0},null,1,3,8]
[{"$f":"A58+TIME(0,15,0)","v":"1900-01-01T14:15:00"},{"$f":"B58","v":0},null,1,3,9]
[{"$f":"A59+TIME(0,15,0)","v":"1900-01-01T14:30:00"},{"$f":"B58","v":0},null,1,3,10]
[{"$f":"A60+TIME(0,15,0)","v":"1900-01-01T14:45:00"},{"$f":"B58","v":0},null,1,3,11]
[{"$f":"DATE($C$17,$D$17,$E$17) + TIME($F$17,0,0)","v":"1900-01-01T15:00:00"},{"$f":"IF(A62<'PV Data'!$H$10,0,SUMIFS('PV Data'!D:D,'PV Data'!A:A,MONTH(Conversions!A62),'PV Data'!B:B,DAY(Conversions!A62),'PV Data'!C:C,HOUR(Conversions!A62))/1000)","v":0},null,1,3,12]
[{"$f":"A62+TIME(0,15,0)","v":"1900-01-01T15:15:00"},{"$f":"B62","v":0},null,1,3,13]
[{"$f":"A63+TIME(0,15,0)","v":"1900-01-01T15:30:00"},{"$f":"B62","v":0},null,1,3,14]
[{"$f":"A64+TIME(0,15,0)","v":"1900-01-01T15:45:00"},{"$f":"B62","v":0},null,1,3,15]
[{"$f":"DATE($C$18,$D$18,$E$18) + TIME($F$18,0,0)","v":"1900-01-01T16:00:00"},{"$f":"IF(A66<'PV Data'!$H$10,0,SUMIFS('PV Data'!D:D,'PV Data'!A:A,MONTH(Conversions!A66),'PV Data'!B:B,DAY(Conversions!A66),'PV Data'!C:C,HOUR(Conversions!A66))/1000)","v":0},null,1,3,16]
[{"$f":"A66+TIME(0,15,0)","v":"1900-01-01T16:15:00"},{"$f":"B66","v":0},null,1,3,17]
[{"$f":"A67+TIME(0,15,0)","v":"1900-01-01T16:30:00"},{"$f":"B66","v":0},null,1,3,18]
[{"$f":"A68+TIME(0,15,0)","v":"1900-01-01T16:45:00"},{"$f":"B66","v":0},null,1,3,19]
[{"$f":"DATE($C$19,$D$19,$E$19) + TIME($F$19,0,0)","v":"1900-01-01T17:00:00"},{"$f":"IF(A70<'PV Data'!$H$10,0,SUMIFS('PV Data'!D:D,'PV Data'!A:A,MONTH(Conversions!A70),'PV Data'!B:B,DAY(Conversions!A70),'PV Data'!C:C,HOUR(Conversions!A70))/1000)","v":0},null,1,3,20]
[{"$f":"A70+TIME(0,15,0)","v":"1900-01-01T17:15:00"},{"$f":"B70","v":0},null,1,3,21]
[{"$f":"A71+TIME(0,15,0)","v":"1900-01-01T17:30:00"},{"$f":"B70","v":0},null,1,3,22]
[{"$f":"A72+TIME(0,15,0)","v":"1900-01-01T17:45:00"},{"$f":"B70","v":0},null,1,3,23]
[{"$f":"DATE($C$20,$D$20,$E$20) + TIME($F$20,0,0)","v":"1900-01-01T18:00:00"},{"$f":"IF(A74<'PV Data'!$H$10,0,SUMIFS('PV Data'!D:D,'PV Data'!A:A,MONTH(Conversions!A74),'PV Data'!B:B,DAY(Conversions!A74),'PV Data'!C:C,HOUR(Conversions!A74))/1000)","v":0},null,1,4,0]
[{"$f":"A74+TIME(0,15,0)","v":"1900-01-01T18:15:00"},{"$f":"B74","v":0},null,1,4,1]
[{"$f":"A75+TIME(0,15,0)","v":"1900-01-01T18:30:00"},{"$f":"B74","v":0},null,1,4,2]
[{"$f":"A76+TIME(0,15,0)","v":"1900-01-01T18:45:00"},{"$f":"B74","v":0},null,1,4,3]
[{"$f":"DATE($C$21,$D$21,$E$21) + TIME($F$21,0,0)","v":"1900-01-01T19:00:00"},{"$f":"IF(A78<'PV Data'!$H$10,0,SUMIFS('PV Data'!D:D,'PV Data'!A:A,MONTH(Conversions!A78),'PV Data'!B:B,DAY(Conversions!A78),'PV Data'!C:C,HOUR(Conversions!A78))/1000)","v":0},null,1,4,4]
[{"$f":"A78+TIME(0,15,0)","v":"1900-01-01T19:15:00"},{"$f":"B78","v":0},null,1,4,5]
[{"$f":"A79+TIME(0,15,0)","v":"1900-01-01T19:30:00"},{"$f":"B78","v":0},null,1,4,6]
[{"$f":"A80+TIME(0,15,0)","v":"1900-01-01T19:45:00"},{"$f":"B78","v":0},null,1,4,7]
[{"$f":"DATE($C$22,$D$22,$E$22) + TIME($F$22,0,0)","v":"1900-01-01T20:00:00"},{"$f":"IF(A82<'PV Data'!$H$10,0,SUMIFS('PV Data'!D:D,'PV Data'!A:A,MONTH(Conversions!A82),'PV Data'!B:B,DAY(Conversions!A82),'PV Data'!C:C,HOUR(Conversions!A82))/1000)","v":0},null,1,4,8]
[{"$f":"A82+TIME(0,15,0)","v":"1900-01-01T20:15:00"},{"$f":"B82","v":0},null,1,4,9]
[{"$f":"A83+TIME(0,15,0)","v":"1900-01-01T20:30:00"},{"$f":"B82","v":0},null,1,4,10]
[{"$f":"A84+TIME(0,15,0)","v":"1900-01-01T20:45:00"},{"$f":"B82","v":0},null,1,4,11]
[{"$f":"DATE($C$23,$D$23,$E$23) + TIME($F$23,0,0)","v":"1900-01-01T21:00:00"},{"$f":"IF(A86<'PV Data'!$H$10,0,SUMIFS('PV Data'!D:D,'PV Data'!A:A,MONTH(Conversions!A86),'PV Data'!B:B,DAY(Conversions!A86),'PV Data'!C:C,HOUR(Conversions!A86))/1000)","v":0},null,1,4,12]
[{"$f":"A86+TIME(0,15,0)","v":"1900-01-01T21:15:00"},{"$f":"B86","v":0},null,1,4,13]
[{"$f":"A87+TIME(0,15,0)","v":"1900-01-01T21:30:00"},{"$f":"B86","v":0},null,1,4,14]
[{"$f":"A88+TIME(0,15,0)","v":"1900-01-01T21:45:00"},{"$f":"B86","v":0},null,1,4,15]
[{"$f":"DATE($C$24,$D$24,$E$24) + TIME($F$24,0,0)","v":"1900-01-01T22:00:00"},{"$f":"IF(A90<'PV Data'!$H$10,0,SUMIFS('PV Data'!D:D,'PV Data'!A:A,MONTH(Conversions!A90),'PV Data'!B:B,DAY(Conversions!A90),'PV Data'!C:C,HOUR(Conversions!A90))/1000)","v":0},null,1,4,16]
[{"$f":"A90+TIME(0,15,0)","v":"1900-01-01T22:15:00"},{"$f":"B90","v":0},null,1,4,17]
[{"$f":"A91+TIME(0,15,0)","v":"1900-01-01T22:30:00"},{"$f":"B90","v":0},null,1,4,18]
[{"$f":"A92+TIME(0,15,0)","v":"1900-01-01T22:45:00"},{"$f":"B90","v":0},null,1,4,19]
[{"$f":"DATE($C$25,$D$25,$E$25) + TIME($F$25,0,0)","v":"1900-01-01T23:00:00"},{"$f":"IF(A94<'PV Data'!$H$10,0,SUMIFS('PV Data'!D:D,'PV Data'!A:A,MONTH(Conversions!A94),'PV Data'!B:B,DAY(Conversions!A94),'PV Data'!C:C,HOUR(Conversions!A94))/1000)","v":0},null,1,4,20]
[{"$f":"A94+TIME(0,15,0)","v":"1900-01-01T23:15:00"},{"$f":"B94","v":0},null,1,4,21]
[{"$f":"A95+TIME(0,15,0)","v":"1900-01-01T23:30:00"},{"$f":"B94","v":0},null,1,4,22]
[{"$f":"A96+TIME(0,15,0)","v":"1900-01-01T23:45:00"},{"$f":"B94","v":0},null,1,4,23]
[{"$f":"DATE($C$26,$D$26,$E$26) + TIME($F$26,0,0)","v":"1900-01-02"},{"$f":"IF(A98<'PV Data'!$H$10,0,SUMIFS('PV Data'!D:D,'PV Data'!A:A,MONTH(Conversions!A98),'PV Data'!B:B,DAY(Conversions!A98),'PV Data'!C:C,HOUR(Conversions!A98))/1000)","v":0},null,1,5,0]
[{"$f":"A98+TIME(0,15,0)","v":"1900-01-02T00:15:00"},{"$f":"B98","v":0},null,1,5,1]
[{"$f":"A99+TIME(0,15,0)","v":"1900-01-02T00:30:00"},{"$f":"B98","v":0},null,1,5,2]
[{"$f":"A100+TIME(0,15,0)","v":"1900-01-02T00:45:00"},{"$f":"B98","v":0},null,1,5,3]
[{"$f":"DATE($C$27,$D$27,$E$27) + TIME($F$27,0,0)","v":"1900-01-02T01:00:00"},{"$f":"IF(A102<'PV Data'!$H$10,0,SUMIFS('PV Data'!D:D,'PV Data'!A:A,MONTH(Conversions!A102),'PV Data'!B:B,DAY(Conversions!A102),'PV Data'!C:C,HOUR(Conversions!A102))/1000)","v":0},null,1,5,4]
[{"$f":"A102+TIME(0,15,0)","v":"1900-01-02T01:15:00"},{"$f":"B102","v":0},null,1,5,5]
[{"$f":"A103+TIME(0,15,0)","v":"1900-01-02T01:30:00"},{"$f":"B102","v":0},null,1,5,6]
[{"$f":"A104+TIME(0,15,0)","v":"1900-01-02T01:45:00"},{"$f":"B102","v":0},null,1,5,7]
[{"$f":"DATE($C$28,$D$28,$E$28) + TIME($F$28,0,0)","v":"1900-01-02T02:00:00"},{"$f":"IF(A106<'PV Data'!$H$10,0,SUMIFS('PV Data'!D:D,'PV Data'!A:A,MONTH(Conversions!A106),'PV Data'!B:B,DAY(Conversions!A106),'PV Data'!C:C,HOUR(Conversions!A106))/1000)","v":0},null,1,5,8]
[{"$f":"A106+TIME(0,15,0)","v":"1900-01-02T02:15:00"},{"$f":"B106","v":0},null,1,5,9]
[{"$f":"A107+TIME(0,15,0)","v":"1900-01-02T02:30:00"},{"$f":"B106","v":0},null,1,5,10]
[{"$f":"A108+TIME(0,15,0)","v":"1900-01-02T02:45:00"},{"$f":"B106","v":0},null,1,5,11]
[{"$f":"DATE($C$29,$D$29,$E$29) + TIME($F$29,0,0)","v":"1900-01-02T03:00:00"},{"$f":"IF(A110<'PV Data'!$H$10,0,SUMIFS('PV Data'!D:D,'PV Data'!A:A,MONTH(Conversions!A110),'PV Data'!B:B,DAY(Conversions!A110),'PV Data'!C:C,HOUR(Conversions!A110))/1000)","v":0},null,1,5,12]
[{"$f":"A110+TIME(0,15,0)","v":"1900-01-02T03:15:00"},{"$f":"B110","v":0},null,1,5,13]
[{"$f":"A111+TIME(0,15,0)","v":"1900-01-02T03:30:00"},{"$f":"B110","v":0},null,1,5,14]
[{"$f":"A112+TIME(0,15,0)","v":"1900-01-02T03:45:00"},{"$f":"B110","v":0},null,1,5,15]
[{"$f":"DATE($C$30,$D$30,$E$30) + TIME($F$30,0,0)","v":"1900-01-02T04:00:00"},{"$f":"IF(A114<'PV Data'!$H$10,0,SUMIFS('PV Data'!D:D,'PV Data'!A:A,MONTH(Conversions!A114),'PV Data'!B:B,DAY(Conversions!A114),'PV Data'!C:C,HOUR(Conversions!A114))/1000)","v":0},null,1,5,16]
[{"$f":"A114+TIME(0,15,0)","v":"1900-01-02T04:15:00"},{"$f":"B114","v":0},null,1,5,17]
[{"$f":"A115+TIME(0,15,0)","v":"1900-01-02T04:30:00"},{"$f":"B114","v":0},null,1,5,18]
[{"$f":"A116+TIME(0,15,0)","v":"1900-01-02T04:45:00"},{"$f":"B114","v":0},null,1,5,19]
[{"$f":"DATE($C$31,$D$31,$E$31) + TIME($F$31,0,0)","v":"1900-01-02T05:00:00"},{"$f":"IF(A118<'PV Data'!$H$10,0,SUMIFS('PV Data'!D:D,'PV Data'!A:A,MONTH(Conversions!A118),'PV Data'!B:B,DAY(Conversions!A118),'PV Data'!C:C,HOUR(Conversions!A118))/1000)","v":0},null,1,5,20]
[{"$f":"A118+TIME(0,15,0)","v":"1900-01-02T05:15:00"},{"$f":"B118","v":0},null,1,5,21]
[{"$f":"A119+TIME(0,15,0)","v":"1900-01-02T05:30:00"},{"$f":"B118","v":0},null,1,5,22]
[{"$f":"A120+TIME(0,15,0)","v":"1900-01-02T05:45:00"},{"$f":"B118","v":0},null,1,5,23]
[{"$f":"DATE($C$32,$D$32,$E$32) + TIME($F$32,0,0)","v":"1900-01-02T06:00:00"},{"$f":"IF(A122<'PV Data'!$H$10,0,SUMIFS('PV Data'!D:D,'PV Data'!A:A,MONTH(Conversions!A122),'PV Data'!B:B,DAY(Conversions!A122),'PV Data'!C:C,HOUR(Conversions!A122))/1000)","v":0},null,1,6,0]
[{"$f":"A122+TIME(0,15,0)","v":"1900-01-02T06:15:00"},{"$f":"B122","v":0},null,1,6,1]
[{"$f":"A123+TIME(0,15,0)","v":"1900-01-02T06:30:00"},{"$f":"B122","v":0},null,1,6,2]
[{"$f":"A124+TIME(0,15,0)","v":"1900-01-02T06:45:00"},{"$f":"B122","v":0},null,1,6,3]
[{"$f":"DATE($C$33,$D$33,$E$33) + TIME($F$33,0,0)","v":"1900-01-02T07:00:00"},{"$f":"IF(A126<'PV Data'!$H$10,0,SUMIFS('PV Data'!D:D,'PV Data'!A:A,MONTH(Conversions!A126),'PV Data'!B:B,DAY(Conversions!A126),'PV Data'!C:C,HOUR(Conversions!A126))/1000)","v":0},null,1,6,4]
[{"$f":"A126+TIME(0,15,0)","v":"1900-01-02T07:15:00"},{"$f":"B126","v":0},null,1,6,5]
[{"$f":"A127+TIME(0,15,0)","v":"1900-01-02T07:30:00"},{"$f":"B126","v":0},null,1,6,6]
[{"$f":"A128+TIME(0,15,0)","v":"1900-01-02T07:45:00"},{"$f":"B126","v":0},null,1,6,7]
[{"$f":"DATE($C$34,$D$34,$E$34) + TIME($F$34,0,0)","v":"1900-01-02T08:00:00"},{"$f":"IF(A130<'PV Data'!$H$10,0,SUMIFS('PV Data'!D:D,'PV Data'!A:A,MONTH(Conversions!A130),'PV Data'!B:B,DAY(Conversions!A130),'PV Data'!C:C,HOUR(Conversions!A130))/1000)","v":0},null,1,6,8]
[{"$f":"A130+TIME(0,15,0)","v":"1900-01-02T08:15:00"},{"$f":"B130","v":0},null,1,6,9]
[{"$f":"A131+TIME(0,15,0)","v":"1900-01-02T08:30:00"},{"$f":"B130","v":0},null,1,6,10]
[{"$f":"A132+TIME(0,15,0)","v":"1900-01-02T08:45:00"},{"$f":"B130","v":0},null,1,6,11]
[{"$f":"DATE($C$35,$D$35,$E$35) + TIME($F$35,0,0)","v":"1900-01-02T09:00:00"},{"$f":"IF(A134<'PV Data'!$H$10,0,SUMIFS('PV Data'!D:D,'PV Data'!A:A,MONTH(Conversions!A134),'PV Data'!B:B,DAY(Conversions!A134),'PV Data'!C:C,HOUR(Conversions!A134))/1000)","v":0},null,1,6,12]
[{"$f":"A134+TIME(0,15,0)","v":"1900-01-02T09:15:00"},{"$f":"B134","v":0},null,1,6,13]
[{"$f":"A135+TIME(0,15,0)","v":"1900-01-02T09:30:00"},{"$f":"B134","v":0},null,1,6,14]
[{"$f":"A136+TIME(0,15,0)","v":"1900-01-02T09:45:00"},{"$f":"B134","v":0},null,1,6,15]
[{"$f":"DATE($C$36,$D$36,$E$36) + TIME($F$36,0,0)","v":"1900-01-02T10:00:00"},{"$f":"IF(A138<'PV Data'!$H$10,0,SUMIFS('PV Data'!D:D,'PV Data'!A:A,MONTH(Conversions!A138),'PV Data'!B:B,DAY(Conversions!A138),'PV Data'!C:C,HOUR(Conversions!A138))/1000)","v":0},null,1,6,16]
[{"$f":"A138+TIME(0,15,0)","v":"1900-01-02T10:15:00"},{"$f":"B138","v":0},null,1,6,17]
[{"$f":"A139+TIME(0,15,0)","v":"1900-01-02T10:30:00"},{"$f":"B138","v":0},null,1,6,18]
[{"$f":"A140+TIME(0,15,0)","v":"1900-01-02T10:45:00"},{"$f":"B138","v":0},null,1,6,19]
[{"$f":"DATE($C$37,$D$37,$E$37) + TIME($F$37,0,0)","v":"1900-01-02T11:00:00"},{"$f":"IF(A142<'PV Data'!$H$10,0,SUMIFS('PV Data'!D:D,'PV Data'!A:A,MONTH(Conversions!A142),'PV Data'!B:B,DAY(Conversions!A142),'PV Data'!C:C,HOUR(Conversions!A142))/1000)","v":0},null,1,6,20]
[{"$f":"A142+TIME(0,15,0)","v":"1900-01-02T11:15:00"},{"$f":"B142","v":0},null,1,6,21]
[{"$f":"A143+TIME(0,15,0)","v":"1900-01-02T11:30:00"},{"$f":"B142","v":0},null,1,6,22]
[{"$f":"A144+TIME(0,15,0)","v":"1900-01-02T11:45:00"},{"$f":"B142","v":0},null,1,6,23]
[{"$f":"DATE($C$38,$D$38,$E$38) + TIME($F$38,0,0)","v":"1900-01-02T12:00:00"},{"$f":"IF(A146<'PV Data'!$H$10,0,SUMIFS('PV Data'!D:D,'PV Data'!A:A,MONTH(Conversions!A146),'PV Data'!B:B,DAY(Conversions!A146),'PV Data'!C:C,HOUR(Conversions!A146))/1000)","v":0},null,1,7,0]
[{"$f":"A146+TIME(0,15,0)","v":"1900-01-02T12:15:00"},{"$f":"B146","v":0},null,1,7,1]
[{"$f":"A147+TIME(0,15,0)","v":"1900-01-02T12:30:00"},{"$f":"B146","v":0},null,1,7,2]
[{"$f":"A148+TIME(0,15,0)","v":"1900-01-02T12:45:00"},{"$f":"B146","v":0},null,1,7,3]
[{"$f":"DATE($C$39,$D$39,$E$39) + TIME($F$39,0,0)","v":"1900-01-02T13:00:00"},{"$f":"IF(A150<'PV Data'!$H$10,0,SUMIFS('PV Data'!D:D,'PV Data'!A:A,MONTH(Conversions!A150),'PV Data'!B:B,DAY(Conversions!A150),'PV Data'!C:C,HOUR(Conversions!A150))/1000)","v":0},null,1,7,4]
[{"$f":"A150+TIME(0,15,0)","v":"1900-01-02T13:15:00"},{"$f":"B150","v":0},null,1,7,5]
[{"$f":"A151+TIME(0,15,0)","v":"1900-01-02T13:30:00"},{"$f":"B150","v":0},null,1,7,6]
[{"$f":"A152+TIME(0,15,0)","v":"1900-01-02T13:45:00"},{"$f":"B150","v":0},null,1,7,7]
[{"$f":"DATE($C$40,$D$40,$E$40) + TIME($F$40,0,0)","v":"1900-01-02T14:00:00"},{"$f":"IF(A154<'PV Data'!$H$10,0,SUMIFS('PV Data'!D:D,'PV Data'!A:A,MONTH(Conversions!A154),'PV Data'!B:B,DAY(Conversions!A154),'PV Data'!C:C,HOUR(Conversions!A154))/1000)","v":0},null,1,7,8]
[{"$f":"A154+TIME(0,15,0)","v":"1900-01-02T14:15:00"},{"$f":"B154","v":0},null,1,7,9]
[{"$f":"A155+TIME(0,15,0)","v":"1900-01-02T14:30:00"},{"$f":"B154","v":0},null,1,7,10]
[{"$f":"A156+TIME(0,15,0)","v":"1900-01-02T14:45:00"},{"$f":"B154","v":0},null,1,7,11]
[{"$f":"DATE($C$41,$D$41,$E$41) + TIME($F$41,0,0)","v":"1900-01-02T15:00:00"},{"$f":"IF(A158<'PV Data'!$H$10,0,SUMIFS('PV Data'!D:D,'PV Data'!A:A,MONTH(Conversions!A158),'PV Data'!B:B,DAY(Conversions!A158),'PV Data'!C:C,HOUR(Conversions!A158))/1000)","v":0},null,1,7,12]
[{"$f":"A158+TIME(0,15,0)","v":"1900-01-02T15:15:00"},{"$f":"B158","v":0},null,1,7,13]
[{"$f":"A159+TIME(0,15,0)","v":"1900-01-02T15:30:00"},{"$f":"B158","v":0},null,1,7,14]
[{"$f":"A160+TIME(0,15,0)","v":"1900-01-02T15:45:00"},{"$f":"B158","v":0},null,1,7,15]
[{"$f":"DATE($C$42,$D$42,$E$42) + TIME($F$42,0,0)","v":"1900-01-02T16:00:00"},{"$f":"IF(A162<'PV Data'!$H$10,0,SUMIFS('PV Data'!D:D,'PV Data'!A:A,MONTH(Conversions!A162),'PV Data'!B:B,DAY(Conversions!A162),'PV Data'!C:C,HOUR(Conversions!A162))/1000)","v":0},null,1,7,16]
[{"$f":"A162+TIME(0,15,0)","v":"1900-01-02T16:15:00"},{"$f":"B162","v":0},null,1,7,17]
[{"$f":"A163+TIME(0,15,0)","v":"1900-01-02T16:30:00"},{"$f":"B162","v":0},null,1,7,18]
[{"$f":"A164+TIME(0,15,0)","v":"1900-01-02T16:45:00"},{"$f":"B162","v":0},null,1,7,19]
[{"$f":"DATE($C$43,$D$43,$E$43) + TIME($F$43,0,0)","v":"1900-01-02T17:00:00"},{"$f":"IF(A166<'PV Data'!$H$10,0,SUMIFS('PV Data'!D:D,'PV Data'!A:A,MONTH(Conversions!A166),'PV Data'!B:B,DAY(Conversions!A166),'PV Data'!C:C,HOUR(Conversions!A166))/1000)","v":0},null,1,7,20]
[{"$f":"A166+TIME(0,15,0)","v":"1900-01-02T17:15:00"},{"$f":"B166","v":0},null,1,7,21]
[{"$f":"A167+TIME(0,15,0)","v":"1900-01-02T17:30:00"},{"$f":"B166","v":0},null,1,7,22]
[{"$f":"A168+TIME(0,15,0)","v":"1900-01-02T17:45:00"},{"$f":"B166","v":0},null,1,7,23]
[{"$f":"DATE($C$44,$D$44,$E$44) + TIME($F$44,0,0)","v":"1900-01-02T18:00:00"},{"$f":"IF(A170<'PV Data'!$H$10,0,SUMIFS('PV Data'!D:D,'PV Data'!A:A,MONTH(Conversions!A170),'PV Data'!B:B,DAY(Conversions!A170),'PV Data'!C:C,HOUR(Conversions!A170))/1000)","v":0},null,1,8,0]
[{"$f":"A170+TIME(0,15,0)","v":"1900-01-02T18:15:00"},{"$f":"B170","v":0},null,1,8,1]
[{"$f":"A171+TIME(0,15,0)","v":"1900-01-02T18:30:00"},{"$f":"B170","v":0},null,1,8,2]
[{"$f":"A172+TIME(0,15,0)","v":"1900-01-02T18:45:00"},{"$f":"B170","v":0},null,1,8,3]
[{"$f":"DATE($C$45,$D$45,$E$45) + TIME($F$45,0,0)","v":"1900-01-02T19:00:00"},{"$f":"IF(A174<'PV Data'!$H$10,0,SUMIFS('PV Data'!D:D,'PV Data'!A:A,MONTH(Conversions!A174),'PV Data'!B:B,DAY(Conversions!A174),'PV Data'!C:C,HOUR(Conversions!A174))/1000)","v":0},null,1,8,4]
[{"$f":"A174+TIME(0,15,0)","v":"1900-01-02T19:15:00"},{"$f":"B174","v":0},null,1,8,5]
[{"$f":"A175+TIME(0,15,0)","v":"1900-01-02T19:30:00"},{"$f":"B174","v":0},null,1,8,6]
[{"$f":"A176+TIME(0,15,0)","v":"1900-01-02T19:45:00"},{"$f":"B174","v":0},null,1,8,7]
[{"$f":"DATE($C$46,$D$46,$E$46) + TIME($F$46,0,0)","v":"1900-01-02T20:00:00"},{"$f":"IF(A178<'PV Data'!$H$10,0,SUMIFS('PV Data'!D:D,'PV Data'!A:A,MONTH(Conversions!A178),'PV Data'!B:B,DAY(Conversions!A178),'PV Data'!C:C,HOUR(Conversions!A178))/1000)","v":0},null,1,8,8]
[{"$f":"A178+TIME(0,15,0)","v":"1900-01-02T20:15:00"},{"$f":"B178","v":0},null,1,8,9]
[{"$f":"A179+TIME(0,15,0)","v":"1900-01-02T20:30:00"},{"$f":"B178","v":0},null,1,8,10]
[{"$f":"A180+TIME(0,15,0)","v":"1900-01-02T20:45:00"},{"$f":"B178","v":0},null,1,8,11]
[{"$f":"DATE($C$47,$D$47,$E$47) + TIME($F$47,0,0)","v":"1900-01-02T21:00:00"},{"$f":"IF(A182<'PV Data'!$H$10,0,SUMIFS('PV Data'!D:D,'PV Data'!A:A,MONTH(Conversions!A182),'PV Data'!B:B,DAY(Conversions!A182),'PV Data'!C:C,HOUR(Conversions!A182))/1000)","v":0},null,1,8,12]
[{"$f":"A182+TIME(0,15,0)","v":"1900-01-02T21:15:00"},{"$f":"B182","v":0},null,1,8,13]
[{"$f":"A183+TIME(0,15,0)","v":"1900-01-02T21:30:00"},{"$f":"B182","v":0},null,1,8,14]
[{"$f":"A184+TIME(0,15,0)","v":"1900-01-02T21:45:00"},{"$f":"B182","v":0},null,1,8,15]
[{"$f":"DATE($C$48,$D$48,$E$48) + TIME($F$48,0,0)","v":"1900-01-02T22:00:00"},{"$f":"IF(A186<'PV Data'!$H$10,0,SUMIFS('PV Data'!D:D,'PV Data'!A:A,MONTH(Conversions!A186),'PV Data'!B:B,DAY(Conversions!A186),'PV Data'!C:C,HOUR(Conversions!A186))/1000)","v":0},null,1,8,16]
[{"$f":"A186+TIME(0,15,0)","v":"1900-01-02T22:15:00"},{"$f":"B186","v":0},null,1,8,17]
[{"$f":"A187+TIME(0,15,0)","v":"1900-01-02T22:30:00"},{"$f":"B186","v":0},null,1,8,18]
[{"$f":"A188+TIME(0,15,0)","v":"1900-01-02T22:45:00"},{"$f":"B186","v":0},null,1,8,19]
[{"$f":"DATE($C$49,$D$49,$E$49) + TIME($F$49,0,0)","v":"1900-01-02T23:00:00"},{"$f":"IF(A190<'PV Data'!$H$10,0,SUMIFS('PV Data'!D:D,'PV Data'!A:A,MONTH(Conversions!A190),'PV Data'!B:B,DAY(Conversions!A190),'PV Data'!C:C,HOUR(Conversions!A190))/1000)","v":0},null,1,8,20]
[{"$f":"A190+TIME(0,15,0)","v":"1900-01-02T23:15:00"},{"$f":"B190","v":0},null,1,8,21]
[{"$f":"A191+TIME(0,15,0)","v":"1900-01-02T23:30:00"},{"$f":"B190","v":0},null,1,8,22]
[{"$f":"A192+TIME(0,15,0)","v":"1900-01-02T23:45:00"},{"$f":"B190","v":0},null,1,8,23]
[{"$f":"DATE($C$50,$D$50,$E$50) + TIME($F$50,0,0)","v":"1900-01-03"},{"$f":"IF(A194<'PV Data'!$H$10,0,SUMIFS('PV Data'!D:D,'PV Data'!A:A,MONTH(Conversions!A194),'PV Data'!B:B,DAY(Conversions!A194),'PV Data'!C:C,HOUR(Conversions!A194))/1000)","v":0},null,1,9,0]
[{"$f":"A194+TIME(0,15,0)","v":"1900-01-03T00:15:00"},{"$f":"B194","v":0},null,1,9,1]
[{"$f":"A195+TIME(0,15,0)","v":"1900-01-03T00:30:00"},{"$f":"B194","v":0},null,1,9,2]
[{"$f":"A196+TIME(0,15,0)","v":"1900-01-03T00:45:00"},{"$f":"B194","v":0},null,1,9,3]
[{"$f":"DATE($C$51,$D$51,$E$51) + TIME($F$51,0,0)","v":"1900-01-03T01:00:00"},{"$f":"IF(A198<'PV Data'!$H$10,0,SUMIFS('PV Data'!D:D,'PV Data'!A:A,MONTH(Conversions!A198),'PV Data'!B:B,DAY(Conversions!A198),'PV Data'!C:C,HOUR(Conversions!A198))/1000)","v":0},null,1,9,4]
[{"$f":"A198+TIME(0,15,0)","v":"1900-01-03T01:15:00"},{"$f":"B198","v":0},null,1,9,5]
[{"$f":"A199+TIME(0,15,0)","v":"1900-01-03T01:30:00"},{"$f":"B198","v":0},null,1,9,6]
[{"$f":"A200+TIME(0,15,0)","v":"1900-01-03T01:45:00"},{"$f":"B198","v":0},null,1,9,7]
[{"$f":"DATE($C$52,$D$52,$E$52) + TIME($F$52,0,0)","v":"1900-01-03T02:00:00"},{"$f":"IF(A202<'PV Data'!$H$10,0,SUMIFS('PV Data'!D:D,'PV Data'!A:A,MONTH(Conversions!A202),'PV Data'!B:B,DAY(Conversions!A202),'PV Data'!C:C,HOUR(Conversions!A202))/1000)","v":0},null,1,9,8]
[{"$f":"A202+TIME(0,15,0)","v":"1900-01-03T02:15:00"},{"$f":"B202","v":0},null,1,9,9]
[{"$f":"A203+TIME(0,15,0)","v":"1900-01-03T02:30:00"},{"$f":"B202","v":0},null,1,9,10]
[{"$f":"A204+TIME(0,15,0)","v":"1900-01-03T02:45:00"},{"$f":"B202","v":0},null,1,9,11]
[{"$f":"DATE($C$53,$D$53,$E$53) + TIME($F$53,0,0)","v":"1900-01-03T03:00:00"},{"$f":"IF(A206<'PV Data'!$H$10,0,SUMIFS('PV Data'!D:D,'PV Data'!A:A,MONTH(Conversions!A206),'PV Data'!B:B,DAY(Conversions!A206),'PV Data'!C:C,HOUR(Conversions!A206))/1000)","v":0},null,1,9,12]
[{"$f":"A206+TIME(0,15,0)","v":"1900-01-03T03:15:00"},{"$f":"B206","v":0},null,1,9,13]
[{"$f":"A207+TIME(0,15,0)","v":"1900-01-03T03:30:00"},{"$f":"B206","v":0},null,1,9,14]
[{"$f":"A208+TIME(0,15,0)","v":"1900-01-03T03:45:00"},{"$f":"B206","v":0},null,1,9,15]
[{"$f":"DATE($C$54,$D$54,$E$54) + TIME($F$54,0,0)","v":"1900-01-03T04:00:00"},{"$f":"IF(A210<'PV Data'!$H$10,0,SUMIFS('PV Data'!D:D,'PV Data'!A:A,MONTH(Conversions!A210),'PV Data'!B:B,DAY(Conversions!A210),'PV Data'!C:C,HOUR(Conversions!A210))/1000)","v":0},null,1,9,16]
[{"$f":"A210+TIME(0,15,0)","v":"1900-01-03T04:15:00"},{"$f":"B210","v":0},null,1,9,17]
[{"$f":"A211+TIME(0,15,0)","v":"1900-01-03T04:30:00"},{"$f":"B210","v":0},null,1,9,18]
[{"$f":"A212+TIME(0,15,0)","v":"1900-01-03T04:45:00"},{"$f":"B210","v":0},null,1,9,19]
[{"$f":"DATE($C$55,$D$55,$E$55) + TIME($F$55,0,0)","v":"1900-01-03T05:00:00"},{"$f":"IF(A214<'PV Data'!$H$10,0,SUMIFS('PV Data'!D:D,'PV Data'!A:A,MONTH(Conversions!A214),'PV Data'!B:B,DAY(Conversions!A214),'PV Data'!C:C,HOUR(Conversions!A214))/1000)","v":0},null,1,9,20]
[{"$f":"A214+TIME(0,15,0)","v":"1900-01-03T05:15:00"},{"$f":"B214","v":0},null,1,9,21]
[{"$f":"A215+TIME(0,15,0)","v":"1900-01-03T05:30:00"},{"$f":"B214","v":0},null,1,9,22]
[{"$f":"A216+TIME(0,15,0)","v":"1900-01-03T05:45:00"},{"$f":"B214","v":0},null,1,9,23]
[{"$f":"DATE($C$56,$D$56,$E$56) + TIME($F$56,0,0)","v":"1900-01-03T06:00:00"},{"$f":"IF(A218<'PV Data'!$H$10,0,SUMIFS('PV Data'!D:D,'PV Data'!A:A,MONTH(Conversions!A218),'PV Data'!B:B,DAY(Conversions!A218),'PV Data'!C:C,HOUR(Conversions!A218))/1000)","v":0},null,1,10,0]
[{"$f":"A218+TIME(0,15,0)","v":"1900-01-03T06:15:00"},{"$f":"B218","v":0},null,1,10,1]
[{"$f":"A219+TIME(0,15,0)","v":"1900-01-03T06:30:00"},{"$f":"B218","v":0},null,1,10,2]
[{"$f":"A220+TIME(0,15,0)","v":"1900-01-03T06:45:00"},{"$f":"B218","v":0},null,1,10,3]
[{"$f":"DATE($C$57,$D$57,$E$57) + TIME($F$57,0,0)","v":"1900-01-03T07:00:00"},{"$f":"IF(A222<'PV Data'!$H$10,0,SUMIFS('PV Data'!D:D,'PV Data'!A:A,MONTH(Conversions!A222),'PV Data'!B:B,DAY(Conversions!A222),'PV Data'!C:C,HOUR(Conversions!A222))/1000)","v":0},null,1,10,4]
[{"$f":"A222+TIME(0,15,0)","v":"1900-01-03T07:15:00"},{"$f":"B222","v":0},null,1,10,5]
[{"$f":"A223+TIME(0,15,0)","v":"1900-01-03T07:30:00"},{"$f":"B222","v":0},null,1,10,6]
[{"$f":"A224+TIME(0,15,0)","v":"1900-01-03T07:45:00"},{"$f":"B222","v":0},null,1,10,7]
[{"$f":"DATE($C$58,$D$58,$E$58) + TIME($F$58,0,0)","v":"1900-01-03T08:00:00"},{"$f":"IF(A226<'PV Data'!$H$10,0,SUMIFS('PV Data'!D:D,'PV Data'!A:A,MONTH(Conversions!A226),'PV Data'!B:B,DAY(Conversions!A226),'PV Data'!C:C,HOUR(Conversions!A226))/1000)","v":0},null,1,10,8]
[{"$f":"A226+TIME(0,15,0)","v":"1900-01-03T08:15:00"},{"$f":"B226","v":0},null,1,10,9]
[{"$f":"A227+TIME(0,15,0)","v":"1900-01-03T08:30:00"},{"$f":"B226","v":0},null,1,10,10]
[{"$f":"A228+TIME(0,15,0)","v":"1900-01-03T08:45:00"},{"$f":"B226","v":0},null,1,10,11]
[{"$f":"DATE($C$59,$D$59,$E$59) + TIME($F$59,0,0)","v":"1900-01-03T09:00:00"},{"$f":"IF(A230<'PV Data'!$H$10,0,SUMIFS('PV Data'!D:D,'PV Data'!A:A,MONTH(Conversions!A230),'PV Data'!B:B,DAY(Conversions!A230),'PV Data'!C:C,HOUR(Conversions!A230))/1000)","v":0},null,1,10,12]
[{"$f":"A230+TIME(0,15,0)","v":"1900-01-03T09:15:00"},{"$f":"B230","v":0},null,1,10,13]
[{"$f":"A231+TIME(0,15,0)","v":"1900-01-03T09:30:00"},{"$f":"B230","v":0},null,1,10,14]
[{"$f":"A232+TIME(0,15,0)","v":"1900-01-03T09:45:00"},{"$f":"B230","v":0},null,1,10,15]
[{"$f":"DATE($C$60,$D$60,$E$60) + TIME($F$60,0,0)","v":"1900-01-03T10:00:00"},{"$f":"IF(A234<'PV Data'!$H$10,0,SUMIFS('PV Data'!D:D,'PV Data'!A:A,MONTH(Conversions!A234),'PV Data'!B:B,DAY(Conversions!A234),'PV Data'!C:C,HOUR(Conversions!A234))/1000)","v":0},null,1,10,16]
[{"$f":"A234+TIME(0,15,0)","v":"1900-01-03T10:15:00"},{"$f":"B234","v":0},null,1,10,17]
[{"$f":"A235+TIME(0,15,0)","v":"1900-01-03T10:30:00"},{"$f":"B234","v":0},null,1,10,18]
[{"$f":"A236+TIME(0,15,0)","v":"1900-01-03T10:45:00"},{"$f":"B234","v":0},null,1,10,19]
[{"$f":"DATE($C$61,$D$61,$E$61) + TIME($F$61,0,0)","v":"1900-01-03T11:00:00"},{"$f":"IF(A238<'PV Data'!$H$10,0,SUMIFS('PV Data'!D:D,'PV Data'!A:A,MONTH(Conversions!A238),'PV Data'!B:B,DAY(Conversions!A238),'PV Data'!C:C,HOUR(Conversions!A238))/1000)","v":0},null,1,10,20]
[{"$f":"A238+TIME(0,15,0)","v":"1900-01-03T11:15:00"},{"$f":"B238","v":0},null,1,10,21]
[{"$f":"A239+TIME(0,15,0)","v":"1900-01-03T11:30:00"},{"$f":"B238","v":0},null,1,10,22]
[{"$f":"A240+TIME(0,15,0)","v":"1900-01-03T11:45:00"},{"$f":"B238","v":0},null,1,10,23]
[{"$f":"DATE($C$62,$D$62,$E$62) + TIME($F$62,0,0)","v":"1900-01-03T12:00:00"},{"$f":"IF(A242<'PV Data'!$H$10,0,SUMIFS('PV Data'!D:D,'PV Data'!A:A,MONTH(Conversions!A242),'PV Data'!B:B,DAY(Conversions!A242),'PV Data'!C:C,HOUR(Conversions!A242))/1000)","v":0},null,1,11,0]
[{"$f":"A242+TIME(0,15,0)","v":"1900-01-03T12:15:00"},{"$f":"B242","v":0},null,1,11,1]
[{"$f":"A243+TIME(0,15,0)","v":"1900-01-03T12:30:00"},{"$f":"B242","v":0},null,1,11,2]
[{"$f":"A244+TIME(0,15,0)","v":"1900-01-03T12:45:00"},{"$f":"B242","v":0},null,1,11,3]
[{"$f":"DATE($C$63,$D$63,$E$63) + TIME($F$63,0,0)","v":"1900-01-03T13:00:00"},{"$f":"IF(A246<'PV Data'!$H$10,0,SUMIFS('PV Data'!D:D,'PV Data'!A:A,MONTH(Conversions!A246),'PV Data'!B:B,DAY(Conversions!A246),'PV Data'!C:C,HOUR(Conversions!A246))/1000)","v":0},null,1,11,4]
[{"$f":"A246+TIME(0,15,0)","v":"1900-01-03T13:15:00"},{"$f":"B246","v":0},null,1,11,5]
[{"$f":"A247+TIME(0,15,0)","v":"1900-01-03T13:30:00"},{"$f":"B246","v":0},null,1,11,6]
[{"$f":"A248+TIME(0,15,0)","v":"1900-01-03T13:45:00"},{"$f":"B246","v":0},null,1,11,7]
[{"$f":"DATE($C$64,$D$64,$E$64) + TIME($F$64,0,0)","v":"1900-01-03T14:00:00"},{"$f":"IF(A250<'PV Data'!$H$10,0,SUMIFS('PV Data'!D:D,'PV Data'!A:A,MONTH(Conversions!A250),'PV Data'!B:B,DAY(Conversions!A250),'PV Data'!C:C,HOUR(Conversions!A250))/1000)","v":0},null,1,11,8]
[{"$f":"A250+TIME(0,15,0)","v":"1900-01-03T14:15:00"},{"$f":"B250","v":0},null,1,11,9]
[{"$f":"A251+TIME(0,15,0)","v":"1900-01-03T14:30:00"},{"$f":"B250","v":0},null,1,11,10]
[{"$f":"A252+TIME(0,15,0)","v":"1900-01-03T14:45:00"},{"$f":"B250","v":0},null,1,11,11]
[{"$f":"DATE($C$65,$D$65,$E$65) + TIME($F$65,0,0)","v":"1900-01-03T15:00:00"},{"$f":"IF(A254<'PV Data'!$H$10,0,SUMIFS('PV Data'!D:D,'PV Data'!A:A,MONTH(Conversions!A254),'PV Data'!B:B,DAY(Conversions!A254),'PV Data'!C:C,HOUR(Conversions!A254))/1000)","v":0},null,1,11,12]
[{"$f":"A254+TIME(0,15,0)","v":"1900-01-03T15:15:00"},{"$f":"B254","v":0},null,1,11,13]
[{"$f":"A255+TIME(0,15,0)","v":"1900-01-03T15:30:00"},{"$f":"B254","v":0},null,1,11,14]
[{"$f":"A256+TIME(0,15,0)","v":"1900-01-03T15:45:00"},{"$f":"B254","v":0},null,1,11,15]
[{"$f":"DATE($C$66,$D$66,$E$66) + TIME($F$66,0,0)","v":"1900-01-03T16:00:00"},{"$f":"IF(A258<'PV Data'!$H$10,0,SUMIFS('PV Data'!D:D,'PV Data'!A:A,MONTH(Conversions!A258),'PV Data'!B:B,DAY(Conversions!A258),'PV Data'!C:C,HOUR(Conversions!A258))/1000)","v":0},null,1,11,16]
[{"$f":"A258+TIME(0,15,0)","v":"1900-01-03T16:15:00"},{"$f":"B258","v":0},null,1,11,17]
[{"$f":"A259+TIME(0,15,0)","v":"1900-01-03T16:30:00"},{"$f":"B258","v":0},null,1,11,18]
[{"$f":"A260+TIME(0,15,0)","v":"1900-01-03T16:45:00"},{"$f":"B258","v":0},null,1,11,19]
[{"$f":"DATE($C$67,$D$67,$E$67) + TIME($F$67,0,0)","v":"1900-01-03T17:00:00"},{"$f":"IF(A262<'PV Data'!$H$10,0,SUMIFS('PV Data'!D:D,'PV Data'!A:A,MONTH(Conversions!A262),'PV Data'!B:B,DAY(Conversions!A262),'PV Data'!C:C,HOUR(Conversions!A262))/1000)","v":0},null,1,11,20]
[{"$f":"A262+TIME(0,15,0)","v":"1900-01-03T17:15:00"},{"$f":"B262","v":0},null,1,11,21]
[{"$f":"A263+TIME(0,15,0)","v":"1900-01-03T17:30:00"},{"$f":"B262","v":0},null,1,11,22]
[{"$f":"A264+TIME(0,15,0)","v":"1900-01-03T17:45:00"},{"$f":"B262","v":0},null,1,11,23]
[{"$f":"DATE($C$68,$D$68,$E$68) + TIME($F$68,0,0)","v":"1900-01-03T18:00:00"},{"$f":"IF(A266<'PV Data'!$H$10,0,SUMIFS('PV Data'!D:D,'PV Data'!A:A,MONTH(Conversions!A266),'PV Data'!B:B,DAY(Conversions!A266),'PV Data'!C:C,HOUR(Conversions!A266))/1000)","v":0},null,1,12,0]
[{"$f":"A266+TIME(0,15,0)","v":"1900-01-03T18:15:00"},{"$f":"B266","v":0},null,1,12,1]
[{"$f":"A267+TIME(0,15,0)","v":"1900-01-03T18:30:00"},{"$f":"B266","v":0},null,1,12,2]
[{"$f":"A268+TIME(0,15,0)","v":"1900-01-03T18:45:00"},{"$f":"B266","v":0},null,1,12,3]
[{"$f":"DATE($C$69,$D$69,$E$69) + TIME($F$69,0,0)","v":"1900-01-03T19:00:00"},{"$f":"IF(A270<'PV Data'!$H$10,0,SUMIFS('PV Data'!D:D,'PV Data'!A:A,MONTH(Conversions!A270),'PV Data'!B:B,DAY(Conversions!A270),'PV Data'!C:C,HOUR(Conversions!A270))/1000)","v":0},null,1,12,4]
[{"$f":"A270+TIME(0,15,0)","v":"1900-01-03T19:15:00"},{"$f":"B270","v":0},null,1,12,5]
[{"$f":"A271+TIME(0,15,0)","v":"1900-01-03T19:30:00"},{"$f":"B270","v":0},null,1,12,6]
[{"$f":"A272+TIME(0,15,0)","v":"1900-01-03T19:45:00"},{"$f":"B270","v":0},null,1,12,7]
[{"$f":"DATE($C$70,$D$70,$E$70) + TIME($F$70,0,0)","v":"1900-01-03T20:00:00"},{"$f":"IF(A274<'PV Data'!$H$10,0,SUMIFS('PV Data'!D:D,'PV Data'!A:A,MONTH(Conversions!A274),'PV Data'!B:B,DAY(Conversions!A274),'PV Data'!C:C,HOUR(Conversions!A274))/1000)","v":0},null,1,12,8]
[{"$f":"A274+TIME(0,15,0)","v":"1900-01-03T20:15:00"},{"$f":"B274","v":0},null,1,12,9]
[{"$f":"A275+TIME(0,15,0)","v":"1900-01-03T20:30:00"},{"$f":"B274","v":0},null,1,12,10]
[{"$f":"A276+TIME(0,15,0)","v":"1900-01-03T20:45:00"},{"$f":"B274","v":0},null,1,12,11]
[{"$f":"DATE($C$71,$D$71,$E$71) + TIME($F$71,0,0)","v":"1900-01-03T21:00:00"},{"$f":"IF(A278<'PV Data'!$H$10,0,SUMIFS('PV Data'!D:D,'PV Data'!A:A,MONTH(Conversions!A278),'PV Data'!B:B,DAY(Conversions!A278),'PV Data'!C:C,HOUR(Conversions!A278))/1000)","v":0},null,1,12,12]
[{"$f":"A278+TIME(0,15,0)","v":"1900-01-03T21:15:00"},{"$f":"B278","v":0},null,1,12,13]
[{"$f":"A279+TIME(0,15,0)","v":"1900-01-03T21:30:00"},{"$f":"B278","v":0},null,1,12,14]
[{"$f":"A280+TIME(0,15,0)","v":"1900-01-03T21:45:00"},{"$f":"B278","v":0},null,1,12,15]
[{"$f":"DATE($C$72,$D$72,$E$72) + TIME($F$72,0,0)","v":"1900-01-03T22:00:00"},{"$f":"IF(A282<'PV Data'!$H$10,0,SUMIFS('PV Data'!D:D,'PV Data'!A:A,MONTH(Conversions!A282),'PV Data'!B:B,DAY(Conversions!A282),'PV Data'!C:C,HOUR(Conversions!A282))/1000)","v":0},null,1,12,16]
[{"$f":"A282+TIME(0,15,0)","v":"1900-01-03T22:15:00"},{"$f":"B282","v":0},null,1,12,17]
[{"$f":"A283+TIME(0,15,0)","v":"1900-01-03T22:30:00"},{"$f":"B282","v":0},null,1,12,18]
[{"$f":"A284+TIME(0,15,0)","v":"1900-01-03T22:45:00"},{"$f":"B282","v":0},null,1,12,19]
[{"$f":"DATE($C$73,$D$73,$E$73) + TIME($F$73,0,0)","v":"1900-01-03T23:00:00"},{"$f":"IF(A286<'PV Data'!$H$10,0,SUMIFS('PV Data'!D:D,'PV Data'!A:A,MONTH(Conversions!A286),'PV Data'!B:B,DAY(Conversions!A286),'PV Data'!C:C,HOUR(Conversions!A286))/1000)","v":0},null,1,12,20]
[{"$f":"A286+TIME(0,15,0)","v":"1900-01-03T23:15:00"},{"$f":"B286","v":0},null,1,12,21]
[{"$f":"A287+TIME(0,15,0)","v":"1900-01-03T23:30:00"},{"$f":"B286","v":0},null,1,12,22]
[{"$f":"A288+TIME(0,15,0)","v":"1900-01-03T23:45:00"},{"$f":"B286","v":0},null,1,12,23]
[{"$f":"DATE($C$74,$D$74,$E$74) + TIME($F$74,0,0)","v":"1900-01-04"},{"$f":"IF(A290<'PV Data'!$H$10,0,SUMIFS('PV Data'!D:D,'PV Data'!A:A,MONTH(Conversions!A290),'PV Data'!B:B,DAY(Conversions!A290),'PV Data'!C:C,HOUR(Conversions!A290))/1000)","v":0},null,1,13,0]
[{"$f":"A290+TIME(0,15,0)","v":"1900-01-04T00:15:00"},{"$f":"B290","v":0},null,1,13,1]
[{"$f":"A291+TIME(0,15,0)","v":"1900-01-04T00:30:00"},{"$f":"B290","v":0},null,1,13,2]
[{"$f":"A292+TIME(0,15,0)","v":"1900-01-04T00:45:00"},{"$f":"B290","v":0},null,1,13,3]
[{"$f":"DATE($C$75,$D$75,$E$75) + TIME($F$75,0,0)","v":"1900-01-04T01:00:00"},{"$f":"IF(A294<'PV Data'!$H$10,0,SUMIFS('PV Data'!D:D,'PV Data'!A:A,MONTH(Conversions!A294),'PV Data'!B:B,DAY(Conversions!A294),'PV Data'!C:C,HOUR(Conversions!A294))/1000)","v":0},null,1,13,4]
[{"$f":"A294+TIME(0,15,0)","v":"1900-01-04T01:15:00"},{"$f":"B294","v":0},null,1,13,5]
[{"$f":"A295+TIME(0,15,0)","v":"1900-01-04T01:30:00"},{"$f":"B294","v":0},null,1,13,6]
[{"$f":"A296+TIME(0,15,0)","v":"1900-01-04T01:45:00"},{"$f":"B294","v":0},null,1,13,7]
[{"$f":"DATE($C$76,$D$76,$E$76) + TIME($F$76,0,0)","v":"1900-01-04T02:00:00"},{"$f":"IF(A298<'PV Data'!$H$10,0,SUMIFS('PV Data'!D:D,'PV Data'!A:A,MONTH(Conversions!A298),'PV Data'!B:B,DAY(Conversions!A298),'PV Data'!C:C,HOUR(Conversions!A298))/1000)","v":0},null,1,13,8]
[{"$f":"A298+TIME(0,15,0)","v":"1900-01-04T02:15:00"},{"$f":"B298","v":0},null,1,13,9]
[{"$f":"A299+TIME(0,15,0)","v":"1900-01-04T02:30:00"},{"$f":"B298","v":0},null,1,13,10]
[{"$f":"A300+TIME(0,15,0)","v":"1900-01-04T02:45:00"},{"$f":"B298","v":0},null,1,13,11]
[{"$f":"DATE($C$77,$D$77,$E$77) + TIME($F$77,0,0)","v":"1900-01-04T03:00:00"},{"$f":"IF(A302<'PV Data'!$H$10,0,SUMIFS('PV Data'!D:D,'PV Data'!A:A,MONTH(Conversions!A302),'PV Data'!B:B,DAY(Conversions!A302),'PV Data'!C:C,HOUR(Conversions!A302))/1000)","v":0},null,1,13,12]
[{"$f":"A302+TIME(0,15,0)","v":"1900-01-04T03:15:00"},{"$f":"B302","v":0},null,1,13,13]
[{"$f":"A303+TIME(0,15,0)","v":"1900-01-04T03:30:00"},{"$f":"B302","v":0},null,1,13,14]
[{"$f":"A304+TIME(0,15,0)","v":"1900-01-04T03:45:00"},{"$f":"B302","v":0},null,1,13,15]
[{"$f":"DATE($C$78,$D$78,$E$78) + TIME($F$78,0,0)","v":"1900-01-04T04:00:00"},{"$f":"IF(A306<'PV Data'!$H$10,0,SUMIFS('PV Data'!D:D,'PV Data'!A:A,MONTH(Conversions!A306),'PV Data'!B:B,DAY(Conversions!A306),'PV Data'!C:C,HOUR(Conversions!A306))/1000)","v":0},null,1,13,16]
[{"$f":"A306+TIME(0,15,0)","v":"1900-01-04T04:15:00"},{"$f":"B306","v":0},null,1,13,17]
[{"$f":"A307+TIME(0,15,0)","v":"1900-01-04T04:30:00"},{"$f":"B306","v":0},null,1,13,18]
[{"$f":"A308+TIME(0,15,0)","v":"1900-01-04T04:45:00"},{"$f":"B306","v":0},null,1,13,19]
[{"$f":"DATE($C$79,$D$79,$E$79) + TIME($F$79,0,0)","v":"1900-01-04T05:00:00"},{"$f":"IF(A310<'PV Data'!$H$10,0,SUMIFS('PV Data'!D:D,'PV Data'!A:A,MONTH(Conversions!A310),'PV Data'!B:B,DAY(Conversions!A310),'PV Data'!C:C,HOUR(Conversions!A310))/1000)","v":0},null,1,13,20]
[{"$f":"A310+TIME(0,15,0)","v":"1900-01-04T05:15:00"},{"$f":"B310","v":0},null,1,13,21]
[{"$f":"A311+TIME(0,15,0)","v":"1900-01-04T05:30:00"},{"$f":"B310","v":0},null,1,13,22]
[{"$f":"A312+TIME(0,15,0)","v":"1900-01-04T05:45:00"},{"$f":"B310","v":0},null,1,13,23]
[{"$f":"DATE($C$80,$D$80,$E$80) + TIME($F$80,0,0)","v":"1900-01-04T06:00:00"},{"$f":"IF(A314<'PV Data'!$H$10,0,SUMIFS('PV Data'!D:D,'PV Data'!A:A,MONTH(Conversions!A314),'PV Data'!B:B,DAY(Conversions!A314),'PV Data'!C:C,HOUR(Conversions!A314))/1000)","v":0},null,1,14,0]
[{"$f":"A314+TIME(0,15,0)","v":"1900-01-04T06:15:00"},{"$f":"B314","v":0},null,1,14,1]
[{"$f":"A315+TIME(0,15,0)","v":"1900-01-04T06:30:00"},{"$f":"B314","v":0},null,1,14,2]
[{"$f":"A316+TIME(0,15,0)","v":"1900-01-04T06:45:00"},{"$f":"B314","v":0},null,1,14,3]
[{"$f":"DATE($C$81,$D$81,$E$81) + TIME($F$81,0,0)","v":"1900-01-04T07:00:00"},{"$f":"IF(A318<'PV Data'!$H$10,0,SUMIFS('PV Data'!D:D,'PV Data'!A:A,MONTH(Conversions!A318),'PV Data'!B:B,DAY(Conversions!A318),'PV Data'!C:C,HOUR(Conversions!A318))/1000)","v":0},null,1,14,4]
[{"$f":"A318+TIME(0,15,0)","v":"1900-01-04T07:15:00"},{"$f":"B318","v":0},null,1,14,5]
[{"$f":"A319+TIME(0,15,0)","v":"1900-01-04T07:30:00"},{"$f":"B318","v":0},null,1,14,6]
[{"$f":"A320+TIME(0,15,0)","v":"1900-01-04T07:45:00"},{"$f":"B318","v":0},null,1,14,7]
[{"$f":"DATE($C$82,$D$82,$E$82) + TIME($F$82,0,0)","v":"1900-01-04T08:00:00"},{"$f":"IF(A322<'PV Data'!$H$10,0,SUMIFS('PV Data'!D:D,'PV Data'!A:A,MONTH(Conversions!A322),'PV Data'!B:B,DAY(Conversions!A322),'PV Data'!C:C,HOUR(Conversions!A322))/1000)","v":0},null,1,14,8]
[{"$f":"A322+TIME(0,15,0)","v":"1900-01-04T08:15:00"},{"$f":"B322","v":0},null,1,14,9]
[{"$f":"A323+TIME(0,15,0)","v":"1900-01-04T08:30:00"},{"$f":"B322","v":0},null,1,14,10]
[{"$f":"A324+TIME(0,15,0)","v":"1900-01-04T08:45:00"},{"$f":"B322","v":0},null,1,14,11]
[{"$f":"DATE($C$83,$D$83,$E$83) + TIME($F$83,0,0)","v":"1900-01-04T09:00:00"},{"$f":"IF(A326<'PV Data'!$H$10,0,SUMIFS('PV Data'!D:D,'PV Data'!A:A,MONTH(Conversions!A326),'PV Data'!B:B,DAY(Conversions!A326),'PV Data'!C:C,HOUR(Conversions!A326))/1000)","v":0},null,1,14,12]
[{"$f":"A326+TIME(0,15,0)","v":"1900-01-04T09:15:00"},{"$f":"B326","v":0},null,1,14,13]
[{"$f":"A327+TIME(0,15,0)","v":"1900-01-04T09:30:00"},{"$f":"B326","v":0},null,1,14,14]
[{"$f":"A328+TIME(0,15,0)","v":"1900-01-04T09:45:00"},{"$f":"B326","v":0},null,1,14,15]
[{"$f":"DATE($C$84,$D$84,$E$84) + TIME($F$84,0,0)","v":"1900-01-04T10:00:00"},{"$f":"IF(A330<'PV Data'!$H$10,0,SUMIFS('PV Data'!D:D,'PV Data'!A:A,MONTH(Conversions!A330),'PV Data'!B:B,DAY(Conversions!A330),'PV Data'!C:C,HOUR(Conversions!A330))/1000)","v":0},null,1,14,16]
[{"$f":"A330+TIME(0,15,0)","v":"1900-01-04T10:15:00"},{"$f":"B330","v":0},null,1,14,17]
[{"$f":"A331+TIME(0,15,0)","v":"1900-01-04T10:30:00"},{"$f":"B330","v":0},null,1,14,18]
[{"$f":"A332+TIME(0,15,0)","v":"1900-01-04T10:45:00"},{"$f":"B330","v":0},null,1,14,19]
[{"$f":"DATE($C$85,$D$85,$E$85) + TIME($F$85,0,0)","v":"1900-01-04T11:00:00"},{"$f":"IF(A334<'PV Data'!$H$10,0,SUMIFS('PV Data'!D:D,'PV Data'!A:A,MONTH(Conversions!A334),'PV Data'!B:B,DAY(Conversions!A334),'PV Data'!C:C,HOUR(Conversions!A334))/1000)","v":0},null,1,14,20]
[{"$f":"A334+TIME(0,15,0)","v":"1900-01-04T11:15:00"},{"$f":"B334","v":0},null,1,14,21]
[{"$f":"A335+TIME(0,15,0)","v":"1900-01-04T11:30:00"},{"$f":"B334","v":0},null,1,14,22]
[{"$f":"A336+TIME(0,15,0)","v":"1900-01-04T11:45:00"},{"$f":"B334","v":0},null,1,14,23]
[{"$f":"DATE($C$86,$D$86,$E$86) + TIME($F$86,0,0)","v":"1900-01-04T12:00:00"},{"$f":"IF(A338<'PV Data'!$H$10,0,SUMIFS('PV Data'!D:D,'PV Data'!A:A,MONTH(Conversions!A338),'PV Data'!B:B,DAY(Conversions!A338),'PV Data'!C:C,HOUR(Conversions!A338))/1000)","v":0},null,1,15,0]
[{"$f":"A338+TIME(0,15,0)","v":"1900-01-04T12:15:00"},{"$f":"B338","v":0},null,1,15,1]
[{"$f":"A339+TIME(0,15,0)","v":"1900-01-04T12:30:00"},{"$f":"B338","v":0},null,1,15,2]
[{"$f":"A340+TIME(0,15,0)","v":"1900-01-04T12:45:00"},{"$f":"B338","v":0},null,1,15,3]
[{"$f":"DATE($C$87,$D$87,$E$87) + TIME($F$87,0,0)","v":"1900-01-04T13:00:00"},{"$f":"IF(A342<'PV Data'!$H$10,0,SUMIFS('PV Data'!D:D,'PV Data'!A:A,MONTH(Conversions!A342),'PV Data'!B:B,DAY(Conversions!A342),'PV Data'!C:C,HOUR(Conversions!A342))/1000)","v":0},null,1,15,4]
[{"$f":"A342+TIME(0,15,0)","v":"1900-01-04T13:15:00"},{"$f":"B342","v":0},null,1,15,5]
[{"$f":"A343+TIME(0,15,0)","v":"1900-01-04T13:30:00"},{"$f":"B342","v":0},null,1,15,6]
[{"$f":"A344+TIME(0,15,0)","v":"1900-01-04T13:45:00"},{"$f":"B342","v":0},null,1,15,7]
[{"$f":"DATE($C$88,$D$88,$E$88) + TIME($F$88,0,0)","v":"1900-01-04T14:00:00"},{"$f":"IF(A346<'PV Data'!$H$10,0,SUMIFS('PV Data'!D:D,'PV Data'!A:A,MONTH(Conversions!A346),'PV Data'!B:B,DAY(Conversions!A346),'PV Data'!C:C,HOUR(Conversions!A346))/1000)","v":0},null,1,15,8]
[{"$f":"A346+TIME(0,15,0)","v":"1900-01-04T14:15:00"},{"$f":"B346","v":0},null,1,15,9]
[{"$f":"A347+TIME(0,15,0)","v":"1900-01-04T14:30:00"},{"$f":"B346","v":0},null,1,15,10]
[{"$f":"A348+TIME(0,15,0)","v":"1900-01-04T14:45:00"},{"$f":"B346","v":0},null,1,15,11]
[{"$f":"DATE($C$89,$D$89,$E$89) + TIME($F$89,0,0)","v":"1900-01-04T15:00:00"},{"$f":"IF(A350<'PV Data'!$H$10,0,SUMIFS('PV Data'!D:D,'PV Data'!A:A,MONTH(Conversions!A350),'PV Data'!B:B,DAY(Conversions!A350),'PV Data'!C:C,HOUR(Conversions!A350))/1000)","v":0},null,1,15,12]
[{"$f":"A350+TIME(0,15,0)","v":"1900-01-04T15:15:00"},{"$f":"B350","v":0},null,1,15,13]
[{"$f":"A351+TIME(0,15,0)","v":"1900-01-04T15:30:00"},{"$f":"B350","v":0},null,1,15,14]
[{"$f":"A352+TIME(0,15,0)","v":"1900-01-04T15:45:00"},{"$f":"B350","v":0},null,1,15,15]
[{"$f":"DATE($C$90,$D$90,$E$90) + TIME($F$90,0,0)","v":"1900-01-04T16:00:00"},{"$f":"IF(A354<'PV Data'!$H$10,0,SUMIFS('PV Data'!D:D,'PV Data'!A:A,MONTH(Conversions!A354),'PV Data'!B:B,DAY(Conversions!A354),'PV Data'!C:C,HOUR(Conversions!A354))/1000)","v":0},null,1,15,16]
[{"$f":"A354+TIME(0,15,0)","v":"1900-01-04T16:15:00"},{"$f":"B354","v":0},null,1,15,17]
[{"$f":"A355+TIME(0,15,0)","v":"1900-01-04T16:30:00"},{"$f":"B354","v":0},null,1,15,18]
[{"$f":"A356+TIME(0,15,0)","v":"1900-01-04T16:45:00"},{"$f":"B354","v":0},null,1,15,19]
[{"$f":"DATE($C$91,$D$91,$E$91) + TIME($F$91,0,0)","v":"1900-01-04T17:00:00"},{"$f":"IF(A358<'PV Data'!$H$10,0,SUMIFS('PV Data'!D:D,'PV Data'!A:A,MONTH(Conversions!A358),'PV Data'!B:B,DAY(Conversions!A358),'PV Data'!C:C,HOUR(Conversions!A358))/1000)","v":0},null,1,15,20]
[{"$f":"A358+TIME(0,15,0)","v":"1900-01-04T17:15:00"},{"$f":"B358","v":0},null,1,15,21]
[{"$f":"A359+TIME(0,15,0)","v":"1900-01-04T17:30:00"},{"$f":"B358","v":0},null,1,15,22]
[{"$f":"A360+TIME(0,15,0)","v":"1900-01-04T17:45:00"},{"$f":"B358","v":0},null,1,15,23]
[{"$f":"DATE($C$92,$D$92,$E$92) + TIME($F$92,0,0)","v":"1900-01-04T18:00:00"},{"$f":"IF(A362<'PV Data'!$H$10,0,SUMIFS('PV Data'!D:D,'PV Data'!A:A,MONTH(Conversions!A362),'PV Data'!B:B,DAY(Conversions!A362),'PV Data'!C:C,HOUR(Conversions!A362))/1000)","v":0},null,1,16,0]
[{"$f":"A362+TIME(0,15,0)","v":"1900-01-04T18:15:00"},{"$f":"B362","v":0},null,1,16,1]
[{"$f":"A363+TIME(0,15,0)","v":"1900-01-04T18:30:00"},{"$f":"B362","v":0},null,1,16,2]
[{"$f":"A364+TIME(0,15,0)","v":"1900-01-04T18:45:00"},{"$f":"B362","v":0},null,1,16,3]
[{"$f":"DATE($C$93,$D$93,$E$93) + TIME($F$93,0,0)","v":"1900-01-04T19:00:00"},{"$f":"IF(A366<'PV Data'!$H$10,0,SUMIFS('PV Data'!D:D,'PV Data'!A:A,MONTH(Conversions!A366),'PV Data'!B:B,DAY(Conversions!A366),'PV Data'!C:C,HOUR(Conversions!A366))/1000)","v":0},null,1,16,4]
[{"$f":"A366+TIME(0,15,0)","v":"1900-01-04T19:15:00"},{"$f":"B366","v":0},null,1,16,5]
[{"$f":"A367+TIME(0,15,0)","v":"1900-01-04T19:30:00"},{"$f":"B366","v":0},null,1,16,6]
[{"$f":"A368+TIME(0,15,0)","v":"1900-01-04T19:45:00"},{"$f":"B366","v":0},null,1,16,7]
[{"$f":"DATE($C$94,$D$94,$E$94) + TIME($F$94,0,0)","v":"1900-01-04T20:00:00"},{"$f":"IF(A370<'PV Data'!$H$10,0,SUMIFS('PV Data'!D:D,'PV Data'!A:A,MONTH(Conversions!A370),'PV Data'!B:B,DAY(Conversions!A370),'PV Data'!C:C,HOUR(Conversions!A370))/1000)","v":0},null,1,16,8]
[{"$f":"A370+TIME(0,15,0)","v":"1900-01-04T20:15:00"},{"$f":"B370","v":0},null,1,16,9]
[{"$f":"A371+TIME(0,15,0)","v":"1900-01-04T20:30:00"},{"$f":"B370","v":0},null,1,16,10]
[{"$f":"A372+TIME(0,15,0)","v":"1900-01-04T20:45:00"},{"$f":"B370","v":0},null,1,16,11]
[{"$f":"DATE($C$95,$D$95,$E$95) + TIME($F$95,0,0)","v":"1900-01-04T21:00:00"},{"$f":"IF(A374<'PV Data'!$H$10,0,SUMIFS('PV Data'!D:D,'PV Data'!A:A,MONTH(Conversions!A374),'PV Data'!B:B,DAY(Conversions!A374),'PV Data'!C:C,HOUR(Conversions!A374))/1000)","v":0},null,1,16,12]
[{"$f":"A374+TIME(0,15,0)","v":"1900-01-04T21:15:00"},{"$f":"B374","v":0},null,1,16,13]
[{"$f":"A375+TIME(0,15,0)","v":"1900-01-04T21:30:00"},{"$f":"B374","v":0},null,1,16,14]
[{"$f":"A376+TIME(0,15,0)","v":"1900-01-04T21:45:00"},{"$f":"B374","v":0},null,1,16,15]
[{"$f":"DATE($C$96,$D$96,$E$96) + TIME($F$96,0,0)","v":"1900-01-04T22:00:00"},{"$f":"IF(A378<'PV Data'!$H$10,0,SUMIFS('PV Data'!D:D,'PV Data'!A:A,MONTH(Conversions!A378),'PV Data'!B:B,DAY(Conversions!A378),'PV Data'!C:C,HOUR(Conversions!A378))/1000)","v":0},null,1,16,16]
[{"$f":"A378+TIME(0,15,0)","v":"1900-01-04T22:15:00"},{"$f":"B378","v":0},null,1,16,17]
[{"$f":"A379+TIME(0,15,0)","v":"1900-01-04T22:30:00"},{"$f":"B378","v":0},null,1,16,18]
[{"$f":"A380+TIME(0,15,0)","v":"1900-01-04T22:45:00"},{"$f":"B378","v":0},null,1,16,19]
[{"$f":"DATE($C$97,$D$97,$E$97) + TIME($F$97,0,0)","v":"1900-01-04T23:00:00"},{"$f":"IF(A382<'PV Data'!$H$10,0,SUMIFS('PV Data'!D:D,'PV Data'!A:A,MONTH(Conversions!A382),'PV Data'!B:B,DAY(Conversions!A382),'PV Data'!C:C,HOUR(Conversions!A382))/1000)","v":0},null,1,16,20]
[{"$f":"A382+TIME(0,15,0)","v":"1900-01-04T23:15:00"},{"$f":"B382","v":0},null,1,16,21]
[{"$f":"A383+TIME(0,15,0)","v":"1900-01-04T23:30:00"},{"$f":"B382","v":0},null,1,16,22]
[{"$f":"A384+TIME(0,15,0)","v":"1900-01-04T23:45:00"},{"$f":"B382","v":0},null,1,16,23]
[{"$f":"DATE($C$98,$D$98,$E$98) + TIME($F$98,0,0)","v":"1900-01-05"},{"$f":"IF(A386<'PV Data'!$H$10,0,SUMIFS('PV Data'!D:D,'PV Data'!A:A,MONTH(Conversions!A386),'PV Data'!B:B,DAY(Conversions!A386),'PV Data'!C:C,HOUR(Conversions!A386))/1000)","v":0},null,1,17,0]
[{"$f":"A386+TIME(0,15,0)","v":"1900-01-05T00:15:00"},{"$f":"B386","v":0},null,1,17,1]
[{"$f":"A387+TIME(0,15,0)","v":"1900-01-05T00:30:00"},{"$f":"B386","v":0},null,1,17,2]
[{"$f":"A388+TIME(0,15,0)","v":"1900-01-05T00:45:00"},{"$f":"B386","v":0},null,1,17,3]
[{"$f":"DATE($C$99,$D$99,$E$99) + TIME($F$99,0,0)","v":"1900-01-05T01:00:00"},{"$f":"IF(A390<'PV Data'!$H$10,0,SUMIFS('PV Data'!D:D,'PV Data'!A:A,MONTH(Conversions!A390),'PV Data'!B:B,DAY(Conversions!A390),'PV Data'!C:C,HOUR(Conversions!A390))/1000)","v":0},null,1,17,4]
[{"$f":"A390+TIME(0,15,0)","v":"1900-01-05T01:15:00"},{"$f":"B390","v":0},null,1,17,5]
[{"$f":"A391+TIME(0,15,0)","v":"1900-01-05T01:30:00"},{"$f":"B390","v":0},null,1,17,6]
[{"$f":"A392+TIME(0,15,0)","v":"1900-01-05T01:45:00"},{"$f":"B390","v":0},null,1,17,7]
[{"$f":"DATE($C$100,$D$100,$E$100) + TIME($F$100,0,0)","v":"1900-01-05T02:00:00"},{"$f":"IF(A394<'PV Data'!$H$10,0,SUMIFS('PV Data'!D:D,'PV Data'!A:A,MONTH(Conversions!A394),'PV Data'!B:B,DAY(Conversions!A394),'PV Data'!C:C,HOUR(Conversions!A394))/1000)","v":0},null,1,17,8]
[{"$f":"A394+TIME(0,15,0)","v":"1900-01-05T02:15:00"},{"$f":"B394","v":0},null,1,17,9]
[{"$f":"A395+TIME(0,15,0)","v":"1900-01-05T02:30:00"},{"$f":"B394","v":0},null,1,17,10]
[{"$f":"A396+TIME(0,15,0)","v":"1900-01-05T02:45:00"},{"$f":"B394","v":0},null,1,17,11]
[{"$f":"DATE($C$101,$D$101,$E$101) + TIME($F$101,0,0)","v":"1900-01-05T03:00:00"},{"$f":"IF(A398<'PV Data'!$H$10,0,SUMIFS('PV Data'!D:D,'PV Data'!A:A,MONTH(Conversions!A398),'PV Data'!B:B,DAY(Conversions!A398),'PV Data'!C:C,HOUR(Conversions!A398))/1000)","v":0},null,1,17,12]
[{"$f":"A398+TIME(0,15,0)","v":"1900-01-05T03:15:00"},{"$f":"B398","v":0},null,1,17,13]
[{"$f":"A399+TIME(0,15,0)","v":"1900-01-05T03:30:00"},{"$f":"B398","v":0},null,1,17,14]
[{"$f":"A400+TIME(0,15,0)","v":"1900-01-05T03:45:00"},{"$f":"B398","v":0},null,1,17,15]
[{"$f":"DATE($C$102,$D$102,$E$102) + TIME($F$102,0,0)","v":"1900-01-05T04:00:00"},{"$f":"IF(A402<'PV Data'!$H$10,0,SUMIFS('PV Data'!D:D,'PV Data'!A:A,MONTH(Conversions!A402),'PV Data'!B:B,DAY(Conversions!A402),'PV Data'!C:C,HOUR(Conversions!A402))/1000)","v":0},null,1,17,16]
[{"$f":"A402+TIME(0,15,0)","v":"1900-01-05T04:15:00"},{"$f":"B402","v":0},null,1,17,17]
[{"$f":"A403+TIME(0,15,0)","v":"1900-01-05T04:30:00"},{"$f":"B402","v":0},null,1,17,18]
[{"$f":"A404+TIME(0,15,0)","v":"1900-01-05T04:45:00"},{"$f":"B402","v":0},null,1,17,19]
[{"$f":"DATE($C$103,$D$103,$E$103) + TIME($F$103,0,0)","v":"1900-01-05T05:00:00"},{"$f":"IF(A406<'PV Data'!$H$10,0,SUMIFS('PV Data'!D:D,'PV Data'!A:A,MONTH(Conversions!A406),'PV Data'!B:B,DAY(Conversions!A406),'PV Data'!C:C,HOUR(Conversions!A406))/1000)","v":0},null,1,17,20]
[{"$f":"A406+TIME(0,15,0)","v":"1900-01-05T05:15:00"},{"$f":"B406","v":0},null,1,17,21]
[{"$f":"A407+TIME(0,15,0)","v":"1900-01-05T05:30:00"},{"$f":"B406","v":0},null,1,17,22]
[{"$f":"A408+TIME(0,15,0)","v":"1900-01-05T05:45:00"},{"$f":"B406","v":0},null,1,17,23]
[{"$f":"DATE($C$104,$D$104,$E$104) + TIME($F$104,0,0)","v":"1900-01-05T06:00:00"},{"$f":"IF(A410<'PV Data'!$H$10,0,SUMIFS('PV Data'!D:D,'PV Data'!A:A,MONTH(Conversions!A410),'PV Data'!B:B,DAY(Conversions!A410),'PV Data'!C:C,HOUR(Conversions!A410))/1000)","v":0},null,1,18,0]
[{"$f":"A410+TIME(0,15,0)","v":"1900-01-05T06:15:00"},{"$f":"B410","v":0},null,1,18,1]
[{"$f":"A411+TIME(0,15,0)","v":"1900-01-05T06:30:00"},{"$f":"B410","v":0},null,1,18,2]
[{"$f":"A412+TIME(0,15,0)","v":"1900-01-05T06:45:00"},{"$f":"B410","v":0},null,1,18,3]
[{"$f":"DATE($C$105,$D$105,$E$105) + TIME($F$105,0,0)","v":"1900-01-05T07:00:00"},{"$f":"IF(A414<'PV Data'!$H$10,0,SUMIFS('PV Data'!D:D,'PV Data'!A:A,MONTH(Conversions!A414),'PV Data'!B:B,DAY(Conversions!A414),'PV Data'!C:C,HOUR(Conversions!A414))/1000)","v":0},null,1,18,4]
[{"$f":"A414+TIME(0,15,0)","v":"1900-01-05T07:15:00"},{"$f":"B414","v":0},null,1,18,5]
[{"$f":"A415+TIME(0,15,0)","v":"1900-01-05T07:30:00"},{"$f":"B414","v":0},null,1,18,6]
[{"$f":"A416+TIME(0,15,0)","v":"1900-01-05T07:45:00"},{"$f":"B414","v":0},null,1,18,7]
[{"$f":"DATE($C$106,$D$106,$E$106) + TIME($F$106,0,0)","v":"1900-01-05T08:00:00"},{"$f":"IF(A418<'PV Data'!$H$10,0,SUMIFS('PV Data'!D:D,'PV Data'!A:A,MONTH(Conversions!A418),'PV Data'!B:B,DAY(Conversions!A418),'PV Data'!C:C,HOUR(Conversions!A418))/1000)","v":0},null,1,18,8]
[{"$f":"A418+TIME(0,15,0)","v":"1900-01-05T08:15:00"},{"$f":"B418","v":0},null,1,18,9]
[{"$f":"A419+TIME(0,15,0)","v":"1900-01-05T08:30:00"},{"$f":"B418","v":0},null,1,18,10]
[{"$f":"A420+TIME(0,15,0)","v":"1900-01-05T08:45:00"},{"$f":"B418","v":0},null,1,18,11]
[{"$f":"DATE($C$107,$D$107,$E$107) + TIME($F$107,0,0)","v":"1900-01-05T09:00:00"},{"$f":"IF(A422<'PV Data'!$H$10,0,SUMIFS('PV Data'!D:D,'PV Data'!A:A,MONTH(Conversions!A422),'PV Data'!B:B,DAY(Conversions!A422),'PV Data'!C:C,HOUR(Conversions!A422))/1000)","v":0},null,1,18,12]
[{"$f":"A422+TIME(0,15,0)","v":"1900-01-05T09:15:00"},{"$f":"B422","v":0},null,1,18,13]
[{"$f":"A423+TIME(0,15,0)","v":"1900-01-05T09:30:00"},{"$f":"B422","v":0},null,1,18,14]
[{"$f":"A424+TIME(0,15,0)","v":"1900-01-05T09:45:00"},{"$f":"B422","v":0},null,1,18,15]
[{"$f":"DATE($C$108,$D$108,$E$108) + TIME($F$108,0,0)","v":"1900-01-05T10:00:00"},{"$f":"IF(A426<'PV Data'!$H$10,0,SUMIFS('PV Data'!D:D,'PV Data'!A:A,MONTH(Conversions!A426),'PV Data'!B:B,DAY(Conversions!A426),'PV Data'!C:C,HOUR(Conversions!A426))/1000)","v":0},null,1,18,16]
[{"$f":"A426+TIME(0,15,0)","v":"1900-01-05T10:15:00"},{"$f":"B426","v":0},null,1,18,17]
[{"$f":"A427+TIME(0,15,0)","v":"1900-01-05T10:30:00"},{"$f":"B426","v":0},null,1,18,18]
[{"$f":"A428+TIME(0,15,0)","v":"1900-01-05T10:45:00"},{"$f":"B426","v":0},null,1,18,19]
[{"$f":"DATE($C$109,$D$109,$E$109) + TIME($F$109,0,0)","v":"1900-01-05T11:00:00"},{"$f":"IF(A430<'PV Data'!$H$10,0,SUMIFS('PV Data'!D:D,'PV Data'!A:A,MONTH(Conversions!A430),'PV Data'!B:B,DAY(Conversions!A430),'PV Data'!C:C,HOUR(Conversions!A430))/1000)","v":0},null,1,18,20]
[{"$f":"A430+TIME(0,15,0)","v":"1900-01-05T11:15:00"},{"$f":"B430","v":0},null,1,18,21]
[{"$f":"A431+TIME(0,15,0)","v":"1900-01-05T11:30:00"},{"$f":"B430","v":0},null,1,18,22]
[{"$f":"A432+TIME(0,15,0)","v":"1900-01-05T11:45:00"},{"$f":"B430","v":0},null,1,18,23]
[{"$f":"DATE($C$110,$D$110,$E$110) + TIME($F$110,0,0)","v":"1900-01-05T12:00:00"},{"$f":"IF(A434<'PV Data'!$H$10,0,SUMIFS('PV Data'!D:D,'PV Data'!A:A,MONTH(Conversions!A434),'PV Data'!B:B,DAY(Conversions!A434),'PV Data'!C:C,HOUR(Conversions!A434))/1000)","v":0},null,1,19,0]
[{"$f":"A434+TIME(0,15,0)","v":"1900-01-05T12:15:00"},{"$f":"B434","v":0},null,1,19,1]
[{"$f":"A435+TIME(0,15,0)","v":"1900-01-05T12:30:00"},{"$f":"B434","v":0},null,1,19,2]
[{"$f":"A436+TIME(0,15,0)","v":"1900-01-05T12:45:00"},{"$f":"B434","v":0},null,1,19,3]
[{"$f":"DATE($C$111,$D$111,$E$111) + TIME($F$111,0,0)","v":"1900-01-05T13:00:00"},{"$f":"IF(A438<'PV Data'!$H$10,0,SUMIFS('PV Data'!D:D,'PV Data'!A:A,MONTH(Conversions!A438),'PV Data'!B:B,DAY(Conversions!A438),'PV Data'!C:C,HOUR(Conversions!A438))/1000)","v":0},null,1,19,4]
[{"$f":"A438+TIME(0,15,0)","v":"1900-01-05T13:15:00"},{"$f":"B438","v":0},null,1,19,5]
[{"$f":"A439+TIME(0,15,0)","v":"1900-01-05T13:30:00"},{"$f":"B438","v":0},null,1,19,6]
[{"$f":"A440+TIME(0,15,0)","v":"1900-01-05T13:45:00"},{"$f":"B438","v":0},null,1,19,7]
[{"$f":"DATE($C$112,$D$112,$E$112) + TIME($F$112,0,0)","v":"1900-01-05T14:00:00"},{"$f":"IF(A442<'PV Data'!$H$10,0,SUMIFS('PV Data'!D:D,'PV Data'!A:A,MONTH(Conversions!A442),'PV Data'!B:B,DAY(Conversions!A442),'PV Data'!C:C,HOUR(Conversions!A442))/1000)","v":0},null,1,19,8]
[{"$f":"A442+TIME(0,15,0)","v":"1900-01-05T14:15:00"},{"$f":"B442","v":0},null,1,19,9]
[{"$f":"A443+TIME(0,15,0)","v":"1900-01-05T14:30:00"},{"$f":"B442","v":0},null,1,19,10]
[{"$f":"A444+TIME(0,15,0)","v":"1900-01-05T14:45:00"},{"$f":"B442","v":0},null,1,19,11]
[{"$f":"DATE($C$113,$D$113,$E$113) + TIME($F$113,0,0)","v":"1900-01-05T15:00:00"},{"$f":"IF(A446<'PV Data'!$H$10,0,SUMIFS('PV Data'!D:D,'PV Data'!A:A,MONTH(Conversions!A446),'PV Data'!B:B,DAY(Conversions!A446),'PV Data'!C:C,HOUR(Conversions!A446))/1000)","v":0},null,1,19,12]
[{"$f":"A446+TIME(0,15,0)","v":"1900-01-05T15:15:00"},{"$f":"B446","v":0},null,1,19,13]
[{"$f":"A447+TIME(0,15,0)","v":"1900-01-05T15:30:00"},{"$f":"B446","v":0},null,1,19,14]
[{"$f":"A448+TIME(0,15,0)","v":"1900-01-05T15:45:00"},{"$f":"B446","v":0},null,1,19,15]
[{"$f":"DATE($C$114,$D$114,$E$114) + TIME($F$114,0,0)","v":"1900-01-05T16:00:00"},{"$f":"IF(A450<'PV Data'!$H$10,0,SUMIFS('PV Data'!D:D,'PV Data'!A:A,MONTH(Conversions!A450),'PV Data'!B:B,DAY(Conversions!A450),'PV Data'!C:C,HOUR(Conversions!A450))/1000)","v":0},null,1,19,16]
[{"$f":"A450+TIME(0,15,0)","v":"1900-01-05T16:15:00"},{"$f":"B450","v":0},null,1,19,17]
[{"$f":"A451+TIME(0,15,0)","v":"1900-01-05T16:30:00"},{"$f":"B450","v":0},null,1,19,18]
[{"$f":"A452+TIME(0,15,0)","v":"1900-01-05T16:45:00"},{"$f":"B450","v":0},null,1,19,19]
[{"$f":"DATE($C$115,$D$115,$E$115) + TIME($F$115,0,0)","v":"1900-01-05T17:00:00"},{"$f":"IF(A454<'PV Data'!$H$10,0,SUMIFS('PV Data'!D:D,'PV Data'!A:A,MONTH(Conversions!A454),'PV Data'!B:B,DAY(Conversions!A454),'PV Data'!C:C,HOUR(Conversions!A454))/1000)","v":0},null,1,19,20]
[{"$f":"A454+TIME(0,15,0)","v":"1900-01-05T17:15:00"},{"$f":"B454","v":0},null,1,19,21]
[{"$f":"A455+TIME(0,15,0)","v":"1900-01-05T17:30:00"},{"$f":"B454","v":0},null,1,19,22]
[{"$f":"A456+TIME(0,15,0)","v":"1900-01-05T17:45:00"},{"$f":"B454","v":0},null,1,19,23]
[{"$f":"DATE($C$116,$D$116,$E$116) + TIME($F$116,0,0)","v":"1900-01-05T18:00:00"},{"$f":"IF(A458<'PV Data'!$H$10,0,SUMIFS('PV Data'!D:D,'PV Data'!A:A,MONTH(Conversions!A458),'PV Data'!B:B,DAY(Conversions!A458),'PV Data'!C:C,HOUR(Conversions!A458))/1000)","v":0},null,1,20,0]
[{"$f":"A458+TIME(0,15,0)","v":"1900-01-05T18:15:00"},{"$f":"B458","v":0},null,1,20,1]
[{"$f":"A459+TIME(0,15,0)","v":"1900-01-05T18:30:00"},{"$f":"B458","v":0},null,1,20,2]
[{"$f":"A460+TIME(0,15,0)","v":"1900-01-05T18:45:00"},{"$f":"B458","v":0},null,1,20,3]
[{"$f":"DATE($C$117,$D$117,$E$117) + TIME($F$117,0,0)","v":"1900-01-05T19:00:00"},{"$f":"IF(A462<'PV Data'!$H$10,0,SUMIFS('PV Data'!D:D,'PV Data'!A:A,MONTH(Conversions!A462),'PV Data'!B:B,DAY(Conversions!A462),'PV Data'!C:C,HOUR(Conversions!A462))/1000)","v":0},null,1,20,4]
[{"$f":"A462+TIME(0,15,0)","v":"1900-01-05T19:15:00"},{"$f":"B462","v":0},null,1,20,5]
[{"$f":"A463+TIME(0,15,0)","v":"1900-01-05T19:30:00"},{"$f":"B462","v":0},null,1,20,6]
[{"$f":"A464+TIME(0,15,0)","v":"1900-01-05T19:45:00"},{"$f":"B462","v":0},null,1,20,7]
[{"$f":"DATE($C$118,$D$118,$E$118) + TIME($F$118,0,0)","v":"1900-01-05T20:00:00"},{"$f":"IF(A466<'PV Data'!$H$10,0,SUMIFS('PV Data'!D:D,'PV Data'!A:A,MONTH(Conversions!A466),'PV Data'!B:B,DAY(Conversions!A466),'PV Data'!C:C,HOUR(Conversions!A466))/1000)","v":0},null,1,20,8]
[{"$f":"A466+TIME(0,15,0)","v":"1900-01-05T20:15:00"},{"$f":"B466","v":0},null,1,20,9]
[{"$f":"A467+TIME(0,15,0)","v":"1900-01-05T20:30:00"},{"$f":"B466","v":0},null,1,20,10]
[{"$f":"A468+TIME(0,15,0)","v":"1900-01-05T20:45:00"},{"$f":"B466","v":0},null,1,20,11]
[{"$f":"DATE($C$119,$D$119,$E$119) + TIME($F$119,0,0)","v":"1900-01-05T21:00:00"},{"$f":"IF(A470<'PV Data'!$H$10,0,SUMIFS('PV Data'!D:D,'PV Data'!A:A,MONTH(Conversions!A470),'PV Data'!B:B,DAY(Conversions!A470),'PV Data'!C:C,HOUR(Conversions!A470))/1000)","v":0},null,1,20,12]
[{"$f":"A470+TIME(0,15,0)","v":"1900-01-05T21:15:00"},{"$f":"B470","v":0},null,1,20,13]
[{"$f":"A471+TIME(0,15,0)","v":"1900-01-05T21:30:00"},{"$f":"B470","v":0},null,1,20,14]
[{"$f":"A472+TIME(0,15,0)","v":"1900-01-05T21:45:00"},{"$f":"B470","v":0},null,1,20,15]
[{"$f":"DATE($C$120,$D$120,$E$120) + TIME($F$120,0,0)","v":"1900-01-05T22:00:00"},{"$f":"IF(A474<'PV Data'!$H$10,0,SUMIFS('PV Data'!D:D,'PV Data'!A:A,MONTH(Conversions!A474),'PV Data'!B:B,DAY(Conversions!A474),'PV Data'!C:C,HOUR(Conversions!A474))/1000)","v":0},null,1,20,16]
[{"$f":"A474+TIME(0,15,0)","v":"1900-01-05T22:15:00"},{"$f":"B474","v":0},null,1,20,17]
[{"$f":"A475+TIME(0,15,0)","v":"1900-01-05T22:30:00"},{"$f":"B474","v":0},null,1,20,18]
[{"$f":"A476+TIME(0,15,0)","v":"1900-01-05T22:45:00"},{"$f":"B474","v":0},null,1,20,19]
[{"$f":"DATE($C$121,$D$121,$E$121) + TIME($F$121,0,0)","v":"1900-01-05T23:00:00"},{"$f":"IF(A478<'PV Data'!$H$10,0,SUMIFS('PV Data'!D:D,'PV Data'!A:A,MONTH(Conversions!A478),'PV Data'!B:B,DAY(Conversions!A478),'PV Data'!C:C,HOUR(Conversions!A478))/1000)","v":0},null,1,20,20]
[{"$f":"A478+TIME(0,15,0)","v":"1900-01-05T23:15:00"},{"$f":"B478","v":0},null,1,20,21]
[{"$f":"A479+TIME(0,15,0)","v":"1900-01-05T23:30:00"},{"$f":"B478","v":0},null,1,20,22]
[{"$f":"A480+TIME(0,15,0)","v":"1900-01-05T23:45:00"},{"$f":"B478","v":0},null,1,20,23]
[{"$f":"DATE($C$122,$D$122,$E$122) + TIME($F$122,0,0)","v":"1900-01-06"},{"$f":"IF(A482<'PV Data'!$H$10,0,SUMIFS('PV Data'!D:D,'PV Data'!A:A,MONTH(Conversions!A482),'PV Data'!B:B,DAY(Conversions!A482),'PV Data'!C:C,HOUR(Conversions!A482))/1000)","v":0},null,1,21,0]
[{"$f":"A482+TIME(0,15,0)","v":"1900-01-06T00:15:00"},{"$f":"B482","v":0},null,1,21,1]
[{"$f":"A483+TIME(0,15,0)","v":"1900-01-06T00:30:00"},{"$f":"B482","v":0},null,1,21,2]
[{"$f":"A484+TIME(0,15,0)","v":"1900-01-06T00:45:00"},{"$f":"B482","v":0},null,1,21,3]
[{"$f":"DATE($C$123,$D$123,$E$123) + TIME($F$123,0,0)","v":"1900-01-06T01:00:00"},{"$f":"IF(A486<'PV Data'!$H$10,0,SUMIFS('PV Data'!D:D,'PV Data'!A:A,MONTH(Conversions!A486),'PV Data'!B:B,DAY(Conversions!A486),'PV Data'!C:C,HOUR(Conversions!A486))/1000)","v":0},null,1,21,4]
[{"$f":"A486+TIME(0,15,0)","v":"1900-01-06T01:15:00"},{"$f":"B486","v":0},null,1,21,5]
[{"$f":"A487+TIME(0,15,0)","v":"1900-01-06T01:30:00"},{"$f":"B486","v":0},null,1,21,6]
[{"$f":"A488+TIME(0,15,0)","v":"1900-01-06T01:45:00"},{"$f":"B486","v":0},null,1,21,7]
[{"$f":"DATE($C$124,$D$124,$E$124) + TIME($F$124,0,0)","v":"1900-01-06T02:00:00"},{"$f":"IF(A490<'PV Data'!$H$10,0,SUMIFS('PV Data'!D:D,'PV Data'!A:A,MONTH(Conversions!A490),'PV Data'!B:B,DAY(Conversions!A490),'PV Data'!C:C,HOUR(Conversions!A490))/1000)","v":0},null,1,21,8]
[{"$f":"A490+TIME(0,15,0)","v":"1900-01-06T02:15:00"},{"$f":"B490","v":0},null,1,21,9]
[{"$f":"A491+TIME(0,15,0)","v":"1900-01-06T02:30:00"},{"$f":"B490","v":0},null,1,21,10]
[{"$f":"A492+TIME(0,15,0)","v":"1900-01-06T02:45:00"},{"$f":"B490","v":0},null,1,21,11]
[{"$f":"DATE($C$125,$D$125,$E$125) + TIME($F$125,0,0)","v":"1900-01-06T03:00:00"},{"$f":"IF(A494<'PV Data'!$H$10,0,SUMIFS('PV Data'!D:D,'PV Data'!A:A,MONTH(Conversions!A494),'PV Data'!B:B,DAY(Conversions!A494),'PV Data'!C:C,HOUR(Conversions!A494))/1000)","v":0},null,1,21,12]
[{"$f":"A494+TIME(0,15,0)","v":"1900-01-06T03:15:00"},{"$f":"B494","v":0},null,1,21,13]
[{"$f":"A495+TIME(0,15,0)","v":"1900-01-06T03:30:00"},{"$f":"B494","v":0},null,1,21,14]
[{"$f":"A496+TIME(0,15,0)","v":"1900-01-06T03:45:00"},{"$f":"B494","v":0},null,1,21,15]
[{"$f":"DATE($C$126,$D$126,$E$126) + TIME($F$126,0,0)","v":"1900-01-06T04:00:00"},{"$f":"IF(A498<'PV Data'!$H$10,0,SUMIFS('PV Data'!D:D,'PV Data'!A:A,MONTH(Conversions!A498),'PV Data'!B:B,DAY(Conversions!A498),'PV Data'!C:C,HOUR(Conversions!A498))/1000)","v":0},null,1,21,16]
[{"$f":"A498+TIME(0,15,0)","v":"1900-01-06T04:15:00"},{"$f":"B498","v":0},null,1,21,17]
[{"$f":"A499+TIME(0,15,0)","v":"1900-01-06T04:30:00"},{"$f":"B498","v":0},null,1,21,18]
[{"$f":"A500+TIME(0,15,0)","v":"1900-01-06T04:45:00"},{"$f":"B498","v":0},null,1,21,19]
[{"$f":"DATE($C$127,$D$127,$E$127) + TIME($F$127,0,0)","v":"1900-01-06T05:00:00"},{"$f":"IF(A502<'PV Data'!$H$10,0,SUMIFS('PV Data'!D:D,'PV Data'!A:A,MONTH(Conversions!A502),'PV Data'!B:B,DAY(Conversions!A502),'PV Data'!C:C,HOUR(Conversions!A502))/1000)","v":0},null,1,21,20]
[{"$f":"A502+TIME(0,15,0)","v":"1900-01-06T05:15:00"},{"$f":"B502","v":0},null,1,21,21]
[{"$f":"A503+TIME(0,15,0)","v":"1900-01-06T05:30:00"},{"$f":"B502","v":0},null,1,21,22]
[{"$f":"A504+TIME(0,15,0)","v":"1900-01-06T05:45:00"},{"$f":"B502","v":0},null,1,21,23]
[{"$f":"DATE($C$128,$D$128,$E$128) + TIME($F$128,0,0)","v":"1900-01-06T06:00:00"},{"$f":"IF(A506<'PV Data'!$H$10,0,SUMIFS('PV Data'!D:D,'PV Data'!A:A,MONTH(Conversions!A506),'PV Data'!B:B,DAY(Conversions!A506),'PV Data'!C:C,HOUR(Conversions!A506))/1000)","v":0},null,1,22,0]
[{"$f":"A506+TIME(0,15,0)","v":"1900-01-06T06:15:00"},{"$f":"B506","v":0},null,1,22,1]
[{"$f":"A507+TIME(0,15,0)","v":"1900-01-06T06:30:00"},{"$f":"B506","v":0},null,1,22,2]
[{"$f":"A508+TIME(0,15,0)","v":"1900-01-06T06:45:00"},{"$f":"B506","v":0},null,1,22,3]
[{"$f":"DATE($C$129,$D$129,$E$129) + TIME($F$129,0,0)","v":"1900-01-06T07:00:00"},{"$f":"IF(A510<'PV Data'!$H$10,0,SUMIFS('PV Data'!D:D,'PV Data'!A:A,MONTH(Conversions!A510),'PV Data'!B:B,DAY(Conversions!A510),'PV Data'!C:C,HOUR(Conversions!A510))/1000)","v":0},null,1,22,4]
[{"$f":"A510+TIME(0,15,0)","v":"1900-01-06T07:15:00"},{"$f":"B510","v":0},null,1,22,5]
[{"$f":"A511+TIME(0,15,0)","v":"1900-01-06T07:30:00"},{"$f":"B510","v":0},null,1,22,6]
[{"$f":"A512+TIME(0,15,0)","v":"1900-01-06T07:45:00"},{"$f":"B510","v":0},null,1,22,7]
[{"$f":"DATE($C$130,$D$130,$E$130) + TIME($F$130,0,0)","v":"1900-01-06T08:00:00"},{"$f":"IF(A514<'PV Data'!$H$10,0,SUMIFS('PV Data'!D:D,'PV Data'!A:A,MONTH(Conversions!A514),'PV Data'!B:B,DAY(Conversions!A514),'PV Data'!C:C,HOUR(Conversions!A514))/1000)","v":0},null,1,22,8]
[{"$f":"A514+TIME(0,15,0)","v":"1900-01-06T08:15:00"},{"$f":"B514","v":0},null,1,22,9]
[{"$f":"A515+TIME(0,15,0)","v":"1900-01-06T08:30:00"},{"$f":"B514","v":0},null,1,22,10]
[{"$f":"A516+TIME(0,15,0)","v":"1900-01-06T08:45:00"},{"$f":"B514","v":0},null,1,22,11]
[{"$f":"DATE($C$131,$D$131,$E$131) + TIME($F$131,0,0)","v":"1900-01-06T09:00:00"},{"$f":"IF(A518<'PV Data'!$H$10,0,SUMIFS('PV Data'!D:D,'PV Data'!A:A,MONTH(Conversions!A518),'PV Data'!B:B,DAY(Conversions!A518),'PV Data'!C:C,HOUR(Conversions!A518))/1000)","v":0},null,1,22,12]
[{"$f":"A518+TIME(0,15,0)","v":"1900-01-06T09:15:00"},{"$f":"B518","v":0},null,1,22,13]
[{"$f":"A519+TIME(0,15,0)","v":"1900-01-06T09:30:00"},{"$f":"B518","v":0},null,1,22,14]
[{"$f":"A520+TIME(0,15,0)","v":"1900-01-06T09:45:00"},{"$f":"B518","v":0},null,1,22,15]
[{"$f":"DATE($C$132,$D$132,$E$132) + TIME($F$132,0,0)","v":"1900-01-06T10:00:00"},{"$f":"IF(A522<'PV Data'!$H$10,0,SUMIFS('PV Data'!D:D,'PV Data'!A:A,MONTH(Conversions!A522),'PV Data'!B:B,DAY(Conversions!A522),'PV Data'!C:C,HOUR(Conversions!A522))/1000)","v":0},null,1,22,16]
[{"$f":"A522+TIME(0,15,0)","v":"1900-01-06T10:15:00"},{"$f":"B522","v":0},null,1,22,17]
[{"$f":"A523+TIME(0,15,0)","v":"1900-01-06T10:30:00"},{"$f":"B522","v":0},null,1,22,18]
[{"$f":"A524+TIME(0,15,0)","v":"1900-01-06T10:45:00"},{"$f":"B522","v":0},null,1,22,19]
[{"$f":"DATE($C$133,$D$133,$E$133) + TIME($F$133,0,0)","v":"1900-01-06T11:00:00"},{"$f":"IF(A526<'PV Data'!$H$10,0,SUMIFS('PV Data'!D:D,'PV Data'!A:A,MONTH(Conversions!A526),'PV Data'!B:B,DAY(Conversions!A526),'PV Data'!C:C,HOUR(Conversions!A526))/1000)","v":0},null,1,22,20]
[{"$f":"A526+TIME(0,15,0)","v":"1900-01-06T11:15:00"},{"$f":"B526","v":0},null,1,22,21]
[{"$f":"A527+TIME(0,15,0)","v":"1900-01-06T11:30:00"},{"$f":"B526","v":0},null,1,22,22]
[{"$f":"A528+TIME(0,15,0)","v":"1900-01-06T11:45:00"},{"$f":"B526","v":0},null,1,22,23]
[{"$f":"DATE($C$134,$D$134,$E$134) + TIME($F$134,0,0)","v":"1900-01-06T12:00:00"},{"$f":"IF(A530<'PV Data'!$H$10,0,SUMIFS('PV Data'!D:D,'PV Data'!A:A,MONTH(Conversions!A530),'PV Data'!B:B,DAY(Conversions!A530),'PV Data'!C:C,HOUR(Conversions!A530))/1000)","v":0},null,1,23,0]
[{"$f":"A530+TIME(0,15,0)","v":"1900-01-06T12:15:00"},{"$f":"B530","v":0},null,1,23,1]
[{"$f":"A531+TIME(0,15,0)","v":"1900-01-06T12:30:00"},{"$f":"B530","v":0},null,1,23,2]
[{"$f":"A532+TIME(0,15,0)","v":"1900-01-06T12:45:00"},{"$f":"B530","v":0},null,1,23,3]
[{"$f":"DATE($C$135,$D$135,$E$135) + TIME($F$135,0,0)","v":"1900-01-06T13:00:00"},{"$f":"IF(A534<'PV Data'!$H$10,0,SUMIFS('PV Data'!D:D,'PV Data'!A:A,MONTH(Conversions!A534),'PV Data'!B:B,DAY(Conversions!A534),'PV Data'!C:C,HOUR(Conversions!A534))/1000)","v":0},null,1,23,4]
[{"$f":"A534+TIME(0,15,0)","v":"1900-01-06T13:15:00"},{"$f":"B534","v":0},null,1,23,5]
[{"$f":"A535+TIME(0,15,0)","v":"1900-01-06T13:30:00"},{"$f":"B534","v":0},null,1,23,6]
[{"$f":"A536+TIME(0,15,0)","v":"1900-01-06T13:45:00"},{"$f":"B534","v":0},null,1,23,7]
[{"$f":"DATE($C$136,$D$136,$E$136) + TIME($F$136,0,0)","v":"1900-01-06T14:00:00"},{"$f":"IF(A538<'PV Data'!$H$10,0,SUMIFS('PV Data'!D:D,'PV Data'!A:A,MONTH(Conversions!A538),'PV Data'!B:B,DAY(Conversions!A538),'PV Data'!C:C,HOUR(Conversions!A538))/1000)","v":0},null,1,23,8]
[{"$f":"A538+TIME(0,15,0)","v":"1900-01-06T14:15:00"},{"$f":"B538","v":0},null,1,23,9]
[{"$f":"A539+TIME(0,15,0)","v":"1900-01-06T14:30:00"},{"$f":"B538","v":0},null,1,23,10]
[{"$f":"A540+TIME(0,15,0)","v":"1900-01-06T14:45:00"},{"$f":"B538","v":0},null,1,23,11]
[{"$f":"DATE($C$137,$D$137,$E$137) + TIME($F$137,0,0)","v":"1900-01-06T15:00:00"},{"$f":"IF(A542<'PV Data'!$H$10,0,SUMIFS('PV Data'!D:D,'PV Data'!A:A,MONTH(Conversions!A542),'PV Data'!B:B,DAY(Conversions!A542),'PV Data'!C:C,HOUR(Conversions!A542))/1000)","v":0},null,1,23,12]
[{"$f":"A542+TIME(0,15,0)","v":"1900-01-06T15:15:00"},{"$f":"B542","v":0},null,1,23,13]
[{"$f":"A543+TIME(0,15,0)","v":"1900-01-06T15:30:00"},{"$f":"B542","v":0},null,1,23,14]
[{"$f":"A544+TIME(0,15,0)","v":"1900-01-06T15:45:00"},{"$f":"B542","v":0},null,1,23,15]
[{"$f":"DATE($C$138,$D$138,$E$138) + TIME($F$138,0,0)","v":"1900-01-06T16:00:00"},{"$f":"IF(A546<'PV Data'!$H$10,0,SUMIFS('PV Data'!D:D,'PV Data'!A:A,MONTH(Conversions!A546),'PV Data'!B:B,DAY(Conversions!A546),'PV Data'!C:C,HOUR(Conversions!A546))/1000)","v":0},null,1,23,16]
[{"$f":"A546+TIME(0,15,0)","v":"1900-01-06T16:15:00"},{"$f":"B546","v":0},null,1,23,17]
[{"$f":"A547+TIME(0,15,0)","v":"1900-01-06T16:30:00"},{"$f":"B546","v":0},null,1,23,18]
[{"$f":"A548+TIME(0,15,0)","v":"1900-01-06T16:45:00"},{"$f":"B546","v":0},null,1,23,19]
[{"$f":"DATE($C$139,$D$139,$E$139) + TIME($F$139,0,0)","v":"1900-01-06T17:00:00"},{"$f":"IF(A550<'PV Data'!$H$10,0,SUMIFS('PV Data'!D:D,'PV Data'!A:A,MONTH(Conversions!A550),'PV Data'!B:B,DAY(Conversions!A550),'PV Data'!C:C,HOUR(Conversions!A550))/1000)","v":0},null,1,23,20]
[{"$f":"A550+TIME(0,15,0)","v":"1900-01-06T17:15:00"},{"$f":"B550","v":0},null,1,23,21]
[{"$f":"A551+TIME(0,15,0)","v":"1900-01-06T17:30:00"},{"$f":"B550","v":0},null,1,23,22]
[{"$f":"A552+TIME(0,15,0)","v":"1900-01-06T17:45:00"},{"$f":"B550","v":0},null,1,23,23]
[{"$f":"DATE($C$140,$D$140,$E$140) + TIME($F$140,0,0)","v":"1900-01-06T18:00:00"},{"$f":"IF(A554<'PV Data'!$H$10,0,SUMIFS('PV Data'!D:D,'PV Data'!A:A,MONTH(Conversions!A554),'PV Data'!B:B,DAY(Conversions!A554),'PV Data'!C:C,HOUR(Conversions!A554))/1000)","v":0},null,1,24,0]
[{"$f":"A554+TIME(0,15,0)","v":"1900-01-06T18:15:00"},{"$f":"B554","v":0},null,1,24,1]
[{"$f":"A555+TIME(0,15,0)","v":"1900-01-06T18:30:00"},{"$f":"B554","v":0},null,1,24,2]
[{"$f":"A556+TIME(0,15,0)","v":"1900-01-06T18:45:00"},{"$f":"B554","v":0},null,1,24,3]
[{"$f":"DATE($C$141,$D$141,$E$141) + TIME($F$141,0,0)","v":"1900-01-06T19:00:00"},{"$f":"IF(A558<'PV Data'!$H$10,0,SUMIFS('PV Data'!D:D,'PV Data'!A:A,MONTH(Conversions!A558),'PV Data'!B:B,DAY(Conversions!A558),'PV Data'!C:C,HOUR(Conversions!A558))/1000)","v":0},null,1,24,4]
[{"$f":"A558+TIME(0,15,0)","v":"1900-01-06T19:15:00"},{"$f":"B558","v":0},null,1,24,5]
[{"$f":"A559+TIME(0,15,0)","v":"1900-01-06T19:30:00"},{"$f":"B558","v":0},null,1,24,6]
[{"$f":"A560+TIME(0,15,0)","v":"1900-01-06T19:45:00"},{"$f":"B558","v":0},null,1,24,7]
[{"$f":"DATE($C$142,$D$142,$E$142) + TIME($F$142,0,0)","v":"1900-01-06T20:00:00"},{"$f":"IF(A562<'PV Data'!$H$10,0,SUMIFS('PV Data'!D:D,'PV Data'!A:A,MONTH(Conversions!A562),'PV Data'!B:B,DAY(Conversions!A562),'PV Data'!C:C,HOUR(Conversions!A562))/1000)","v":0},null,1,24,8]
[{"$f":"A562+TIME(0,15,0)","v":"1900-01-06T20:15:00"},{"$f":"B562","v":0},null,1,24,9]
[{"$f":"A563+TIME(0,15,0)","v":"1900-01-06T20:30:00"},{"$f":"B562","v":0},null,1,24,10]
[{"$f":"A564+TIME(0,15,0)","v":"1900-01-06T20:45:00"},{"$f":"B562","v":0},null,1,24,11]
[{"$f":"DATE($C$143,$D$143,$E$143) + TIME($F$143,0,0)","v":"1900-01-06T21:00:00"},{"$f":"IF(A566<'PV Data'!$H$10,0,SUMIFS('PV Data'!D:D,'PV Data'!A:A,MONTH(Conversions!A566),'PV Data'!B:B,DAY(Conversions!A566),'PV Data'!C:C,HOUR(Conversions!A566))/1000)","v":0},null,1,24,12]
[{"$f":"A566+TIME(0,15,0)","v":"1900-01-06T21:15:00"},{"$f":"B566","v":0},null,1,24,13]
[{"$f":"A567+TIME(0,15,0)","v":"1900-01-06T21:30:00"},{"$f":"B566","v":0},null,1,24,14]
[{"$f":"A568+TIME(0,15,0)","v":"1900-01-06T21:45:00"},{"$f":"B566","v":0},null,1,24,15]
[{"$f":"DATE($C$144,$D$144,$E$144) + TIME($F$144,0,0)","v":"1900-01-06T22:00:00"},{"$f":"IF(A570<'PV Data'!$H$10,0,SUMIFS('PV Data'!D:D,'PV Data'!A:A,MONTH(Conversions!A570),'PV Data'!B:B,DAY(Conversions!A570),'PV Data'!C:C,HOUR(Conversions!A570))/1000)","v":0},null,1,24,16]
[{"$f":"A570+TIME(0,15,0)","v":"1900-01-06T22:15:00"},{"$f":"B570","v":0},null,1,24,17]
[{"$f":"A571+TIME(0,15,0)","v":"1900-01-06T22:30:00"},{"$f":"B570","v":0},null,1,24,18]
[{"$f":"A572+TIME(0,15,0)","v":"1900-01-06T22:45:00"},{"$f":"B570","v":0},null,1,24,19]
[{"$f":"DATE($C$145,$D$145,$E$145) + TIME($F$145,0,0)","v":"1900-01-06T23:00:00"},{"$f":"IF(A574<'PV Data'!$H$10,0,SUMIFS('PV Data'!D:D,'PV Data'!A:A,MONTH(Conversions!A574),'PV Data'!B:B,DAY(Conversions!A574),'PV Data'!C:C,HOUR(Conversions!A574))/1000)","v":0},null,1,24,20]
[{"$f":"A574+TIME(0,15,0)","v":"1900-01-06T23:15:00"},{"$f":"B574","v":0},null,1,24,21]
[{"$f":"A575+TIME(0,15,0)","v":"1900-01-06T23:30:00"},{"$f":"B574","v":0},null,1,24,22]
[{"$f":"A576+TIME(0,15,0)","v":"1900-01-06T23:45:00"},{"$f":"B574","v":0},null,1,24,23]
[{"$f":"DATE($C$146,$D$146,$E$146) + TIME($F$146,0,0)","v":"1900-01-07"},{"$f":"IF(A578<'PV Data'!$H$10,0,SUMIFS('PV Data'!D:D,'PV Data'!A:A,MONTH(Conversions!A578),'PV Data'!B:B,DAY(Conversions!A578),'PV Data'!C:C,HOUR(Conversions!A578))/1000)","v":0},null,1,25,0]
[{"$f":"A578+TIME(0,15,0)","v":"1900-01-07T00:15:00"},{"$f":"B578","v":0},null,1,25,1]
[{"$f":"A579+TIME(0,15,0)","v":"1900-01-07T00:30:00"},{"$f":"B578","v":0},null,1,25,2]
[{"$f":"A580+TIME(0,15,0)","v":"1900-01-07T00:45:00"},{"$f":"B578","v":0},null,1,25,3]
[{"$f":"DATE($C$147,$D$147,$E$147) + TIME($F$147,0,0)","v":"1900-01-07T01:00:00"},{"$f":"IF(A582<'PV Data'!$H$10,0,SUMIFS('PV Data'!D:D,'PV Data'!A:A,MONTH(Conversions!A582),'PV Data'!B:B,DAY(Conversions!A582),'PV Data'!C:C,HOUR(Conversions!A582))/1000)","v":0},null,1,25,4]
[{"$f":"A582+TIME(0,15,0)","v":"1900-01-07T01:15:00"},{"$f":"B582","v":0},null,1,25,5]
[{"$f":"A583+TIME(0,15,0)","v":"1900-01-07T01:30:00"},{"$f":"B582","v":0},null,1,25,6]
[{"$f":"A584+TIME(0,15,0)","v":"1900-01-07T01:45:00"},{"$f":"B582","v":0},null,1,25,7]
[{"$f":"DATE($C$148,$D$148,$E$148) + TIME($F$148,0,0)","v":"1900-01-07T02:00:00"},{"$f":"IF(A586<'PV Data'!$H$10,0,SUMIFS('PV Data'!D:D,'PV Data'!A:A,MONTH(Conversions!A586),'PV Data'!B:B,DAY(Conversions!A586),'PV Data'!C:C,HOUR(Conversions!A586))/1000)","v":0},null,1,25,8]
[{"$f":"A586+TIME(0,15,0)","v":"1900-01-07T02:15:00"},{"$f":"B586","v":0},null,1,25,9]
[{"$f":"A587+TIME(0,15,0)","v":"1900-01-07T02:30:00"},{"$f":"B586","v":0},null,1,25,10]
[{"$f":"A588+TIME(0,15,0)","v":"1900-01-07T02:45:00"},{"$f":"B586","v":0},null,1,25,11]
[{"$f":"DATE($C$149,$D$149,$E$149) + TIME($F$149,0,0)","v":"1900-01-07T03:00:00"},{"$f":"IF(A590<'PV Data'!$H$10,0,SUMIFS('PV Data'!D:D,'PV Data'!A:A,MONTH(Conversions!A590),'PV Data'!B:B,DAY(Conversions!A590),'PV Data'!C:C,HOUR(Conversions!A590))/1000)","v":0},null,1,25,12]
[{"$f":"A590+TIME(0,15,0)","v":"1900-01-07T03:15:00"},{"$f":"B590","v":0},null,1,25,13]
[{"$f":"A591+TIME(0,15,0)","v":"1900-01-07T03:30:00"},{"$f":"B590","v":0},null,1,25,14]
[{"$f":"A592+TIME(0,15,0)","v":"1900-01-07T03:45:00"},{"$f":"B590","v":0},null,1,25,15]
[{"$f":"DATE($C$150,$D$150,$E$150) + TIME($F$150,0,0)","v":"1900-01-07T04:00:00"},{"$f":"IF(A594<'PV Data'!$H$10,0,SUMIFS('PV Data'!D:D,'PV Data'!A:A,MONTH(Conversions!A594),'PV Data'!B:B,DAY(Conversions!A594),'PV Data'!C:C,HOUR(Conversions!A594))/1000)","v":0},null,1,25,16]
[{"$f":"A594+TIME(0,15,0)","v":"1900-01-07T04:15:00"},{"$f":"B594","v":0},null,1,25,17]
[{"$f":"A595+TIME(0,15,0)","v":"1900-01-07T04:30:00"},{"$f":"B594","v":0},null,1,25,18]
[{"$f":"A596+TIME(0,15,0)","v":"1900-01-07T04:45:00"},{"$f":"B594","v":0},null,1,25,19]
[{"$f":"DATE($C$151,$D$151,$E$151) + TIME($F$151,0,0)","v":"1900-01-07T05:00:00"},{"$f":"IF(A598<'PV Data'!$H$10,0,SUMIFS('PV Data'!D:D,'PV Data'!A:A,MONTH(Conversions!A598),'PV Data'!B:B,DAY(Conversions!A598),'PV Data'!C:C,HOUR(Conversions!A598))/1000)","v":0},null,1,25,20]
[{"$f":"A598+TIME(0,15,0)","v":"1900-01-07T05:15:00"},{"$f":"B598","v":0},null,1,25,21]
[{"$f":"A599+TIME(0,15,0)","v":"1900-01-07T05:30:00"},{"$f":"B598","v":0},null,1,25,22]
[{"$f":"A600+TIME(0,15,0)","v":"1900-01-07T05:45:00"},{"$f":"B598","v":0},null,1,25,23]
[{"$f":"DATE($C$152,$D$152,$E$152) + TIME($F$152,0,0)","v":"1900-01-07T06:00:00"},{"$f":"IF(A602<'PV Data'!$H$10,0,SUMIFS('PV Data'!D:D,'PV Data'!A:A,MONTH(Conversions!A602),'PV Data'!B:B,DAY(Conversions!A602),'PV Data'!C:C,HOUR(Conversions!A602))/1000)","v":0},null,1,26,0]
[{"$f":"A602+TIME(0,15,0)","v":"1900-01-07T06:15:00"},{"$f":"B602","v":0},null,1,26,1]
[{"$f":"A603+TIME(0,15,0)","v":"1900-01-07T06:30:00"},{"$f":"B602","v":0},null,1,26,2]
[{"$f":"A604+TIME(0,15,0)","v":"1900-01-07T06:45:00"},{"$f":"B602","v":0},null,1,26,3]
[{"$f":"DATE($C$153,$D$153,$E$153) + TIME($F$153,0,0)","v":"1900-01-07T07:00:00"},{"$f":"IF(A606<'PV Data'!$H$10,0,SUMIFS('PV Data'!D:D,'PV Data'!A:A,MONTH(Conversions!A606),'PV Data'!B:B,DAY(Conversions!A606),'PV Data'!C:C,HOUR(Conversions!A606))/1000)","v":0},null,1,26,4]
[{"$f":"A606+TIME(0,15,0)","v":"1900-01-07T07:15:00"},{"$f":"B606","v":0},null,1,26,5]
[{"$f":"A607+TIME(0,15,0)","v":"1900-01-07T07:30:00"},{"$f":"B606","v":0},null,1,26,6]
[{"$f":"A608+TIME(0,15,0)","v":"1900-01-07T07:45:00"},{"$f":"B606","v":0},null,1,26,7]
[{"$f":"DATE($C$154,$D$154,$E$154) + TIME($F$154,0,0)","v":"1900-01-07T08:00:00"},{"$f":"IF(A610<'PV Data'!$H$10,0,SUMIFS('PV Data'!D:D,'PV Data'!A:A,MONTH(Conversions!A610),'PV Data'!B:B,DAY(Conversions!A610),'PV Data'!C:C,HOUR(Conversions!A610))/1000)","v":0},null,1,26,8]
[{"$f":"A610+TIME(0,15,0)","v":"1900-01-07T08:15:00"},{"$f":"B610","v":0},null,1,26,9]
[{"$f":"A611+TIME(0,15,0)","v":"1900-01-07T08:30:00"},{"$f":"B610","v":0},null,1,26,10]
[{"$f":"A612+TIME(0,15,0)","v":"1900-01-07T08:45:00"},{"$f":"B610","v":0},null,1,26,11]
[{"$f":"DATE($C$155,$D$155,$E$155) + TIME($F$155,0,0)","v":"1900-01-07T09:00:00"},{"$f":"IF(A614<'PV Data'!$H$10,0,SUMIFS('PV Data'!D:D,'PV Data'!A:A,MONTH(Conversions!A614),'PV Data'!B:B,DAY(Conversions!A614),'PV Data'!C:C,HOUR(Conversions!A614))/1000)","v":0},null,1,26,12]
[{"$f":"A614+TIME(0,15,0)","v":"1900-01-07T09:15:00"},{"$f":"B614","v":0},null,1,26,13]
[{"$f":"A615+TIME(0,15,0)","v":"1900-01-07T09:30:00"},{"$f":"B614","v":0},null,1,26,14]
[{"$f":"A616+TIME(0,15,0)","v":"1900-01-07T09:45:00"},{"$f":"B614","v":0},null,1,26,15]
[{"$f":"DATE($C$156,$D$156,$E$156) + TIME($F$156,0,0)","v":"1900-01-07T10:00:00"},{"$f":"IF(A618<'PV Data'!$H$10,0,SUMIFS('PV Data'!D:D,'PV Data'!A:A,MONTH(Conversions!A618),'PV Data'!B:B,DAY(Conversions!A618),'PV Data'!C:C,HOUR(Conversions!A618))/1000)","v":0},null,1,26,16]
[{"$f":"A618+TIME(0,15,0)","v":"1900-01-07T10:15:00"},{"$f":"B618","v":0},null,1,26,17]
[{"$f":"A619+TIME(0,15,0)","v":"1900-01-07T10:30:00"},{"$f":"B618","v":0},null,1,26,18]
[{"$f":"A620+TIME(0,15,0)","v":"1900-01-07T10:45:00"},{"$f":"B618","v":0},null,1,26,19]
[{"$f":"DATE($C$157,$D$157,$E$157) + TIME($F$157,0,0)","v":"1900-01-07T11:00:00"},{"$f":"IF(A622<'PV Data'!$H$10,0,SUMIFS('PV Data'!D:D,'PV Data'!A:A,MONTH(Conversions!A622),'PV Data'!B:B,DAY(Conversions!A622),'PV Data'!C:C,HOUR(Conversions!A622))/1000)","v":0},null,1,26,20]
[{"$f":"A622+TIME(0,15,0)","v":"1900-01-07T11:15:00"},{"$f":"B622","v":0},null,1,26,21]
[{"$f":"A623+TIME(0,15,0)","v":"1900-01-07T11:30:00"},{"$f":"B622","v":0},null,1,26,22]
[{"$f":"A624+TIME(0,15,0)","v":"1900-01-07T11:45:00"},{"$f":"B622","v":0},null,1,26,23]
[{"$f":"DATE($C$158,$D$158,$E$158) + TIME($F$158,0,0)","v":"1900-01-07T12:00:00"},{"$f":"IF(A626<'PV Data'!$H$10,0,SUMIFS('PV Data'!D:D,'PV Data'!A:A,MONTH(Conversions!A626),'PV Data'!B:B,DAY(Conversions!A626),'PV Data'!C:C,HOUR(Conversions!A626))/1000)","v":0},null,1,27,0]
[{"$f":"A626+TIME(0,15,0)","v":"1900-01-07T12:15:00"},{"$f":"B626","v":0},null,1,27,1]
[{"$f":"A627+TIME(0,15,0)","v":"1900-01-07T12:30:00"},{"$f":"B626","v":0},null,1,27,2]
[{"$f":"A628+TIME(0,15,0)","v":"1900-01-07T12:45:00"},{"$f":"B626","v":0},null,1,27,3]
[{"$f":"DATE($C$159,$D$159,$E$159) + TIME($F$159,0,0)","v":"1900-01-07T13:00:00"},{"$f":"IF(A630<'PV Data'!$H$10,0,SUMIFS('PV Data'!D:D,'PV Data'!A:A,MONTH(Conversions!A630),'PV Data'!B:B,DAY(Conversions!A630),'PV Data'!C:C,HOUR(Conversions!A630))/1000)","v":0},null,1,27,4]
[{"$f":"A630+TIME(0,15,0)","v":"1900-01-07T13:15:00"},{"$f":"B630","v":0},null,1,27,5]
[{"$f":"A631+TIME(0,15,0)","v":"1900-01-07T13:30:00"},{"$f":"B630","v":0},null,1,27,6]
[{"$f":"A632+TIME(0,15,0)","v":"1900-01-07T13:45:00"},{"$f":"B630","v":0},null,1,27,7]
[{"$f":"DATE($C$160,$D$160,$E$160) + TIME($F$160,0,0)","v":"1900-01-07T14:00:00"},{"$f":"IF(A634<'PV Data'!$H$10,0,SUMIFS('PV Data'!D:D,'PV Data'!A:A,MONTH(Conversions!A634),'PV Data'!B:B,DAY(Conversions!A634),'PV Data'!C:C,HOUR(Conversions!A634))/1000)","v":0},null,1,27,8]
[{"$f":"A634+TIME(0,15,0)","v":"1900-01-07T14:15:00"},{"$f":"B634","v":0},null,1,27,9]
[{"$f":"A635+TIME(0,15,0)","v":"1900-01-07T14:30:00"},{"$f":"B634","v":0},null,1,27,10]
[{"$f":"A636+TIME(0,15,0)","v":"1900-01-07T14:45:00"},{"$f":"B634","v":0},null,1,27,11]
[{"$f":"DATE($C$161,$D$161,$E$161) + TIME($F$161,0,0)","v":"1900-01-07T15:00:00"},{"$f":"IF(A638<'PV Data'!$H$10,0,SUMIFS('PV Data'!D:D,'PV Data'!A:A,MONTH(Conversions!A638),'PV Data'!B:B,DAY(Conversions!A638),'PV Data'!C:C,HOUR(Conversions!A638))/1000)","v":0},null,1,27,12]
[{"$f":"A638+TIME(0,15,0)","v":"1900-01-07T15:15:00"},{"$f":"B638","v":0},null,1,27,13]
[{"$f":"A639+TIME(0,15,0)","v":"1900-01-07T15:30:00"},{"$f":"B638","v":0},null,1,27,14]
[{"$f":"A640+TIME(0,15,0)","v":"1900-01-07T15:45:00"},{"$f":"B638","v":0},null,1,27,15]
[{"$f":"DATE($C$162,$D$162,$E$162) + TIME($F$162,0,0)","v":"1900-01-07T16:00:00"},{"$f":"IF(A642<'PV Data'!$H$10,0,SUMIFS('PV Data'!D:D,'PV Data'!A:A,MONTH(Conversions!A642),'PV Data'!B:B,DAY(Conversions!A642),'PV Data'!C:C,HOUR(Conversions!A642))/1000)","v":0},null,1,27,16]
[{"$f":"A642+TIME(0,15,0)","v":"1900-01-07T16:15:00"},{"$f":"B642","v":0},null,1,27,17]
[{"$f":"A643+TIME(0,15,0)","v":"1900-01-07T16:30:00"},{"$f":"B642","v":0},null,1,27,18]
[{"$f":"A644+TIME(0,15,0)","v":"1900-01-07T16:45:00"},{"$f":"B642","v":0},null,1,27,19]
[{"$f":"DATE($C$163,$D$163,$E$163) + TIME($F$163,0,0)","v":"1900-01-07T17:00:00"},{"$f":"IF(A646<'PV Data'!$H$10,0,SUMIFS('PV Data'!D:D,'PV Data'!A:A,MONTH(Conversions!A646),'PV Data'!B:B,DAY(Conversions!A646),'PV Data'!C:C,HOUR(Conversions!A646))/1000)","v":0},null,1,27,20]
[{"$f":"A646+TIME(0,15,0)","v":"1900-01-07T17:15:00"},{"$f":"B646","v":0},null,1,27,21]
[{"$f":"A647+TIME(0,15,0)","v":"1900-01-07T17:30:00"},{"$f":"B646","v":0},null,1,27,22]
[{"$f":"A648+TIME(0,15,0)","v":"1900-01-07T17:45:00"},{"$f":"B646","v":0},null,1,27,23]
[{"$f":"DATE($C$164,$D$164,$E$164) + TIME($F$164,0,0)","v":"1900-01-07T18:00:00"},{"$f":"IF(A650<'PV Data'!$H$10,0,SUMIFS('PV Data'!D:D,'PV Data'!A:A,MONTH(Conversions!A650),'PV Data'!B:B,DAY(Conversions!A650),'PV Data'!C:C,HOUR(Conversions!A650))/1000)","v":0},null,1,28,0]
[{"$f":"A650+TIME(0,15,0)","v":"1900-01-07T18:15:00"},{"$f":"B650","v":0},null,1,28,1]
[{"$f":"A651+TIME(0,15,0)","v":"1900-01-07T18:30:00"},{"$f":"B650","v":0},null,1,28,2]
[{"$f":"A652+TIME(0,15,0)","v":"1900-01-07T18:45:00"},{"$f":"B650","v":0},null,1,28,3]
[{"$f":"DATE($C$165,$D$165,$E$165) + TIME($F$165,0,0)","v":"1900-01-07T19:00:00"},{"$f":"IF(A654<'PV Data'!$H$10,0,SUMIFS('PV Data'!D:D,'PV Data'!A:A,MONTH(Conversions!A654),'PV Data'!B:B,DAY(Conversions!A654),'PV Data'!C:C,HOUR(Conversions!A654))/1000)","v":0},null,1,28,4]
[{"$f":"A654+TIME(0,15,0)","v":"1900-01-07T19:15:00"},{"$f":"B654","v":0},null,1,28,5]
[{"$f":"A655+TIME(0,15,0)","v":"1900-01-07T19:30:00"},{"$f":"B654","v":0},null,1,28,6]
[{"$f":"A656+TIME(0,15,0)","v":"1900-01-07T19:45:00"},{"$f":"B654","v":0},null,1,28,7]
[{"$f":"DATE($C$166,$D$166,$E$166) + TIME($F$166,0,0)","v":"1900-01-07T20:00:00"},{"$f":"IF(A658<'PV Data'!$H$10,0,SUMIFS('PV Data'!D:D,'PV Data'!A:A,MONTH(Conversions!A658),'PV Data'!B:B,DAY(Conversions!A658),'PV Data'!C:C,HOUR(Conversions!A658))/1000)","v":0},null,1,28,8]
[{"$f":"A658+TIME(0,15,0)","v":"1900-01-07T20:15:00"},{"$f":"B658","v":0},null,1,28,9]
[{"$f":"A659+TIME(0,15,0)","v":"1900-01-07T20:30:00"},{"$f":"B658","v":0},null,1,28,10]
[{"$f":"A660+TIME(0,15,0)","v":"1900-01-07T20:45:00"},{"$f":"B658","v":0},null,1,28,11]
[{"$f":"DATE($C$167,$D$167,$E$167) + TIME($F$167,0,0)","v":"1900-01-07T21:00:00"},{"$f":"IF(A662<'PV Data'!$H$10,0,SUMIFS('PV Data'!D:D,'PV Data'!A:A,MONTH(Conversions!A662),'PV Data'!B:B,DAY(Conversions!A662),'PV Data'!C:C,HOUR(Conversions!A662))/1000)","v":0},null,1,28,12]
[{"$f":"A662+TIME(0,15,0)","v":"1900-01-07T21:15:00"},{"$f":"B662","v":0},null,1,28,13]
[{"$f":"A663+TIME(0,15,0)","v":"1900-01-07T21:30:00"},{"$f":"B662","v":0},null,1,28,14]
[{"$f":"A664+TIME(0,15,0)","v":"1900-01-07T21:45:00"},{"$f":"B662","v":0},null,1,28,15]
[{"$f":"DATE($C$168,$D$168,$E$168) + TIME($F$168,0,0)","v":"1900-01-07T22:00:00"},{"$f":"IF(A666<'PV Data'!$H$10,0,SUMIFS('PV Data'!D:D,'PV Data'!A:A,MONTH(Conversions!A666),'PV Data'!B:B,DAY(Conversions!A666),'PV Data'!C:C,HOUR(Conversions!A666))/1000)","v":0},null,1,28,16]
[{"$f":"A666+TIME(0,15,0)","v":"1900-01-07T22:15:00"},{"$f":"B666","v":0},null,1,28,17]
[{"$f":"A667+TIME(0,15,0)","v":"1900-01-07T22:30:00"},{"$f":"B666","v":0},null,1,28,18]
[{"$f":"A668+TIME(0,15,0)","v":"1900-01-07T22:45:00"},{"$f":"B666","v":0},null,1,28,19]
[{"$f":"DATE($C$169,$D$169,$E$169) + TIME($F$169,0,0)","v":"1900-01-07T23:00:00"},{"$f":"IF(A670<'PV Data'!$H$10,0,SUMIFS('PV Data'!D:D,'PV Data'!A:A,MONTH(Conversions!A670),'PV Data'!B:B,DAY(Conversions!A670),'PV Data'!C:C,HOUR(Conversions!A670))/1000)","v":0},null,1,28,20]
[{"$f":"A670+TIME(0,15,0)","v":"1900-01-07T23:15:00"},{"$f":"B670","v":0},null,1,28,21]
[{"$f":"A671+TIME(0,15,0)","v":"1900-01-07T23:30:00"},{"$f":"B670","v":0},null,1,28,22]
[{"$f":"A672+TIME(0,15,0)","v":"1900-01-07T23:45:00"},{"$f":"B670","v":0},null,1,28,23]
[{"$f":"DATE($C$170,$D$170,$E$170) + TIME($F$170,0,0)","v":"1900-01-08"},{"$f":"IF(A674<'PV Data'!$H$10,0,SUMIFS('PV Data'!D:D,'PV Data'!A:A,MONTH(Conversions!A674),'PV Data'!B:B,DAY(Conversions!A674),'PV Data'!C:C,HOUR(Conversions!A674))/1000)","v":0},null,1,29,0]
[{"$f":"A674+TIME(0,15,0)","v":"1900-01-08T00:15:00"},{"$f":"B674","v":0},null,1,29,1]
[{"$f":"A675+TIME(0,15,0)","v":"1900-01-08T00:30:00"},{"$f":"B674","v":0},null,1,29,2]
[{"$f":"A676+TIME(0,15,0)","v":"1900-01-08T00:45:00"},{"$f":"B674","v":0},null,1,29,3]
[{"$f":"DATE($C$171,$D$171,$E$171) + TIME($F$171,0,0)","v":"1900-01-08T01:00:00"},{"$f":"IF(A678<'PV Data'!$H$10,0,SUMIFS('PV Data'!D:D,'PV Data'!A:A,MONTH(Conversions!A678),'PV Data'!B:B,DAY(Conversions!A678),'PV Data'!C:C,HOUR(Conversions!A678))/1000)","v":0},null,1,29,4]
[{"$f":"A678+TIME(0,15,0)","v":"1900-01-08T01:15:00"},{"$f":"B678","v":0},null,1,29,5]
[{"$f":"A679+TIME(0,15,0)","v":"1900-01-08T01:30:00"},{"$f":"B678","v":0},null,1,29,6]
[{"$f":"A680+TIME(0,15,0)","v":"1900-01-08T01:45:00"},{"$f":"B678","v":0},null,1,29,7]
[{"$f":"DATE($C$172,$D$172,$E$172) + TIME($F$172,0,0)","v":"1900-01-08T02:00:00"},{"$f":"IF(A682<'PV Data'!$H$10,0,SUMIFS('PV Data'!D:D,'PV Data'!A:A,MONTH(Conversions!A682),'PV Data'!B:B,DAY(Conversions!A682),'PV Data'!C:C,HOUR(Conversions!A682))/1000)","v":0},null,1,29,8]
[{"$f":"A682+TIME(0,15,0)","v":"1900-01-08T02:15:00"},{"$f":"B682","v":0},null,1,29,9]
[{"$f":"A683+TIME(0,15,0)","v":"1900-01-08T02:30:00"},{"$f":"B682","v":0},null,1,29,10]
[{"$f":"A684+TIME(0,15,0)","v":"1900-01-08T02:45:00"},{"$f":"B682","v":0},null,1,29,11]
[{"$f":"DATE($C$173,$D$173,$E$173) + TIME($F$173,0,0)","v":"1900-01-08T03:00:00"},{"$f":"IF(A686<'PV Data'!$H$10,0,SUMIFS('PV Data'!D:D,'PV Data'!A:A,MONTH(Conversions!A686),'PV Data'!B:B,DAY(Conversions!A686),'PV Data'!C:C,HOUR(Conversions!A686))/1000)","v":0},null,1,29,12]
[{"$f":"A686+TIME(0,15,0)","v":"1900-01-08T03:15:00"},{"$f":"B686","v":0},null,1,29,13]
[{"$f":"A687+TIME(0,15,0)","v":"1900-01-08T03:30:00"},{"$f":"B686","v":0},null,1,29,14]
[{"$f":"A688+TIME(0,15,0)","v":"1900-01-08T03:45:00"},{"$f":"B686","v":0},null,1,29,15]
[{"$f":"DATE($C$174,$D$174,$E$174) + TIME($F$174,0,0)","v":"1900-01-08T04:00:00"},{"$f":"IF(A690<'PV Data'!$H$10,0,SUMIFS('PV Data'!D:D,'PV Data'!A:A,MONTH(Conversions!A690),'PV Data'!B:B,DAY(Conversions!A690),'PV Data'!C:C,HOUR(Conversions!A690))/1000)","v":0},null,1,29,16]
[{"$f":"A690+TIME(0,15,0)","v":"1900-01-08T04:15:00"},{"$f":"B690","v":0},null,1,29,17]
[{"$f":"A691+TIME(0,15,0)","v":"1900-01-08T04:30:00"},{"$f":"B690","v":0},null,1,29,18]
[{"$f":"A692+TIME(0,15,0)","v":"1900-01-08T04:45:00"},{"$f":"B690","v":0},null,1,29,19]
[{"$f":"DATE($C$175,$D$175,$E$175) + TIME($F$175,0,0)","v":"1900-01-08T05:00:00"},{"$f":"IF(A694<'PV Data'!$H$10,0,SUMIFS('PV Data'!D:D,'PV Data'!A:A,MONTH(Conversions!A694),'PV Data'!B:B,DAY(Conversions!A694),'PV Data'!C:C,HOUR(Conversions!A694))/1000)","v":0},null,1,29,20]
[{"$f":"A694+TIME(0,15,0)","v":"1900-01-08T05:15:00"},{"$f":"B694","v":0},null,1,29,21]
[{"$f":"A695+TIME(0,15,0)","v":"1900-01-08T05:30:00"},{"$f":"B694","v":0},null,1,29,22]
[{"$f":"A696+TIME(0,15,0)","v":"1900-01-08T05:45:00"},{"$f":"B694","v":0},null,1,29,23]
[{"$f":"DATE($C$176,$D$176,$E$176) + TIME($F$176,0,0)","v":"1900-01-08T06:00:00"},{"$f":"IF(A698<'PV Data'!$H$10,0,SUMIFS('PV Data'!D:D,'PV Data'!A:A,MONTH(Conversions!A698),'PV Data'!B:B,DAY(Conversions!A698),'PV Data'!C:C,HOUR(Conversions!A698))/1000)","v":0},null,1,30,0]
[{"$f":"A698+TIME(0,15,0)","v":"1900-01-08T06:15:00"},{"$f":"B698","v":0},null,1,30,1]
[{"$f":"A699+TIME(0,15,0)","v":"1900-01-08T06:30:00"},{"$f":"B698","v":0},null,1,30,2]
[{"$f":"A700+TIME(0,15,0)","v":"1900-01-08T06:45:00"},{"$f":"B698","v":0},null,1,30,3]
[{"$f":"DATE($C$177,$D$177,$E$177) + TIME($F$177,0,0)","v":"1900-01-08T07:00:00"},{"$f":"IF(A702<'PV Data'!$H$10,0,SUMIFS('PV Data'!D:D,'PV Data'!A:A,MONTH(Conversions!A702),'PV Data'!B:B,DAY(Conversions!A702),'PV Data'!C:C,HOUR(Conversions!A702))/1000)","v":0},null,1,30,4]
[{"$f":"A702+TIME(0,15,0)","v":"1900-01-08T07:15:00"},{"$f":"B702","v":0},null,1,30,5]
[{"$f":"A703+TIME(0,15,0)","v":"1900-01-08T07:30:00"},{"$f":"B702","v":0},null,1,30,6]
[{"$f":"A704+TIME(0,15,0)","v":"1900-01-08T07:45:00"},{"$f":"B702","v":0},null,1,30,7]
[{"$f":"DATE($C$178,$D$178,$E$178) + TIME($F$178,0,0)","v":"1900-01-08T08:00:00"},{"$f":"IF(A706<'PV Data'!$H$10,0,SUMIFS('PV Data'!D:D,'PV Data'!A:A,MONTH(Conversions!A706),'PV Data'!B:B,DAY(Conversions!A706),'PV Data'!C:C,HOUR(Conversions!A706))/1000)","v":0},null,1,30,8]
[{"$f":"A706+TIME(0,15,0)","v":"1900-01-08T08:15:00"},{"$f":"B706","v":0},null,1,30,9]
[{"$f":"A707+TIME(0,15,0)","v":"1900-01-08T08:30:00"},{"$f":"B706","v":0},null,1,30,10]
[{"$f":"A708+TIME(0,15,0)","v":"1900-01-08T08:45:00"},{"$f":"B706","v":0},null,1,30,11]
[{"$f":"DATE($C$179,$D$179,$E$179) + TIME($F$179,0,0)","v":"1900-01-08T09:00:00"},{"$f":"IF(A710<'PV Data'!$H$10,0,SUMIFS('PV Data'!D:D,'PV Data'!A:A,MONTH(Conversions!A710),'PV Data'!B:B,DAY(Conversions!A710),'PV Data'!C:C,HOUR(Conversions!A710))/1000)","v":0},null,1,30,12]
[{"$f":"A710+TIME(0,15,0)","v":"1900-01-08T09:15:00"},{"$f":"B710","v":0},null,1,30,13]
[{"$f":"A711+TIME(0,15,0)","v":"1900-01-08T09:30:00"},{"$f":"B710","v":0},null,1,30,14]
[{"$f":"A712+TIME(0,15,0)","v":"1900-01-08T09:45:00"},{"$f":"B710","v":0},null,1,30,15]
[{"$f":"DATE($C$180,$D$180,$E$180) + TIME($F$180,0,0)","v":"1900-01-08T10:00:00"},{"$f":"IF(A714<'PV Data'!$H$10,0,SUMIFS('PV Data'!D:D,'PV Data'!A:A,MONTH(Conversions!A714),'PV Data'!B:B,DAY(Conversions!A714),'PV Data'!C:C,HOUR(Conversions!A714))/1000)","v":0},null,1,30,16]
[{"$f":"A714+TIME(0,15,0)","v":"1900-01-08T10:15:00"},{"$f":"B714","v":0},null,1,30,17]
[{"$f":"A715+TIME(0,15,0)","v":"1900-01-08T10:30:00"},{"$f":"B714","v":0},null,1,30,18]
[{"$f":"A716+TIME(0,15,0)","v":"1900-01-08T10:45:00"},{"$f":"B714","v":0},null,1,30,19]
[{"$f":"DATE($C$181,$D$181,$E$181) + TIME($F$181,0,0)","v":"1900-01-08T11:00:00"},{"$f":"IF(A718<'PV Data'!$H$10,0,SUMIFS('PV Data'!D:D,'PV Data'!A:A,MONTH(Conversions!A718),'PV Data'!B:B,DAY(Conversions!A718),'PV Data'!C:C,HOUR(Conversions!A718))/1000)","v":0},null,1,30,20]
[{"$f":"A718+TIME(0,15,0)","v":"1900-01-08T11:15:00"},{"$f":"B718","v":0},null,1,30,21]
[{"$f":"A719+TIME(0,15,0)","v":"1900-01-08T11:30:00"},{"$f":"B718","v":0},null,1,30,22]
[{"$f":"A720+TIME(0,15,0)","v":"1900-01-08T11:45:00"},{"$f":"B718","v":0},null,1,30,23]
[{"$f":"DATE($C$182,$D$182,$E$182) + TIME($F$182,0,0)","v":"1900-01-08T12:00:00"},{"$f":"IF(A722<'PV Data'!$H$10,0,SUMIFS('PV Data'!D:D,'PV Data'!A:A,MONTH(Conversions!A722),'PV Data'!B:B,DAY(Conversions!A722),'PV Data'!C:C,HOUR(Conversions!A722))/1000)","v":0},null,1,31,0]
[{"$f":"A722+TIME(0,15,0)","v":"1900-01-08T12:15:00"},{"$f":"B722","v":0},null,1,31,1]
[{"$f":"A723+TIME(0,15,0)","v":"1900-01-08T12:30:00"},{"$f":"B722","v":0},null,1,31,2]
[{"$f":"A724+TIME(0,15,0)","v":"1900-01-08T12:45:00"},{"$f":"B722","v":0},null,1,31,3]
[{"$f":"DATE($C$183,$D$183,$E$183) + TIME($F$183,0,0)","v":"1900-01-08T13:00:00"},{"$f":"IF(A726<'PV Data'!$H$10,0,SUMIFS('PV Data'!D:D,'PV Data'!A:A,MONTH(Conversions!A726),'PV Data'!B:B,DAY(Conversions!A726),'PV Data'!C:C,HOUR(Conversions!A726))/1000)","v":0},null,1,31,4]
[{"$f":"A726+TIME(0,15,0)","v":"1900-01-08T13:15:00"},{"$f":"B726","v":0},null,1,31,5]
[{"$f":"A727+TIME(0,15,0)","v":"1900-01-08T13:30:00"},{"$f":"B726","v":0},null,1,31,6]
[{"$f":"A728+TIME(0,15,0)","v":"1900-01-08T13:45:00"},{"$f":"B726","v":0},null,1,31,7]
[{"$f":"DATE($C$184,$D$184,$E$184) + TIME($F$184,0,0)","v":"1900-01-08T14:00:00"},{"$f":"IF(A730<'PV Data'!$H$10,0,SUMIFS('PV Data'!D:D,'PV Data'!A:A,MONTH(Conversions!A730),'PV Data'!B:B,DAY(Conversions!A730),'PV Data'!C:C,HOUR(Conversions!A730))/1000)","v":0},null,1,31,8]
[{"$f":"A730+TIME(0,15,0)","v":"1900-01-08T14:15:00"},{"$f":"B730","v":0},null,1,31,9]
[{"$f":"A731+TIME(0,15,0)","v":"1900-01-08T14:30:00"},{"$f":"B730","v":0},null,1,31,10]
[{"$f":"A732+TIME(0,15,0)","v":"1900-01-08T14:45:00"},{"$f":"B730","v":0},null,1,31,11]
[{"$f":"DATE($C$185,$D$185,$E$185) + TIME($F$185,0,0)","v":"1900-01-08T15:00:00"},{"$f":"IF(A734<'PV Data'!$H$10,0,SUMIFS('PV Data'!D:D,'PV Data'!A:A,MONTH(Conversions!A734),'PV Data'!B:B,DAY(Conversions!A734),'PV Data'!C:C,HOUR(Conversions!A734))/1000)","v":0},null,1,31,12]
[{"$f":"A734+TIME(0,15,0)","v":"1900-01-08T15:15:00"},{"$f":"B734","v":0},null,1,31,13]
[{"$f":"A735+TIME(0,15,0)","v":"1900-01-08T15:30:00"},{"$f":"B734","v":0},null,1,31,14]
[{"$f":"A736+TIME(0,15,0)","v":"1900-01-08T15:45:00"},{"$f":"B734","v":0},null,1,31,15]
[{"$f":"DATE($C$186,$D$186,$E$186) + TIME($F$186,0,0)","v":"1900-01-08T16:00:00"},{"$f":"IF(A738<'PV Data'!$H$10,0,SUMIFS('PV Data'!D:D,'PV Data'!A:A,MONTH(Conversions!A738),'PV Data'!B:B,DAY(Conversions!A738),'PV Data'!C:C,HOUR(Conversions!A738))/1000)","v":0},null,1,31,16]
[{"$f":"A738+TIME(0,15,0)","v":"1900-01-08T16:15:00"},{"$f":"B738","v":0},null,1,31,17]
[{"$f":"A739+TIME(0,15,0)","v":"1900-01-08T16:30:00"},{"$f":"B738","v":0},null,1,31,18]
[{"$f":"A740+TIME(0,15,0)","v":"1900-01-08T16:45:00"},{"$f":"B738","v":0},null,1,31,19]
[{"$f":"DATE($C$187,$D$187,$E$187) + TIME($F$187,0,0)","v":"1900-01-08T17:00:00"},{"$f":"IF(A742<'PV Data'!$H$10,0,SUMIFS('PV Data'!D:D,'PV Data'!A:A,MONTH(Conversions!A742),'PV Data'!B:B,DAY(Conversions!A742),'PV Data'!C:C,HOUR(Conversions!A742))/1000)","v":0},null,1,31,20]
[{"$f":"A742+TIME(0,15,0)","v":"1900-01-08T17:15:00"},{"$f":"B742","v":0},null,1,31,21]
[{"$f":"A743+TIME(0,15,0)","v":"1900-01-08T17:30:00"},{"$f":"B742","v":0},null,1,31,22]
[{"$f":"A744+TIME(0,15,0)","v":"1900-01-08T17:45:00"},{"$f":"B742","v":0},null,1,31,23]
[{"$f":"DATE($C$188,$D$188,$E$188) + TIME($F$188,0,0)","v":"1900-01-08T18:00:00"},{"$f":"IF(A746<'PV Data'!$H$10,0,SUMIFS('PV Data'!D:D,'PV Data'!A:A,MONTH(Conversions!A746),'PV Data'!B:B,DAY(Conversions!A746),'PV Data'!C:C,HOUR(Conversions!A746))/1000)","v":0},null,2,1,0]
[{"$f":"A746+TIME(0,15,0)","v":"1900-01-08T18:15:00"},{"$f":"B746","v":0},null,2,1,1]
[{"$f":"A747+TIME(0,15,0)","v":"1900-01-08T18:30:00"},{"$f":"B746","v":0},null,2,1,2]
[{"$f":"A748+TIME(0,15,0)","v":"1900-01-08T18:45:00"},{"$f":"B746","v":0},null,2,1,3]
[{"$f":"DATE($C$189,$D$189,$E$189) + TIME($F$189,0,0)","v":"1900-01-08T19:00:00"},{"$f":"IF(A750<'PV Data'!$H$10,0,SUMIFS('PV Data'!D:D,'PV Data'!A:A,MONTH(Conversions!A750),'PV Data'!B:B,DAY(Conversions!A750),'PV Data'!C:C,HOUR(Conversions!A750))/1000)","v":0},null,2,1,4]
[{"$f":"A750+TIME(0,15,0)","v":"1900-01-08T19:15:00"},{"$f":"B750","v":0},null,2,1,5]
[{"$f":"A751+TIME(0,15,0)","v":"1900-01-08T19:30:00"},{"$f":"B750","v":0},null,2,1,6]
[{"$f":"A752+TIME(0,15,0)","v":"1900-01-08T19:45:00"},{"$f":"B750","v":0},null,2,1,7]
[{"$f":"DATE($C$190,$D$190,$E$190) + TIME($F$190,0,0)","v":"1900-01-08T20:00:00"},{"$f":"IF(A754<'PV Data'!$H$10,0,SUMIFS('PV Data'!D:D,'PV Data'!A:A,MONTH(Conversions!A754),'PV Data'!B:B,DAY(Conversions!A754),'PV Data'!C:C,HOUR(Conversions!A754))/1000)","v":0},null,2,1,8]
[{"$f":"A754+TIME(0,15,0)","v":"1900-01-08T20:15:00"},{"$f":"B754","v":0},null,2,1,9]
[{"$f":"A755+TIME(0,15,0)","v":"1900-01-08T20:30:00"},{"$f":"B754","v":0},null,2,1,10]
[{"$f":"A756+TIME(0,15,0)","v":"1900-01-08T20:45:00"},{"$f":"B754","v":0},null,2,1,11]
[{"$f":"DATE($C$191,$D$191,$E$191) + TIME($F$191,0,0)","v":"1900-01-08T21:00:00"},{"$f":"IF(A758<'PV Data'!$H$10,0,SUMIFS('PV Data'!D:D,'PV Data'!A:A,MONTH(Conversions!A758),'PV Data'!B:B,DAY(Conversions!A758),'PV Data'!C:C,HOUR(Conversions!A758))/1000)","v":0},null,2,1,12]
[{"$f":"A758+TIME(0,15,0)","v":"1900-01-08T21:15:00"},{"$f":"B758","v":0},null,2,1,13]
[{"$f":"A759+TIME(0,15,0)","v":"1900-01-08T21:30:00"},{"$f":"B758","v":0},null,2,1,14]
[{"$f":"A760+TIME(0,15,0)","v":"1900-01-08T21:45:00"},{"$f":"B758","v":0},null,2,1,15]
[{"$f":"DATE($C$192,$D$192,$E$192) + TIME($F$192,0,0)","v":"1900-01-08T22:00:00"},{"$f":"IF(A762<'PV Data'!$H$10,0,SUMIFS('PV Data'!D:D,'PV Data'!A:A,MONTH(Conversions!A762),'PV Data'!B:B,DAY(Conversions!A762),'PV Data'!C:C,HOUR(Conversions!A762))/1000)","v":0},null,2,1,16]
[{"$f":"A762+TIME(0,15,0)","v":"1900-01-08T22:15:00"},{"$f":"B762","v":0},null,2,1,17]
[{"$f":"A763+TIME(0,15,0)","v":"1900-01-08T22:30:00"},{"$f":"B762","v":0},null,2,1,18]
[{"$f":"A764+TIME(0,15,0)","v":"1900-01-08T22:45:00"},{"$f":"B762","v":0},null,2,1,19]
[{"$f":"DATE($C$193,$D$193,$E$193) + TIME($F$193,0,0)","v":"1900-01-08T23:00:00"},{"$f":"IF(A766<'PV Data'!$H$10,0,SUMIFS('PV Data'!D:D,'PV Data'!A:A,MONTH(Conversions!A766),'PV Data'!B:B,DAY(Conversions!A766),'PV Data'!C:C,HOUR(Conversions!A766))/1000)","v":0},null,2,1,20]
[{"$f":"A766+TIME(0,15,0)","v":"1900-01-08T23:15:00"},{"$f":"B766","v":0},null,2,1,21]
[{"$f":"A767+TIME(0,15,0)","v":"1900-01-08T23:30:00"},{"$f":"B766","v":0},null,2,1,22]
[{"$f":"A768+TIME(0,15,0)","v":"1900-01-08T23:45:00"},{"$f":"B766","v":0},null,2,1,23]
[{"$f":"DATE($C$194,$D$194,$E$194) + TIME($F$194,0,0)","v":"1900-01-09"},{"$f":"IF(A770<'PV Data'!$H$10,0,SUMIFS('PV Data'!D:D,'PV Data'!A:A,MONTH(Conversions!A770),'PV Data'!B:B,DAY(Conversions!A770),'PV Data'!C:C,HOUR(Conversions!A770))/1000)","v":0},null,2,2,0]
[{"$f":"A770+TIME(0,15,0)","v":"1900-01-09T00:15:00"},{"$f":"B770","v":0},null,2,2,1]
[{"$f":"A771+TIME(0,15,0)","v":"1900-01-09T00:30:00"},{"$f":"B770","v":0},null,2,2,2]
[{"$f":"A772+TIME(0,15,0)","v":"1900-01-09T00:45:00"},{"$f":"B770","v":0},null,2,2,3]
[{"$f":"DATE($C$195,$D$195,$E$195) + TIME($F$195,0,0)","v":"1900-01-09T01:00:00"},{"$f":"IF(A774<'PV Data'!$H$10,0,SUMIFS('PV Data'!D:D,'PV Data'!A:A,MONTH(Conversions!A774),'PV Data'!B:B,DAY(Conversions!A774),'PV Data'!C:C,HOUR(Conversions!A774))/1000)","v":0},null,2,2,4]
[{"$f":"A774+TIME(0,15,0)","v":"1900-01-09T01:15:00"},{"$f":"B774","v":0},null,2,2,5]
[{"$f":"A775+TIME(0,15,0)","v":"1900-01-09T01:30:00"},{"$f":"B774","v":0},null,2,2,6]
[{"$f":"A776+TIME(0,15,0)","v":"1900-01-09T01:45:00"},{"$f":"B774","v":0},null,2,2,7]
[{"$f":"DATE($C$196,$D$196,$E$196) + TIME($F$196,0,0)","v":"1900-01-09T02:00:00"},{"$f":"IF(A778<'PV Data'!$H$10,0,SUMIFS('PV Data'!D:D,'PV Data'!A:A,MONTH(Conversions!A778),'PV Data'!B:B,DAY(Conversions!A778),'PV Data'!C:C,HOUR(Conversions!A778))/1000)","v":0},null,2,2,8]
[{"$f":"A778+TIME(0,15,0)","v":"1900-01-09T02:15:00"},{"$f":"B778","v":0},null,2,2,9]
[{"$f":"A779+TIME(0,15,0)","v":"1900-01-09T02:30:00"},{"$f":"B778","v":0},null,2,2,10]
[{"$f":"A780+TIME(0,15,0)","v":"1900-01-09T02:45:00"},{"$f":"B778","v":0},null,2,2,11]
[{"$f":"DATE($C$197,$D$197,$E$197) + TIME($F$197,0,0)","v":"1900-01-09T03:00:00"},{"$f":"IF(A782<'PV Data'!$H$10,0,SUMIFS('PV Data'!D:D,'PV Data'!A:A,MONTH(Conversions!A782),'PV Data'!B:B,DAY(Conversions!A782),'PV Data'!C:C,HOUR(Conversions!A782))/1000)","v":0},null,2,2,12]
[{"$f":"A782+TIME(0,15,0)","v":"1900-01-09T03:15:00"},{"$f":"B782","v":0},null,2,2,13]
[{"$f":"A783+TIME(0,15,0)","v":"1900-01-09T03:30:00"},{"$f":"B782","v":0},null,2,2,14]
[{"$f":"A784+TIME(0,15,0)","v":"1900-01-09T03:45:00"},{"$f":"B782","v":0},null,2,2,15]
[{"$f":"DATE($C$198,$D$198,$E$198) + TIME($F$198,0,0)","v":"1900-01-09T04:00:00"},{"$f":"IF(A786<'PV Data'!$H$10,0,SUMIFS('PV Data'!D:D,'PV Data'!A:A,MONTH(Conversions!A786),'PV Data'!B:B,DAY(Conversions!A786),'PV Data'!C:C,HOUR(Conversions!A786))/1000)","v":0},null,2,2,16]
[{"$f":"A786+TIME(0,15,0)","v":"1900-01-09T04:15:00"},{"$f":"B786","v":0},null,2,2,17]
[{"$f":"A787+TIME(0,15,0)","v":"1900-01-09T04:30:00"},{"$f":"B786","v":0},null,2,2,18]
[{"$f":"A788+TIME(0,15,0)","v":"1900-01-09T04:45:00"},{"$f":"B786","v":0},null,2,2,19]
[{"$f":"DATE($C$199,$D$199,$E$199) + TIME($F$199,0,0)","v":"1900-01-09T05:00:00"},{"$f":"IF(A790<'PV Data'!$H$10,0,SUMIFS('PV Data'!D:D,'PV Data'!A:A,MONTH(Conversions!A790),'PV Data'!B:B,DAY(Conversions!A790),'PV Data'!C:C,HOUR(Conversions!A790))/1000)","v":0},null,2,2,20]
[{"$f":"A790+TIME(0,15,0)","v":"1900-01-09T05:15:00"},{"$f":"B790","v":0},null,2,2,21]
[{"$f":"A791+TIME(0,15,0)","v":"1900-01-09T05:30:00"},{"$f":"B790","v":0},null,2,2,22]
[{"$f":"A792+TIME(0,15,0)","v":"1900-01-09T05:45:00"},{"$f":"B790","v":0},null,2,2,23]
[{"$f":"DATE($C$200,$D$200,$E$200) + TIME($F$200,0,0)","v":"1900-01-09T06:00:00"},{"$f":"IF(A794<'PV Data'!$H$10,0,SUMIFS('PV Data'!D:D,'PV Data'!A:A,MONTH(Conversions!A794),'PV Data'!B:B,DAY(Conversions!A794),'PV Data'!C:C,HOUR(Conversions!A794))/1000)","v":0},null,2,3,0]
[{"$f":"A794+TIME(0,15,0)","v":"1900-01-09T06:15:00"},{"$f":"B794","v":0},null,2,3,1]
[{"$f":"A795+TIME(0,15,0)","v":"1900-01-09T06:30:00"},{"$f":"B794","v":0},null,2,3,2]
[{"$f":"A796+TIME(0,15,0)","v":"1900-01-09T06:45:00"},{"$f":"B794","v":0},null,2,3,3]
[{"$f":"DATE($C$201,$D$201,$E$201) + TIME($F$201,0,0)","v":"1900-01-09T07:00:00"},{"$f":"IF(A798<'PV Data'!$H$10,0,SUMIFS('PV Data'!D:D,'PV Data'!A:A,MONTH(Conversions!A798),'PV Data'!B:B,DAY(Conversions!A798),'PV Data'!C:C,HOUR(Conversions!A798))/1000)","v":0},null,2,3,4]
[{"$f":"A798+TIME(0,15,0)","v":"1900-01-09T07:15:00"},{"$f":"B798","v":0},null,2,3,5]
[{"$f":"A799+TIME(0,15,0)","v":"1900-01-09T07:30:00"},{"$f":"B798","v":0},null,2,3,6]
[{"$f":"A800+TIME(0,15,0)","v":"1900-01-09T07:45:00"},{"$f":"B798","v":0},null,2,3,7]
[{"$f":"DATE($C$202,$D$202,$E$202) + TIME($F$202,0,0)","v":"1900-01-09T08:00:00"},{"$f":"IF(A802<'PV Data'!$H$10,0,SUMIFS('PV Data'!D:D,'PV Data'!A:A,MONTH(Conversions!A802),'PV Data'!B:B,DAY(Conversions!A802),'PV Data'!C:C,HOUR(Conversions!A802))/1000)","v":0},null,2,3,8]
[{"$f":"A802+TIME(0,15,0)","v":"1900-01-09T08:15:00"},{"$f":"B802","v":0},null,2,3,9]
[{"$f":"A803+TIME(0,15,0)","v":"1900-01-09T08:30:00"},{"$f":"B802","v":0},null,2,3,10]
[{"$f":"A804+TIME(0,15,0)","v":"1900-01-09T08:45:00"},{"$f":"B802","v":0},null,2,3,11]
[{"$f":"DATE($C$203,$D$203,$E$203) + TIME($F$203,0,0)","v":"1900-01-09T09:00:00"},{"$f":"IF(A806<'PV Data'!$H$10,0,SUMIFS('PV Data'!D:D,'PV Data'!A:A,MONTH(Conversions!A806),'PV Data'!B:B,DAY(Conversions!A806),'PV Data'!C:C,HOUR(Conversions!A806))/1000)","v":0},null,2,3,12]
[{"$f":"A806+TIME(0,15,0)","v":"1900-01-09T09:15:00"},{"$f":"B806","v":0},null,2,3,13]
[{"$f":"A807+TIME(0,15,0)","v":"1900-01-09T09:30:00"},{"$f":"B806","v":0},null,2,3,14]
[{"$f":"A808+TIME(0,15,0)","v":"1900-01-09T09:45:00"},{"$f":"B806","v":0},null,2,3,15]
[{"$f":"DATE($C$204,$D$204,$E$204) + TIME($F$204,0,0)","v":"1900-01-09T10:00:00"},{"$f":"IF(A810<'PV Data'!$H$10,0,SUMIFS('PV Data'!D:D,'PV Data'!A:A,MONTH(Conversions!A810),'PV Data'!B:B,DAY(Conversions!A810),'PV Data'!C:C,HOUR(Conversions!A810))/1000)","v":0},null,2,3,16]
[{"$f":"A810+TIME(0,15,0)","v":"1900-01-09T10:15:00"},{"$f":"B810","v":0},null,2,3,17]
[{"$f":"A811+TIME(0,15,0)","v":"1900-01-09T10:30:00"},{"$f":"B810","v":0},null,2,3,18]
[{"$f":"A812+TIME(0,15,0)","v":"1900-01-09T10:45:00"},{"$f":"B810","v":0},null,2,3,19]
[{"$f":"DATE($C$205,$D$205,$E$205) + TIME($F$205,0,0)","v":"1900-01-09T11:00:00"},{"$f":"IF(A814<'PV Data'!$H$10,0,SUMIFS('PV Data'!D:D,'PV Data'!A:A,MONTH(Conversions!A814),'PV Data'!B:B,DAY(Conversions!A814),'PV Data'!C:C,HOUR(Conversions!A814))/1000)","v":0},null,2,3,20]
[{"$f":"A814+TIME(0,15,0)","v":"1900-01-09T11:15:00"},{"$f":"B814","v":0},null,2,3,21]
[{"$f":"A815+TIME(0,15,0)","v":"1900-01-09T11:30:00"},{"$f":"B814","v":0},null,2,3,22]
[{"$f":"A816+TIME(0,15,0)","v":"1900-01-09T11:45:00"},{"$f":"B814","v":0},null,2,3,23]
[{"$f":"DATE($C$206,$D$206,$E$206) + TIME($F$206,0,0)","v":"1900-01-09T12:00:00"},{"$f":"IF(A818<'PV Data'!$H$10,0,SUMIFS('PV Data'!D:D,'PV Data'!A:A,MONTH(Conversions!A818),'PV Data'!B:B,DAY(Conversions!A818),'PV Data'!C:C,HOUR(Conversions!A818))/1000)","v":0},null,2,4,0]
[{"$f":"A818+TIME(0,15,0)","v":"1900-01-09T12:15:00"},{"$f":"B818","v":0},null,2,4,1]
[{"$f":"A819+TIME(0,15,0)","v":"1900-01-09T12:30:00"},{"$f":"B818","v":0},null,2,4,2]
[{"$f":"A820+TIME(0,15,0)","v":"1900-01-09T12:45:00"},{"$f":"B818","v":0},null,2,4,3]
[{"$f":"DATE($C$207,$D$207,$E$207) + TIME($F$207,0,0)","v":"1900-01-09T13:00:00"},{"$f":"IF(A822<'PV Data'!$H$10,0,SUMIFS('PV Data'!D:D,'PV Data'!A:A,MONTH(Conversions!A822),'PV Data'!B:B,DAY(Conversions!A822),'PV Data'!C:C,HOUR(Conversions!A822))/1000)","v":0},null,2,4,4]
[{"$f":"A822+TIME(0,15,0)","v":"1900-01-09T13:15:00"},{"$f":"B822","v":0},null,2,4,5]
[{"$f":"A823+TIME(0,15,0)","v":"1900-01-09T13:30:00"},{"$f":"B822","v":0},null,2,4,6]
[{"$f":"A824+TIME(0,15,0)","v":"1900-01-09T13:45:00"},{"$f":"B822","v":0},null,2,4,7]
[{"$f":"DATE($C$208,$D$208,$E$208) + TIME($F$208,0,0)","v":"1900-01-09T14:00:00"},{"$f":"IF(A826<'PV Data'!$H$10,0,SUMIFS('PV Data'!D:D,'PV Data'!A:A,MONTH(Conversions!A826),'PV Data'!B:B,DAY(Conversions!A826),'PV Data'!C:C,HOUR(Conversions!A826))/1000)","v":0},null,2,4,8]
[{"$f":"A826+TIME(0,15,0)","v":"1900-01-09T14:15:00"},{"$f":"B826","v":0},null,2,4,9]
[{"$f":"A827+TIME(0,15,0)","v":"1900-01-09T14:30:00"},{"$f":"B826","v":0},null,2,4,10]
[{"$f":"A828+TIME(0,15,0)","v":"1900-01-09T14:45:00"},{"$f":"B826","v":0},null,2,4,11]
[{"$f":"DATE($C$209,$D$209,$E$209) + TIME($F$209,0,0)","v":"1900-01-09T15:00:00"},{"$f":"IF(A830<'PV Data'!$H$10,0,SUMIFS('PV Data'!D:D,'PV Data'!A:A,MONTH(Conversions!A830),'PV Data'!B:B,DAY(Conversions!A830),'PV Data'!C:C,HOUR(Conversions!A830))/1000)","v":0},null,2,4,12]
[{"$f":"A830+TIME(0,15,0)","v":"1900-01-09T15:15:00"},{"$f":"B830","v":0},null,2,4,13]
[{"$f":"A831+TIME(0,15,0)","v":"1900-01-09T15:30:00"},{"$f":"B830","v":0},null,2,4,14]
[{"$f":"A832+TIME(0,15,0)","v":"1900-01-09T15:45:00"},{"$f":"B830","v":0},null,2,4,15]
[{"$f":"DATE($C$210,$D$210,$E$210) + TIME($F$210,0,0)","v":"1900-01-09T16:00:00"},{"$f":"IF(A834<'PV Data'!$H$10,0,SUMIFS('PV Data'!D:D,'PV Data'!A:A,MONTH(Conversions!A834),'PV Data'!B:B,DAY(Conversions!A834),'PV Data'!C:C,HOUR(Conversions!A834))/1000)","v":0},null,2,4,16]
[{"$f":"A834+TIME(0,15,0)","v":"1900-01-09T16:15:00"},{"$f":"B834","v":0},null,2,4,17]
[{"$f":"A835+TIME(0,15,0)","v":"1900-01-09T16:30:00"},{"$f":"B834","v":0},null,2,4,18]
[{"$f":"A836+TIME(0,15,0)","v":"1900-01-09T16:45:00"},{"$f":"B834","v":0},null,2,4,19]
[{"$f":"DATE($C$211,$D$211,$E$211) + TIME($F$211,0,0)","v":"1900-01-09T17:00:00"},{"$f":"IF(A838<'PV Data'!$H$10,0,SUMIFS('PV Data'!D:D,'PV Data'!A:A,MONTH(Conversions!A838),'PV Data'!B:B,DAY(Conversions!A838),'PV Data'!C:C,HOUR(Conversions!A838))/1000)","v":0},null,2,4,20]
[{"$f":"A838+TIME(0,15,0)","v":"1900-01-09T17:15:00"},{"$f":"B838","v":0},null,2,4,21]
[{"$f":"A839+TIME(0,15,0)","v":"1900-01-09T17:30:00"},{"$f":"B838","v":0},null,2,4,22]
[{"$f":"A840+TIME(0,15,0)","v":"1900-01-09T17:45:00"},{"$f":"B838","v":0},null,2,4,23]
[{"$f":"DATE($C$212,$D$212,$E$212) + TIME($F$212,0,0)","v":"1900-01-09T18:00:00"},{"$f":"IF(A842<'PV Data'!$H$10,0,SUMIFS('PV Data'!D:D,'PV Data'!A:A,MONTH(Conversions!A842),'PV Data'!B:B,DAY(Conversions!A842),'PV Data'!C:C,HOUR(Conversions!A842))/1000)","v":0},null,2,5,0]
[{"$f":"A842+TIME(0,15,0)","v":"1900-01-09T18:15:00"},{"$f":"B842","v":0},null,2,5,1]
[{"$f":"A843+TIME(0,15,0)","v":"1900-01-09T18:30:00"},{"$f":"B842","v":0},null,2,5,2]
[{"$f":"A844+TIME(0,15,0)","v":"1900-01-09T18:45:00"},{"$f":"B842","v":0},null,2,5,3]
[{"$f":"DATE($C$213,$D$213,$E$213) + TIME($F$213,0,0)","v":"1900-01-09T19:00:00"},{"$f":"IF(A846<'PV Data'!$H$10,0,SUMIFS('PV Data'!D:D,'PV Data'!A:A,MONTH(Conversions!A846),'PV Data'!B:B,DAY(Conversions!A846),'PV Data'!C:C,HOUR(Conversions!A846))/1000)","v":0},null,2,5,4]
[{"$f":"A846+TIME(0,15,0)","v":"1900-01-09T19:15:00"},{"$f":"B846","v":0},null,2,5,5]
[{"$f":"A847+TIME(0,15,0)","v":"1900-01-09T19:30:00"},{"$f":"B846","v":0},null,2,5,6]
[{"$f":"A848+TIME(0,15,0)","v":"1900-01-09T19:45:00"},{"$f":"B846","v":0},null,2,5,7]
[{"$f":"DATE($C$214,$D$214,$E$214) + TIME($F$214,0,0)","v":"1900-01-09T20:00:00"},{"$f":"IF(A850<'PV Data'!$H$10,0,SUMIFS('PV Data'!D:D,'PV Data'!A:A,MONTH(Conversions!A850),'PV Data'!B:B,DAY(Conversions!A850),'PV Data'!C:C,HOUR(Conversions!A850))/1000)","v":0},null,2,5,8]
[{"$f":"A850+TIME(0,15,0)","v":"1900-01-09T20:15:00"},{"$f":"B850","v":0},null,2,5,9]
[{"$f":"A851+TIME(0,15,0)","v":"1900-01-09T20:30:00"},{"$f":"B850","v":0},null,2,5,10]
[{"$f":"A852+TIME(0,15,0)","v":"1900-01-09T20:45:00"},{"$f":"B850","v":0},null,2,5,11]
[{"$f":"DATE($C$215,$D$215,$E$215) + TIME($F$215,0,0)","v":"1900-01-09T21:00:00"},{"$f":"IF(A854<'PV Data'!$H$10,0,SUMIFS('PV Data'!D:D,'PV Data'!A:A,MONTH(Conversions!A854),'PV Data'!B:B,DAY(Conversions!A854),'PV Data'!C:C,HOUR(Conversions!A854))/1000)","v":0},null,2,5,12]
[{"$f":"A854+TIME(0,15,0)","v":"1900-01-09T21:15:00"},{"$f":"B854","v":0},null,2,5,13]
[{"$f":"A855+TIME(0,15,0)","v":"1900-01-09T21:30:00"},{"$f":"B854","v":0},null,2,5,14]
[{"$f":"A856+TIME(0,15,0)","v":"1900-01-09T21:45:00"},{"$f":"B854","v":0},null,2,5,15]
[{"$f":"DATE($C$216,$D$216,$E$216) + TIME($F$216,0,0)","v":"1900-01-09T22:00:00"},{"$f":"IF(A858<'PV Data'!$H$10,0,SUMIFS('PV Data'!D:D,'PV Data'!A:A,MONTH(Conversions!A858),'PV Data'!B:B,DAY(Conversions!A858),'PV Data'!C:C,HOUR(Conversions!A858))/1000)","v":0},null,2,5,16]
[{"$f":"A858+TIME(0,15,0)","v":"1900-01-09T22:15:00"},{"$f":"B858","v":0},null,2,5,17]
[{"$f":"A859+TIME(0,15,0)","v":"1900-01-09T22:30:00"},{"$f":"B858","v":0},null,2,5,18]
[{"$f":"A860+TIME(0,15,0)","v":"1900-01-09T22:45:00"},{"$f":"B858","v":0},null,2,5,19]
[{"$f":"DATE($C$217,$D$217,$E$217) + TIME($F$217,0,0)","v":"1900-01-09T23:00:00"},{"$f":"IF(A862<'PV Data'!$H$10,0,SUMIFS('PV Data'!D:D,'PV Data'!A:A,MONTH(Conversions!A862),'PV Data'!B:B,DAY(Conversions!A862),'PV Data'!C:C,HOUR(Conversions!A862))/1000)","v":0},null,2,5,20]
[{"$f":"A862+TIME(0,15,0)","v":"1900-01-09T23:15:00"},{"$f":"B862","v":0},null,2,5,21]
[{"$f":"A863+TIME(0,15,0)","v":"1900-01-09T23:30:00"},{"$f":"B862","v":0},null,2,5,22]
[{"$f":"A864+TIME(0,15,0)","v":"1900-01-09T23:45:00"},{"$f":"B862","v":0},null,2,5,23]
[{"$f":"DATE($C$218,$D$218,$E$218) + TIME($F$218,0,0)","v":"1900-01-10"},{"$f":"IF(A866<'PV Data'!$H$10,0,SUMIFS('PV Data'!D:D,'PV Data'!A:A,MONTH(Conversions!A866),'PV Data'!B:B,DAY(Conversions!A866),'PV Data'!C:C,HOUR(Conversions!A866))/1000)","v":0},null,2,6,0]
[{"$f":"A866+TIME(0,15,0)","v":"1900-01-10T00:15:00"},{"$f":"B866","v":0},null,2,6,1]
[{"$f":"A867+TIME(0,15,0)","v":"1900-01-10T00:30:00"},{"$f":"B866","v":0},null,2,6,2]
[{"$f":"A868+TIME(0,15,0)","v":"1900-01-10T00:45:00"},{"$f":"B866","v":0},null,2,6,3]
[{"$f":"DATE($C$219,$D$219,$E$219) + TIME($F$219,0,0)","v":"1900-01-10T01:00:00"},{"$f":"IF(A870<'PV Data'!$H$10,0,SUMIFS('PV Data'!D:D,'PV Data'!A:A,MONTH(Conversions!A870),'PV Data'!B:B,DAY(Conversions!A870),'PV Data'!C:C,HOUR(Conversions!A870))/1000)","v":0},null,2,6,4]
[{"$f":"A870+TIME(0,15,0)","v":"1900-01-10T01:15:00"},{"$f":"B870","v":0},null,2,6,5]
[{"$f":"A871+TIME(0,15,0)","v":"1900-01-10T01:30:00"},{"$f":"B870","v":0},null,2,6,6]
[{"$f":"A872+TIME(0,15,0)","v":"1900-01-10T01:45:00"},{"$f":"B870","v":0},null,2,6,7]
[{"$f":"DATE($C$220,$D$220,$E$220) + TIME($F$220,0,0)","v":"1900-01-10T02:00:00"},{"$f":"IF(A874<'PV Data'!$H$10,0,SUMIFS('PV Data'!D:D,'PV Data'!A:A,MONTH(Conversions!A874),'PV Data'!B:B,DAY(Conversions!A874),'PV Data'!C:C,HOUR(Conversions!A874))/1000)","v":0},null,2,6,8]
[{"$f":"A874+TIME(0,15,0)","v":"1900-01-10T02:15:00"},{"$f":"B874","v":0},null,2,6,9]
[{"$f":"A875+TIME(0,15,0)","v":"1900-01-10T02:30:00"},{"$f":"B874","v":0},null,2,6,10]
[{"$f":"A876+TIME(0,15,0)","v":"1900-01-10T02:45:00"},{"$f":"B874","v":0},null,2,6,11]
[{"$f":"DATE($C$221,$D$221,$E$221) + TIME($F$221,0,0)","v":"1900-01-10T03:00:00"},{"$f":"IF(A878<'PV Data'!$H$10,0,SUMIFS('PV Data'!D:D,'PV Data'!A:A,MONTH(Conversions!A878),'PV Data'!B:B,DAY(Conversions!A878),'PV Data'!C:C,HOUR(Conversions!A878))/1000)","v":0},null,2,6,12]
[{"$f":"A878+TIME(0,15,0)","v":"1900-01-10T03:15:00"},{"$f":"B878","v":0},null,2,6,13]
[{"$f":"A879+TIME(0,15,0)","v":"1900-01-10T03:30:00"},{"$f":"B878","v":0},null,2,6,14]
[{"$f":"A880+TIME(0,15,0)","v":"1900-01-10T03:45:00"},{"$f":"B878","v":0},null,2,6,15]
[{"$f":"DATE($C$222,$D$222,$E$222) + TIME($F$222,0,0)","v":"1900-01-10T04:00:00"},{"$f":"IF(A882<'PV Data'!$H$10,0,SUMIFS('PV Data'!D:D,'PV Data'!A:A,MONTH(Conversions!A882),'PV Data'!B:B,DAY(Conversions!A882),'PV Data'!C:C,HOUR(Conversions!A882))/1000)","v":0},null,2,6,16]
[{"$f":"A882+TIME(0,15,0)","v":"1900-01-10T04:15:00"},{"$f":"B882","v":0},null,2,6,17]
[{"$f":"A883+TIME(0,15,0)","v":"1900-01-10T04:30:00"},{"$f":"B882","v":0},null,2,6,18]
[{"$f":"A884+TIME(0,15,0)","v":"1900-01-10T04:45:00"},{"$f":"B882","v":0},null,2,6,19]
[{"$f":"DATE($C$223,$D$223,$E$223) + TIME($F$223,0,0)","v":"1900-01-10T05:00:00"},{"$f":"IF(A886<'PV Data'!$H$10,0,SUMIFS('PV Data'!D:D,'PV Data'!A:A,MONTH(Conversions!A886),'PV Data'!B:B,DAY(Conversions!A886),'PV Data'!C:C,HOUR(Conversions!A886))/1000)","v":0},null,2,6,20]
[{"$f":"A886+TIME(0,15,0)","v":"1900-01-10T05:15:00"},{"$f":"B886","v":0},null,2,6,21]
[{"$f":"A887+TIME(0,15,0)","v":"1900-01-10T05:30:00"},{"$f":"B886","v":0},null,2,6,22]
[{"$f":"A888+TIME(0,15,0)","v":"1900-01-10T05:45:00"},{"$f":"B886","v":0},null,2,6,23]
[{"$f":"DATE($C$224,$D$224,$E$224) + TIME($F$224,0,0)","v":"1900-01-10T06:00:00"},{"$f":"IF(A890<'PV Data'!$H$10,0,SUMIFS('PV Data'!D:D,'PV Data'!A:A,MONTH(Conversions!A890),'PV Data'!B:B,DAY(Conversions!A890),'PV Data'!C:C,HOUR(Conversions!A890))/1000)","v":0},null,2,7,0]
[{"$f":"A890+TIME(0,15,0)","v":"1900-01-10T06:15:00"},{"$f":"B890","v":0},null,2,7,1]
[{"$f":"A891+TIME(0,15,0)","v":"1900-01-10T06:30:00"},{"$f":"B890","v":0},null,2,7,2]
[{"$f":"A892+TIME(0,15,0)","v":"1900-01-10T06:45:00"},{"$f":"B890","v":0},null,2,7,3]
[{"$f":"DATE($C$225,$D$225,$E$225) + TIME($F$225,0,0)","v":"1900-01-10T07:00:00"},{"$f":"IF(A894<'PV Data'!$H$10,0,SUMIFS('PV Data'!D:D,'PV Data'!A:A,MONTH(Conversions!A894),'PV Data'!B:B,DAY(Conversions!A894),'PV Data'!C:C,HOUR(Conversions!A894))/1000)","v":0},null,2,7,4]
[{"$f":"A894+TIME(0,15,0)","v":"1900-01-10T07:15:00"},{"$f":"B894","v":0},null,2,7,5]
[{"$f":"A895+TIME(0,15,0)","v":"1900-01-10T07:30:00"},{"$f":"B894","v":0},null,2,7,6]
[{"$f":"A896+TIME(0,15,0)","v":"1900-01-10T07:45:00"},{"$f":"B894","v":0},null,2,7,7]
[{"$f":"DATE($C$226,$D$226,$E$226) + TIME($F$226,0,0)","v":"1900-01-10T08:00:00"},{"$f":"IF(A898<'PV Data'!$H$10,0,SUMIFS('PV Data'!D:D,'PV Data'!A:A,MONTH(Conversions!A898),'PV Data'!B:B,DAY(Conversions!A898),'PV Data'!C:C,HOUR(Conversions!A898))/1000)","v":0},null,2,7,8]
[{"$f":"A898+TIME(0,15,0)","v":"1900-01-10T08:15:00"},{"$f":"B898","v":0},null,2,7,9]
[{"$f":"A899+TIME(0,15,0)","v":"1900-01-10T08:30:00"},{"$f":"B898","v":0},null,2,7,10]
[{"$f":"A900+TIME(0,15,0)","v":"1900-01-10T08:45:00"},{"$f":"B898","v":0},null,2,7,11]
[{"$f":"DATE($C$227,$D$227,$E$227) + TIME($F$227,0,0)","v":"1900-01-10T09:00:00"},{"$f":"IF(A902<'PV Data'!$H$10,0,SUMIFS('PV Data'!D:D,'PV Data'!A:A,MONTH(Conversions!A902),'PV Data'!B:B,DAY(Conversions!A902),'PV Data'!C:C,HOUR(Conversions!A902))/1000)","v":0},null,2,7,12]
[{"$f":"A902+TIME(0,15,0)","v":"1900-01-10T09:15:00"},{"$f":"B902","v":0},null,2,7,13]
[{"$f":"A903+TIME(0,15,0)","v":"1900-01-10T09:30:00"},{"$f":"B902","v":0},null,2,7,14]
[{"$f":"A904+TIME(0,15,0)","v":"1900-01-10T09:45:00"},{"$f":"B902","v":0},null,2,7,15]
[{"$f":"DATE($C$228,$D$228,$E$228) + TIME($F$228,0,0)","v":"1900-01-10T10:00:00"},{"$f":"IF(A906<'PV Data'!$H$10,0,SUMIFS('PV Data'!D:D,'PV Data'!A:A,MONTH(Conversions!A906),'PV Data'!B:B,DAY(Conversions!A906),'PV Data'!C:C,HOUR(Conversions!A906))/1000)","v":0},null,2,7,16]
[{"$f":"A906+TIME(0,15,0)","v":"1900-01-10T10:15:00"},{"$f":"B906","v":0},null,2,7,17]
[{"$f":"A907+TIME(0,15,0)","v":"1900-01-10T10:30:00"},{"$f":"B906","v":0},null,2,7,18]
[{"$f":"A908+TIME(0,15,0)","v":"1900-01-10T10:45:00"},{"$f":"B906","v":0},null,2,7,19]
[{"$f":"DATE($C$229,$D$229,$E$229) + TIME($F$229,0,0)","v":"1900-01-10T11:00:00"},{"$f":"IF(A910<'PV Data'!$H$10,0,SUMIFS('PV Data'!D:D,'PV Data'!A:A,MONTH(Conversions!A910),'PV Data'!B:B,DAY(Conversions!A910),'PV Data'!C:C,HOUR(Conversions!A910))/1000)","v":0},null,2,7,20]
[{"$f":"A910+TIME(0,15,0)","v":"1900-01-10T11:15:00"},{"$f":"B910","v":0},null,2,7,21]
[{"$f":"A911+TIME(0,15,0)","v":"1900-01-10T11:30:00"},{"$f":"B910","v":0},null,2,7,22]
[{"$f":"A912+TIME(0,15,0)","v":"1900-01-10T11:45:00"},{"$f":"B910","v":0},null,2,7,23]
[{"$f":"DATE($C$230,$D$230,$E$230) + TIME($F$230,0,0)","v":"1900-01-10T12:00:00"},{"$f":"IF(A914<'PV Data'!$H$10,0,SUMIFS('PV Data'!D:D,'PV Data'!A:A,MONTH(Conversions!A914),'PV Data'!B:B,DAY(Conversions!A914),'PV Data'!C:C,HOUR(Conversions!A914))/1000)","v":0},null,2,8,0]
[{"$f":"A914+TIME(0,15,0)","v":"1900-01-10T12:15:00"},{"$f":"B914","v":0},null,2,8,1]
[{"$f":"A915+TIME(0,15,0)","v":"1900-01-10T12:30:00"},{"$f":"B914","v":0},null,2,8,2]
[{"$f":"A916+TIME(0,15,0)","v":"1900-01-10T12:45:00"},{"$f":"B914","v":0},null,2,8,3]
[{"$f":"DATE($C$231,$D$231,$E$231) + TIME($F$231,0,0)","v":"1900-01-10T13:00:00"},{"$f":"IF(A918<'PV Data'!$H$10,0,SUMIFS('PV Data'!D:D,'PV Data'!A:A,MONTH(Conversions!A918),'PV Data'!B:B,DAY(Conversions!A918),'PV Data'!C:C,HOUR(Conversions!A918))/1000)","v":0},null,2,8,4]
[{"$f":"A918+TIME(0,15,0)","v":"1900-01-10T13:15:00"},{"$f":"B918","v":0},null,2,8,5]
[{"$f":"A919+TIME(0,15,0)","v":"1900-01-10T13:30:00"},{"$f":"B918","v":0},null,2,8,6]
[{"$f":"A920+TIME(0,15,0)","v":"1900-01-10T13:45:00"},{"$f":"B918","v":0},null,2,8,7]
[{"$f":"DATE($C$232,$D$232,$E$232) + TIME($F$232,0,0)","v":"1900-01-10T14:00:00"},{"$f":"IF(A922<'PV Data'!$H$10,0,SUMIFS('PV Data'!D:D,'PV Data'!A:A,MONTH(Conversions!A922),'PV Data'!B:B,DAY(Conversions!A922),'PV Data'!C:C,HOUR(Conversions!A922))/1000)","v":0},null,2,8,8]
[{"$f":"A922+TIME(0,15,0)","v":"1900-01-10T14:15:00"},{"$f":"B922","v":0},null,2,8,9]
[{"$f":"A923+TIME(0,15,0)","v":"1900-01-10T14:30:00"},{"$f":"B922","v":0},null,2,8,10]
[{"$f":"A924+TIME(0,15,0)","v":"1900-01-10T14:45:00"},{"$f":"B922","v":0},null,2,8,11]
[{"$f":"DATE($C$233,$D$233,$E$233) + TIME($F$233,0,0)","v":"1900-01-10T15:00:00"},{"$f":"IF(A926<'PV Data'!$H$10,0,SUMIFS('PV Data'!D:D,'PV Data'!A:A,MONTH(Conversions!A926),'PV Data'!B:B,DAY(Conversions!A926),'PV Data'!C:C,HOUR(Conversions!A926))/1000)","v":0},null,2,8,12]
[{"$f":"A926+TIME(0,15,0)","v":"1900-01-10T15:15:00"},{"$f":"B926","v":0},null,2,8,13]
[{"$f":"A927+TIME(0,15,0)","v":"1900-01-10T15:30:00"},{"$f":"B926","v":0},null,2,8,14]
[{"$f":"A928+TIME(0,15,0)","v":"1900-01-10T15:45:00"},{"$f":"B926","v":0},null,2,8,15]
[{"$f":"DATE($C$234,$D$234,$E$234) + TIME($F$234,0,0)","v":"1900-01-10T16:00:00"},{"$f":"IF(A930<'PV Data'!$H$10,0,SUMIFS('PV Data'!D:D,'PV Data'!A:A,MONTH(Conversions!A930),'PV Data'!B:B,DAY(Conversions!A930),'PV Data'!C:C,HOUR(Conversions!A930))/1000)","v":0},null,2,8,16]
[{"$f":"A930+TIME(0,15,0)","v":"1900-01-10T16:15:00"},{"$f":"B930","v":0},null,2,8,17]
[{"$f":"A931+TIME(0,15,0)","v":"1900-01-10T16:30:00"},{"$f":"B930","v":0},null,2,8,18]
[{"$f":"A932+TIME(0,15,0)","v":"1900-01-10T16:45:00"},{"$f":"B930","v":0},null,2,8,19]
[{"$f":"DATE($C$235,$D$235,$E$235) + TIME($F$235,0,0)","v":"1900-01-10T17:00:00"},{"$f":"IF(A934<'PV Data'!$H$10,0,SUMIFS('PV Data'!D:D,'PV Data'!A:A,MONTH(Conversions!A934),'PV Data'!B:B,DAY(Conversions!A934),'PV Data'!C:C,HOUR(Conversions!A934))/1000)","v":0},null,2,8,20]
[{"$f":"A934+TIME(0,15,0)","v":"1900-01-10T17:15:00"},{"$f":"B934","v":0},null,2,8,21]
[{"$f":"A935+TIME(0,15,0)","v":"1900-01-10T17:30:00"},{"$f":"B934","v":0},null,2,8,22]
[{"$f":"A936+TIME(0,15,0)","v":"1900-01-10T17:45:00"},{"$f":"B934","v":0},null,2,8,23]
[{"$f":"DATE($C$236,$D$236,$E$236) + TIME($F$236,0,0)","v":"1900-01-10T18:00:00"},{"$f":"IF(A938<'PV Data'!$H$10,0,SUMIFS('PV Data'!D:D,'PV Data'!A:A,MONTH(Conversions!A938),'PV Data'!B:B,DAY(Conversions!A938),'PV Data'!C:C,HOUR(Conversions!A938))/1000)","v":0},null,2,9,0]
[{"$f":"A938+TIME(0,15,0)","v":"1900-01-10T18:15:00"},{"$f":"B938","v":0},null,2,9,1]
[{"$f":"A939+TIME(0,15,0)","v":"1900-01-10T18:30:00"},{"$f":"B938","v":0},null,2,9,2]
[{"$f":"A940+TIME(0,15,0)","v":"1900-01-10T18:45:00"},{"$f":"B938","v":0},null,2,9,3]
[{"$f":"DATE($C$237,$D$237,$E$237) + TIME($F$237,0,0)","v":"1900-01-10T19:00:00"},{"$f":"IF(A942<'PV Data'!$H$10,0,SUMIFS('PV Data'!D:D,'PV Data'!A:A,MONTH(Conversions!A942),'PV Data'!B:B,DAY(Conversions!A942),'PV Data'!C:C,HOUR(Conversions!A942))/1000)","v":0},null,2,9,4]
[{"$f":"A942+TIME(0,15,0)","v":"1900-01-10T19:15:00"},{"$f":"B942","v":0},null,2,9,5]
[{"$f":"A943+TIME(0,15,0)","v":"1900-01-10T19:30:00"},{"$f":"B942","v":0},null,2,9,6]
[{"$f":"A944+TIME(0,15,0)","v":"1900-01-10T19:45:00"},{"$f":"B942","v":0},null,2,9,7]
[{"$f":"DATE($C$238,$D$238,$E$238) + TIME($F$238,0,0)","v":"1900-01-10T20:00:00"},{"$f":"IF(A946<'PV Data'!$H$10,0,SUMIFS('PV Data'!D:D,'PV Data'!A:A,MONTH(Conversions!A946),'PV Data'!B:B,DAY(Conversions!A946),'PV Data'!C:C,HOUR(Conversions!A946))/1000)","v":0},null,2,9,8]
[{"$f":"A946+TIME(0,15,0)","v":"1900-01-10T20:15:00"},{"$f":"B946","v":0},null,2,9,9]
[{"$f":"A947+TIME(0,15,0)","v":"1900-01-10T20:30:00"},{"$f":"B946","v":0},null,2,9,10]
[{"$f":"A948+TIME(0,15,0)","v":"1900-01-10T20:45:00"},{"$f":"B946","v":0},null,2,9,11]
[{"$f":"DATE($C$239,$D$239,$E$239) + TIME($F$239,0,0)","v":"1900-01-10T21:00:00"},{"$f":"IF(A950<'PV Data'!$H$10,0,SUMIFS('PV Data'!D:D,'PV Data'!A:A,MONTH(Conversions!A950),'PV Data'!B:B,DAY(Conversions!A950),'PV Data'!C:C,HOUR(Conversions!A950))/1000)","v":0},null,2,9,12]
[{"$f":"A950+TIME(0,15,0)","v":"1900-01-10T21:15:00"},{"$f":"B950","v":0},null,2,9,13]
[{"$f":"A951+TIME(0,15,0)","v":"1900-01-10T21:30:00"},{"$f":"B950","v":0},null,2,9,14]
[{"$f":"A952+TIME(0,15,0)","v":"1900-01-10T21:45:00"},{"$f":"B950","v":0},null,2,9,15]
[{"$f":"DATE($C$240,$D$240,$E$240) + TIME($F$240,0,0)","v":"1900-01-10T22:00:00"},{"$f":"IF(A954<'PV Data'!$H$10,0,SUMIFS('PV Data'!D:D,'PV Data'!A:A,MONTH(Conversions!A954),'PV Data'!B:B,DAY(Conversions!A954),'PV Data'!C:C,HOUR(Conversions!A954))/1000)","v":0},null,2,9,16]
[{"$f":"A954+TIME(0,15,0)","v":"1900-01-10T22:15:00"},{"$f":"B954","v":0},null,2,9,17]
[{"$f":"A955+TIME(0,15,0)","v":"1900-01-10T22:30:00"},{"$f":"B954","v":0},null,2,9,18]
[{"$f":"A956+TIME(0,15,0)","v":"1900-01-10T22:45:00"},{"$f":"B954","v":0},null,2,9,19]
[{"$f":"DATE($C$241,$D$241,$E$241) + TIME($F$241,0,0)","v":"1900-01-10T23:00:00"},{"$f":"IF(A958<'PV Data'!$H$10,0,SUMIFS('PV Data'!D:D,'PV Data'!A:A,MONTH(Conversions!A958),'PV Data'!B:B,DAY(Conversions!A958),'PV Data'!C:C,HOUR(Conversions!A958))/1000)","v":0},null,2,9,20]
[{"$f":"A958+TIME(0,15,0)","v":"1900-01-10T23:15:00"},{"$f":"B958","v":0},null,2,9,21]
[{"$f":"A959+TIME(0,15,0)","v":"1900-01-10T23:30:00"},{"$f":"B958","v":0},null,2,9,22]
[{"$f":"A960+TIME(0,15,0)","v":"1900-01-10T23:45:00"},{"$f":"B958","v":0},null,2,9,23]
[{"$f":"DATE($C$242,$D$242,$E$242) + TIME($F$242,0,0)","v":"1900-01-11"},{"$f":"IF(A962<'PV Data'!$H$10,0,SUMIFS('PV Data'!D:D,'PV Data'!A:A,MONTH(Conversions!A962),'PV Data'!B:B,DAY(Conversions!A962),'PV Data'!C:C,HOUR(Conversions!A962))/1000)","v":0},null,2,10,0]
[{"$f":"A962+TIME(0,15,0)","v":"1900-01-11T00:15:00"},{"$f":"B962","v":0},null,2,10,1]
[{"$f":"A963+TIME(0,15,0)","v":"1900-01-11T00:30:00"},{"$f":"B962","v":0},null,2,10,2]
[{"$f":"A964+TIME(0,15,0)","v":"1900-01-11T00:45:00"},{"$f":"B962","v":0},null,2,10,3]
[{"$f":"DATE($C$243,$D$243,$E$243) + TIME($F$243,0,0)","v":"1900-01-11T01:00:00"},{"$f":"IF(A966<'PV Data'!$H$10,0,SUMIFS('PV Data'!D:D,'PV Data'!A:A,MONTH(Conversions!A966),'PV Data'!B:B,DAY(Conversions!A966),'PV Data'!C:C,HOUR(Conversions!A966))/1000)","v":0},null,2,10,4]
[{"$f":"A966+TIME(0,15,0)","v":"1900-01-11T01:15:00"},{"$f":"B966","v":0},null,2,10,5]
[{"$f":"A967+TIME(0,15,0)","v":"1900-01-11T01:30:00"},{"$f":"B966","v":0},null,2,10,6]
[{"$f":"A968+TIME(0,15,0)","v":"1900-01-11T01:45:00"},{"$f":"B966","v":0},null,2,10,7]
[{"$f":"DATE($C$244,$D$244,$E$244) + TIME($F$244,0,0)","v":"1900-01-11T02:00:00"},{"$f":"IF(A970<'PV Data'!$H$10,0,SUMIFS('PV Data'!D:D,'PV Data'!A:A,MONTH(Conversions!A970),'PV Data'!B:B,DAY(Conversions!A970),'PV Data'!C:C,HOUR(Conversions!A970))/1000)","v":0},null,2,10,8]
[{"$f":"A970+TIME(0,15,0)","v":"1900-01-11T02:15:00"},{"$f":"B970","v":0},null,2,10,9]
[{"$f":"A971+TIME(0,15,0)","v":"1900-01-11T02:30:00"},{"$f":"B970","v":0},null,2,10,10]
[{"$f":"A972+TIME(0,15,0)","v":"1900-01-11T02:45:00"},{"$f":"B970","v":0},null,2,10,11]
[{"$f":"DATE($C$245,$D$245,$E$245) + TIME($F$245,0,0)","v":"1900-01-11T03:00:00"},{"$f":"IF(A974<'PV Data'!$H$10,0,SUMIFS('PV Data'!D:D,'PV Data'!A:A,MONTH(Conversions!A974),'PV Data'!B:B,DAY(Conversions!A974),'PV Data'!C:C,HOUR(Conversions!A974))/1000)","v":0},null,2,10,12]
[{"$f":"A974+TIME(0,15,0)","v":"1900-01-11T03:15:00"},{"$f":"B974","v":0},null,2,10,13]
[{"$f":"A975+TIME(0,15,0)","v":"1900-01-11T03:30:00"},{"$f":"B974","v":0},null,2,10,14]
[{"$f":"A976+TIME(0,15,0)","v":"1900-01-11T03:45:00"},{"$f":"B974","v":0},null,2,10,15]
[{"$f":"DATE($C$246,$D$246,$E$246) + TIME($F$246,0,0)","v":"1900-01-11T04:00:00"},{"$f":"IF(A978<'PV Data'!$H$10,0,SUMIFS('PV Data'!D:D,'PV Data'!A:A,MONTH(Conversions!A978),'PV Data'!B:B,DAY(Conversions!A978),'PV Data'!C:C,HOUR(Conversions!A978))/1000)","v":0},null,2,10,16]
[{"$f":"A978+TIME(0,15,0)","v":"1900-01-11T04:15:00"},{"$f":"B978","v":0},null,2,10,17]
[{"$f":"A979+TIME(0,15,0)","v":"1900-01-11T04:30:00"},{"$f":"B978","v":0},null,2,10,18]
[{"$f":"A980+TIME(0,15,0)","v":"1900-01-11T04:45:00"},{"$f":"B978","v":0},null,2,10,19]
[{"$f":"DATE($C$247,$D$247,$E$247) + TIME($F$247,0,0)","v":"1900-01-11T05:00:00"},{"$f":"IF(A982<'PV Data'!$H$10,0,SUMIFS('PV Data'!D:D,'PV Data'!A:A,MONTH(Conversions!A982),'PV Data'!B:B,DAY(Conversions!A982),'PV Data'!C:C,HOUR(Conversions!A982))/1000)","v":0},null,2,10,20]
[{"$f":"A982+TIME(0,15,0)","v":"1900-01-11T05:15:00"},{"$f":"B982","v":0},null,2,10,21]
[{"$f":"A983+TIME(0,15,0)","v":"1900-01-11T05:30:00"},{"$f":"B982","v":0},null,2,10,22]
[{"$f":"A984+TIME(0,15,0)","v":"1900-01-11T05:45:00"},{"$f":"B982","v":0},null,2,10,23]
[{"$f":"DATE($C$248,$D$248,$E$248) + TIME($F$248,0,0)","v":"1900-01-11T06:00:00"},{"$f":"IF(A986<'PV Data'!$H$10,0,SUMIFS('PV Data'!D:D,'PV Data'!A:A,MONTH(Conversions!A986),'PV Data'!B:B,DAY(Conversions!A986),'PV Data'!C:C,HOUR(Conversions!A986))/1000)","v":0},null,2,11,0]
[{"$f":"A986+TIME(0,15,0)","v":"1900-01-11T06:15:00"},{"$f":"B986","v":0},null,2,11,1]
[{"$f":"A987+TIME(0,15,0)","v":"1900-01-11T06:30:00"},{"$f":"B986","v":0},null,2,11,2]
[{"$f":"A988+TIME(0,15,0)","v":"1900-01-11T06:45:00"},{"$f":"B986","v":0},null,2,11,3]
[{"$f":"DATE($C$249,$D$249,$E$249) + TIME($F$249,0,0)","v":"1900-01-11T07:00:00"},{"$f":"IF(A990<'PV Data'!$H$10,0,SUMIFS('PV Data'!D:D,'PV Data'!A:A,MONTH(Conversions!A990),'PV Data'!B:B,DAY(Conversions!A990),'PV Data'!C:C,HOUR(Conversions!A990))/1000)","v":0},null,2,11,4]
[{"$f":"A990+TIME(0,15,0)","v":"1900-01-11T07:15:00"},{"$f":"B990","v":0},null,2,11,5]
[{"$f":"A991+TIME(0,15,0)","v":"1900-01-11T07:30:00"},{"$f":"B990","v":0},null,2,11,6]
[{"$f":"A992+TIME(0,15,0)","v":"1900-01-11T07:45:00"},{"$f":"B990","v":0},null,2,11,7]
[{"$f":"DATE($C$250,$D$250,$E$250) + TIME($F$250,0,0)","v":"1900-01-11T08:00:00"},{"$f":"IF(A994<'PV Data'!$H$10,0,SUMIFS('PV Data'!D:D,'PV Data'!A:A,MONTH(Conversions!A994),'PV Data'!B:B,DAY(Conversions!A994),'PV Data'!C:C,HOUR(Conversions!A994))/1000)","v":0},null,2,11,8]
[{"$f":"A994+TIME(0,15,0)","v":"1900-01-11T08:15:00"},{"$f":"B994","v":0},null,2,11,9]
[{"$f":"A995+TIME(0,15,0)","v":"1900-01-11T08:30:00"},{"$f":"B994","v":0},null,2,11,10]
[{"$f":"A996+TIME(0,15,0)","v":"1900-01-11T08:45:00"},{"$f":"B994","v":0},null,2,11,11]
[{"$f":"DATE($C$251,$D$251,$E$251) + TIME($F$251,0,0)","v":"1900-01-11T09:00:00"},{"$f":"IF(A998<'PV Data'!$H$10,0,SUMIFS('PV Data'!D:D,'PV Data'!A:A,MONTH(Conversions!A998),'PV Data'!B:B,DAY(Conversions!A998),'PV Data'!C:C,HOUR(Conversions!A998))/1000)","v":0},null,2,11,12]
[{"$f":"A998+TIME(0,15,0)","v":"1900-01-11T09:15:00"},{"$f":"B998","v":0},null,2,11,13]
[{"$f":"A999+TIME(0,15,0)","v":"1900-01-11T09:30:00"},{"$f":"B998","v":0},null,2,11,14]
[{"$f":"A1000+TIME(0,15,0)","v":"1900-01-11T09:45:00"},{"$f":"B998","v":0},null,2,11,15]
[{"$f":"DATE($C$252,$D$252,$E$252) + TIME($F$252,0,0)","v":"1900-01-11T10:00:00"},{"$f":"IF(A1002<'PV Data'!$H$10,0,SUMIFS('PV Data'!D:D,'PV Data'!A:A,MONTH(Conversions!A1002),'PV Data'!B:B,DAY(Conversions!A1002),'PV Data'!C:C,HOUR(Conversions!A1002))/1000)","v":0},null,2,11,16]
[{"$f":"A1002+TIME(0,15,0)","v":"1900-01-11T10:15:00"},{"$f":"B1002","v":0},null,2,11,17]
[{"$f":"A1003+TIME(0,15,0)","v":"1900-01-11T10:30:00"},{"$f":"B1002","v":0},null,2,11,18]
[{"$f":"A1004+TIME(0,15,0)","v":"1900-01-11T10:45:00"},{"$f":"B1002","v":0},null,2,11,19]
[{"$f":"DATE($C$253,$D$253,$E$253) + TIME($F$253,0,0)","v":"1900-01-11T11:00:00"},{"$f":"IF(A1006<'PV Data'!$H$10,0,SUMIFS('PV Data'!D:D,'PV Data'!A:A,MONTH(Conversions!A1006),'PV Data'!B:B,DAY(Conversions!A1006),'PV Data'!C:C,HOUR(Conversions!A1006))/1000)","v":0},null,2,11,20]
[{"$f":"A1006+TIME(0,15,0)","v":"1900-01-11T11:15:00"},{"$f":"B1006","v":0},null,2,11,21]
[{"$f":"A1007+TIME(0,15,0)","v":"1900-01-11T11:30:00"},{"$f":"B1006","v":0},null,2,11,22]
[{"$f":"A1008+TIME(0,15,0)","v":"1900-01-11T11:45:00"},{"$f":"B1006","v":0},null,2,11,23]
[{"$f":"DATE($C$254,$D$254,$E$254) + TIME($F$254,0,0)","v":"1900-01-11T12:00:00"},{"$f":"IF(A1010<'PV Data'!$H$10,0,SUMIFS('PV Data'!D:D,'PV Data'!A:A,MONTH(Conversions!A1010),'PV Data'!B:B,DAY(Conversions!A1010),'PV Data'!C:C,HOUR(Conversions!A1010))/1000)","v":0},null,2,12,0]
[{"$f":"A1010+TIME(0,15,0)","v":"1900-01-11T12:15:00"},{"$f":"B1010","v":0},null,2,12,1]
[{"$f":"A1011+TIME(0,15,0)","v":"1900-01-11T12:30:00"},{"$f":"B1010","v":0},null,2,12,2]
[{"$f":"A1012+TIME(0,15,0)","v":"1900-01-11T12:45:00"},{"$f":"B1010","v":0},null,2,12,3]
[{"$f":"DATE($C$255,$D$255,$E$255) + TIME($F$255,0,0)","v":"1900-01-11T13:00:00"},{"$f":"IF(A1014<'PV Data'!$H$10,0,SUMIFS('PV Data'!D:D,'PV Data'!A:A,MONTH(Conversions!A1014),'PV Data'!B:B,DAY(Conversions!A1014),'PV Data'!C:C,HOUR(Conversions!A1014))/1000)","v":0},null,2,12,4]
[{"$f":"A1014+TIME(0,15,0)","v":"1900-01-11T13:15:00"},{"$f":"B1014","v":0},null,2,12,5]
[{"$f":"A1015+TIME(0,15,0)","v":"1900-01-11T13:30:00"},{"$f":"B1014","v":0},null,2,12,6]
[{"$f":"A1016+TIME(0,15,0)","v":"1900-01-11T13:45:00"},{"$f":"B1014","v":0},null,2,12,7]
[{"$f":"DATE($C$256,$D$256,$E$256) + TIME($F$256,0,0)","v":"1900-01-11T14:00:00"},{"$f":"IF(A1018<'PV Data'!$H$10,0,SUMIFS('PV Data'!D:D,'PV Data'!A:A,MONTH(Conversions!A1018),'PV Data'!B:B,DAY(Conversions!A1018),'PV Data'!C:C,HOUR(Conversions!A1018))/1000)","v":0},null,2,12,8]
[{"$f":"A1018+TIME(0,15,0)","v":"1900-01-11T14:15:00"},{"$f":"B1018","v":0},null,2,12,9]
[{"$f":"A1019+TIME(0,15,0)","v":"1900-01-11T14:30:00"},{"$f":"B1018","v":0},null,2,12,10]
[{"$f":"A1020+TIME(0,15,0)","v":"1900-01-11T14:45:00"},{"$f":"B1018","v":0},null,2,12,11]
[{"$f":"DATE($C$257,$D$257,$E$257) + TIME($F$257,0,0)","v":"1900-01-11T15:00:00"},{"$f":"IF(A1022<'PV Data'!$H$10,0,SUMIFS('PV Data'!D:D,'PV Data'!A:A,MONTH(Conversions!A1022),'PV Data'!B:B,DAY(Conversions!A1022),'PV Data'!C:C,HOUR(Conversions!A1022))/1000)","v":0},null,2,12,12]
[{"$f":"A1022+TIME(0,15,0)","v":"1900-01-11T15:15:00"},{"$f":"B1022","v":0},null,2,12,13]
[{"$f":"A1023+TIME(0,15,0)","v":"1900-01-11T15:30:00"},{"$f":"B1022","v":0},null,2,12,14]
[{"$f":"A1024+TIME(0,15,0)","v":"1900-01-11T15:45:00"},{"$f":"B1022","v":0},null,2,12,15]
[{"$f":"DATE($C$258,$D$258,$E$258) + TIME($F$258,0,0)","v":"1900-01-11T16:00:00"},{"$f":"IF(A1026<'PV Data'!$H$10,0,SUMIFS('PV Data'!D:D,'PV Data'!A:A,MONTH(Conversions!A1026),'PV Data'!B:B,DAY(Conversions!A1026),'PV Data'!C:C,HOUR(Conversions!A1026))/1000)","v":0},null,2,12,16]
[{"$f":"A1026+TIME(0,15,0)","v":"1900-01-11T16:15:00"},{"$f":"B1026","v":0},null,2,12,17]
[{"$f":"A1027+TIME(0,15,0)","v":"1900-01-11T16:30:00"},{"$f":"B1026","v":0},null,2,12,18]
[{"$f":"A1028+TIME(0,15,0)","v":"1900-01-11T16:45:00"},{"$f":"B1026","v":0},null,2,12,19]
[{"$f":"DATE($C$259,$D$259,$E$259) + TIME($F$259,0,0)","v":"1900-01-11T17:00:00"},{"$f":"IF(A1030<'PV Data'!$H$10,0,SUMIFS('PV Data'!D:D,'PV Data'!A:A,MONTH(Conversions!A1030),'PV Data'!B:B,DAY(Conversions!A1030),'PV Data'!C:C,HOUR(Conversions!A1030))/1000)","v":0},null,2,12,20]
[{"$f":"A1030+TIME(0,15,0)","v":"1900-01-11T17:15:00"},{"$f":"B1030","v":0},null,2,12,21]
[{"$f":"A1031+TIME(0,15,0)","v":"1900-01-11T17:30:00"},{"$f":"B1030","v":0},null,2,12,22]
[{"$f":"A1032+TIME(0,15,0)","v":"1900-01-11T17:45:00"},{"$f":"B1030","v":0},null,2,12,23]
[{"$f":"DATE($C$260,$D$260,$E$260) + TIME($F$260,0,0)","v":"1900-01-11T18:00:00"},{"$f":"IF(A1034<'PV Data'!$H$10,0,SUMIFS('PV Data'!D:D,'PV Data'!A:A,MONTH(Conversions!A1034),'PV Data'!B:B,DAY(Conversions!A1034),'PV Data'!C:C,HOUR(Conversions!A1034))/1000)","v":0},null,2,13,0]
[{"$f":"A1034+TIME(0,15,0)","v":"1900-01-11T18:15:00"},{"$f":"B1034","v":0},null,2,13,1]
[{"$f":"A1035+TIME(0,15,0)","v":"1900-01-11T18:30:00"},{"$f":"B1034","v":0},null,2,13,2]
[{"$f":"A1036+TIME(0,15,0)","v":"1900-01-11T18:45:00"},{"$f":"B1034","v":0},null,2,13,3]
[{"$f":"DATE($C$261,$D$261,$E$261) + TIME($F$261,0,0)","v":"1900-01-11T19:00:00"},{"$f":"IF(A1038<'PV Data'!$H$10,0,SUMIFS('PV Data'!D:D,'PV Data'!A:A,MONTH(Conversions!A1038),'PV Data'!B:B,DAY(Conversions!A1038),'PV Data'!C:C,HOUR(Conversions!A1038))/1000)","v":0},null,2,13,4]
[{"$f":"A1038+TIME(0,15,0)","v":"1900-01-11T19:15:00"},{"$f":"B1038","v":0},null,2,13,5]
[{"$f":"A1039+TIME(0,15,0)","v":"1900-01-11T19:30:00"},{"$f":"B1038","v":0},null,2,13,6]
[{"$f":"A1040+TIME(0,15,0)","v":"1900-01-11T19:45:00"},{"$f":"B1038","v":0},null,2,13,7]
[{"$f":"DATE($C$262,$D$262,$E$262) + TIME($F$262,0,0)","v":"1900-01-11T20:00:00"},{"$f":"IF(A1042<'PV Data'!$H$10,0,SUMIFS('PV Data'!D:D,'PV Data'!A:A,MONTH(Conversions!A1042),'PV Data'!B:B,DAY(Conversions!A1042),'PV Data'!C:C,HOUR(Conversions!A1042))/1000)","v":0},null,2,13,8]
[{"$f":"A1042+TIME(0,15,0)","v":"1900-01-11T20:15:00"},{"$f":"B1042","v":0},null,2,13,9]
[{"$f":"A1043+TIME(0,15,0)","v":"1900-01-11T20:30:00"},{"$f":"B1042","v":0},null,2,13,10]
[{"$f":"A1044+TIME(0,15,0)","v":"1900-01-11T20:45:00"},{"$f":"B1042","v":0},null,2,13,11]
[{"$f":"DATE($C$263,$D$263,$E$263) + TIME($F$263,0,0)","v":"1900-01-11T21:00:00"},{"$f":"IF(A1046<'PV Data'!$H$10,0,SUMIFS('PV Data'!D:D,'PV Data'!A:A,MONTH(Conversions!A1046),'PV Data'!B:B,DAY(Conversions!A1046),'PV Data'!C:C,HOUR(Conversions!A1046))/1000)","v":0},null,2,13,12]
[{"$f":"A1046+TIME(0,15,0)","v":"1900-01-11T21:15:00"},{"$f":"B1046","v":0},null,2,13,13]
[{"$f":"A1047+TIME(0,15,0)","v":"1900-01-11T21:30:00"},{"$f":"B1046","v":0},null,2,13,14]
[{"$f":"A1048+TIME(0,15,0)","v":"1900-01-11T21:45:00"},{"$f":"B1046","v":0},null,2,13,15]
[{"$f":"DATE($C$264,$D$264,$E$264) + TIME($F$264,0,0)","v":"1900-01-11T22:00:00"},{"$f":"IF(A1050<'PV Data'!$H$10,0,SUMIFS('PV Data'!D:D,'PV Data'!A:A,MONTH(Conversions!A1050),'PV Data'!B:B,DAY(Conversions!A1050),'PV Data'!C:C,HOUR(Conversions!A1050))/1000)","v":0},null,2,13,16]
[{"$f":"A1050+TIME(0,15,0)","v":"1900-01-11T22:15:00"},{"$f":"B1050","v":0},null,2,13,17]
[{"$f":"A1051+TIME(0,15,0)","v":"1900-01-11T22:30:00"},{"$f":"B1050","v":0},null,2,13,18]
[{"$f":"A1052+TIME(0,15,0)","v":"1900-01-11T22:45:00"},{"$f":"B1050","v":0},null,2,13,19]
[{"$f":"DATE($C$265,$D$265,$E$265) + TIME($F$265,0,0)","v":"1900-01-11T23:00:00"},{"$f":"IF(A1054<'PV Data'!$H$10,0,SUMIFS('PV Data'!D:D,'PV Data'!A:A,MONTH(Conversions!A1054),'PV Data'!B:B,DAY(Conversions!A1054),'PV Data'!C:C,HOUR(Conversions!A1054))/1000)","v":0},null,2,13,20]
[{"$f":"A1054+TIME(0,15,0)","v":"1900-01-11T23:15:00"},{"$f":"B1054","v":0},null,2,13,21]
[{"$f":"A1055+TIME(0,15,0)","v":"1900-01-11T23:30:00"},{"$f":"B1054","v":0},null,2,13,22]
[{"$f":"A1056+TIME(0,15,0)","v":"1900-01-11T23:45:00"},{"$f":"B1054","v":0},null,2,13,23]
[{"$f":"DATE($C$266,$D$266,$E$266) + TIME($F$266,0,0)","v":"1900-01-12"},{"$f":"IF(A1058<'PV Data'!$H$10,0,SUMIFS('PV Data'!D:D,'PV Data'!A:A,MONTH(Conversions!A1058),'PV Data'!B:B,DAY(Conversions!A1058),'PV Data'!C:C,HOUR(Conversions!A1058))/1000)","v":0},null,2,14,0]
[{"$f":"A1058+TIME(0,15,0)","v":"1900-01-12T00:15:00"},{"$f":"B1058","v":0},null,2,14,1]
[{"$f":"A1059+TIME(0,15,0)","v":"1900-01-12T00:30:00"},{"$f":"B1058","v":0},null,2,14,2]
[{"$f":"A1060+TIME(0,15,0)","v":"1900-01-12T00:45:00"},{"$f":"B1058","v":0},null,2,14,3]
[{"$f":"DATE($C$267,$D$267,$E$267) + TIME($F$267,0,0)","v":"1900-01-12T01:00:00"},{"$f":"IF(A1062<'PV Data'!$H$10,0,SUMIFS('PV Data'!D:D,'PV Data'!A:A,MONTH(Conversions!A1062),'PV Data'!B:B,DAY(Conversions!A1062),'PV Data'!C:C,HOUR(Conversions!A1062))/1000)","v":0},null,2,14,4]
[{"$f":"A1062+TIME(0,15,0)","v":"1900-01-12T01:15:00"},{"$f":"B1062","v":0},null,2,14,5]
[{"$f":"A1063+TIME(0,15,0)","v":"1900-01-12T01:30:00"},{"$f":"B1062","v":0},null,2,14,6]
[{"$f":"A1064+TIME(0,15,0)","v":"1900-01-12T01:45:00"},{"$f":"B1062","v":0},null,2,14,7]
[{"$f":"DATE($C$268,$D$268,$E$268) + TIME($F$268,0,0)","v":"1900-01-12T02:00:00"},{"$f":"IF(A1066<'PV Data'!$H$10,0,SUMIFS('PV Data'!D:D,'PV Data'!A:A,MONTH(Conversions!A1066),'PV Data'!B:B,DAY(Conversions!A1066),'PV Data'!C:C,HOUR(Conversions!A1066))/1000)","v":0},null,2,14,8]
[{"$f":"A1066+TIME(0,15,0)","v":"1900-01-12T02:15:00"},{"$f":"B1066","v":0},null,2,14,9]
[{"$f":"A1067+TIME(0,15,0)","v":"1900-01-12T02:30:00"},{"$f":"B1066","v":0},null,2,14,10]
[{"$f":"A1068+TIME(0,15,0)","v":"1900-01-12T02:45:00"},{"$f":"B1066","v":0},null,2,14,11]
[{"$f":"DATE($C$269,$D$269,$E$269) + TIME($F$269,0,0)","v":"1900-01-12T03:00:00"},{"$f":"IF(A1070<'PV Data'!$H$10,0,SUMIFS('PV Data'!D:D,'PV Data'!A:A,MONTH(Conversions!A1070),'PV Data'!B:B,DAY(Conversions!A1070),'PV Data'!C:C,HOUR(Conversions!A1070))/1000)","v":0},null,2,14,12]
[{"$f":"A1070+TIME(0,15,0)","v":"1900-01-12T03:15:00"},{"$f":"B1070","v":0},null,2,14,13]
[{"$f":"A1071+TIME(0,15,0)","v":"1900-01-12T03:30:00"},{"$f":"B1070","v":0},null,2,14,14]
[{"$f":"A1072+TIME(0,15,0)","v":"1900-01-12T03:45:00"},{"$f":"B1070","v":0},null,2,14,15]
[{"$f":"DATE($C$270,$D$270,$E$270) + TIME($F$270,0,0)","v":"1900-01-12T04:00:00"},{"$f":"IF(A1074<'PV Data'!$H$10,0,SUMIFS('PV Data'!D:D,'PV Data'!A:A,MONTH(Conversions!A1074),'PV Data'!B:B,DAY(Conversions!A1074),'PV Data'!C:C,HOUR(Conversions!A1074))/1000)","v":0},null,2,14,16]
[{"$f":"A1074+TIME(0,15,0)","v":"1900-01-12T04:15:00"},{"$f":"B1074","v":0},null,2,14,17]
[{"$f":"A1075+TIME(0,15,0)","v":"1900-01-12T04:30:00"},{"$f":"B1074","v":0},null,2,14,18]
[{"$f":"A1076+TIME(0,15,0)","v":"1900-01-12T04:45:00"},{"$f":"B1074","v":0},null,2,14,19]
[{"$f":"DATE($C$271,$D$271,$E$271) + TIME($F$271,0,0)","v":"1900-01-12T05:00:00"},{"$f":"IF(A1078<'PV Data'!$H$10,0,SUMIFS('PV Data'!D:D,'PV Data'!A:A,MONTH(Conversions!A1078),'PV Data'!B:B,DAY(Conversions!A1078),'PV Data'!C:C,HOUR(Conversions!A1078))/1000)","v":0},null,2,14,20]
[{"$f":"A1078+TIME(0,15,0)","v":"1900-01-12T05:15:00"},{"$f":"B1078","v":0},null,2,14,21]
[{"$f":"A1079+TIME(0,15,0)","v":"1900-01-12T05:30:00"},{"$f":"B1078","v":0},null,2,14,22]
[{"$f":"A1080+TIME(0,15,0)","v":"1900-01-12T05:45:00"},{"$f":"B1078","v":0},null,2,14,23]
[{"$f":"DATE($C$272,$D$272,$E$272) + TIME($F$272,0,0)","v":"1900-01-12T06:00:00"},{"$f":"IF(A1082<'PV Data'!$H$10,0,SUMIFS('PV Data'!D:D,'PV Data'!A:A,MONTH(Conversions!A1082),'PV Data'!B:B,DAY(Conversions!A1082),'PV Data'!C:C,HOUR(Conversions!A1082))/1000)","v":0},null,2,15,0]
[{"$f":"A1082+TIME(0,15,0)","v":"1900-01-12T06:15:00"},{"$f":"B1082","v":0},null,2,15,1]
[{"$f":"A1083+TIME(0,15,0)","v":"1900-01-12T06:30:00"},{"$f":"B1082","v":0},null,2,15,2]
[{"$f":"A1084+TIME(0,15,0)","v":"1900-01-12T06:45:00"},{"$f":"B1082","v":0},null,2,15,3]
[{"$f":"DATE($C$273,$D$273,$E$273) + TIME($F$273,0,0)","v":"1900-01-12T07:00:00"},{"$f":"IF(A1086<'PV Data'!$H$10,0,SUMIFS('PV Data'!D:D,'PV Data'!A:A,MONTH(Conversions!A1086),'PV Data'!B:B,DAY(Conversions!A1086),'PV Data'!C:C,HOUR(Conversions!A1086))/1000)","v":0},null,2,15,4]
[{"$f":"A1086+TIME(0,15,0)","v":"1900-01-12T07:15:00"},{"$f":"B1086","v":0},null,2,15,5]
[{"$f":"A1087+TIME(0,15,0)","v":"1900-01-12T07:30:00"},{"$f":"B1086","v":0},null,2,15,6]
[{"$f":"A1088+TIME(0,15,0)","v":"1900-01-12T07:45:00"},{"$f":"B1086","v":0},null,2,15,7]
[{"$f":"DATE($C$274,$D$274,$E$274) + TIME($F$274,0,0)","v":"1900-01-12T08:00:00"},{"$f":"IF(A1090<'PV Data'!$H$10,0,SUMIFS('PV Data'!D:D,'PV Data'!A:A,MONTH(Conversions!A1090),'PV Data'!B:B,DAY(Conversions!A1090),'PV Data'!C:C,HOUR(Conversions!A1090))/1000)","v":0},null,2,15,8]
[{"$f":"A1090+TIME(0,15,0)","v":"1900-01-12T08:15:00"},{"$f":"B1090","v":0},null,2,15,9]
[{"$f":"A1091+TIME(0,15,0)","v":"1900-01-12T08:30:00"},{"$f":"B1090","v":0},null,2,15,10]
[{"$f":"A1092+TIME(0,15,0)","v":"1900-01-12T08:45:00"},{"$f":"B1090","v":0},null,2,15,11]
[{"$f":"DATE($C$275,$D$275,$E$275) + TIME($F$275,0,0)","v":"1900-01-12T09:00:00"},{"$f":"IF(A1094<'PV Data'!$H$10,0,SUMIFS('PV Data'!D:D,'PV Data'!A:A,MONTH(Conversions!A1094),'PV Data'!B:B,DAY(Conversions!A1094),'PV Data'!C:C,HOUR(Conversions!A1094))/1000)","v":0},null,2,15,12]
[{"$f":"A1094+TIME(0,15,0)","v":"1900-01-12T09:15:00"},{"$f":"B1094","v":0},null,2,15,13]
[{"$f":"A1095+TIME(0,15,0)","v":"1900-01-12T09:30:00"},{"$f":"B1094","v":0},null,2,15,14]
[{"$f":"A1096+TIME(0,15,0)","v":"1900-01-12T09:45:00"},{"$f":"B1094","v":0},null,2,15,15]
[{"$f":"DATE($C$276,$D$276,$E$276) + TIME($F$276,0,0)","v":"1900-01-12T10:00:00"},{"$f":"IF(A1098<'PV Data'!$H$10,0,SUMIFS('PV Data'!D:D,'PV Data'!A:A,MONTH(Conversions!A1098),'PV Data'!B:B,DAY(Conversions!A1098),'PV Data'!C:C,HOUR(Conversions!A1098))/1000)","v":0},null,2,15,16]
[{"$f":"A1098+TIME(0,15,0)","v":"1900-01-12T10:15:00"},{"$f":"B1098","v":0},null,2,15,17]
[{"$f":"A1099+TIME(0,15,0)","v":"1900-01-12T10:30:00"},{"$f":"B1098","v":0},null,2,15,18]
[{"$f":"A1100+TIME(0,15,0)","v":"1900-01-12T10:45:00"},{"$f":"B1098","v":0},null,2,15,19]
[{"$f":"DATE($C$277,$D$277,$E$277) + TIME($F$277,0,0)","v":"1900-01-12T11:00:00"},{"$f":"IF(A1102<'PV Data'!$H$10,0,SUMIFS('PV Data'!D:D,'PV Data'!A:A,MONTH(Conversions!A1102),'PV Data'!B:B,DAY(Conversions!A1102),'PV Data'!C:C,HOUR(Conversions!A1102))/1000)","v":0},null,2,15,20]
[{"$f":"A1102+TIME(0,15,0)","v":"1900-01-12T11:15:00"},{"$f":"B1102","v":0},null,2,15,21]
[{"$f":"A1103+TIME(0,15,0)","v":"1900-01-12T11:30:00"},{"$f":"B1102","v":0},null,2,15,22]
[{"$f":"A1104+TIME(0,15,0)","v":"1900-01-12T11:45:00"},{"$f":"B1102","v":0},null,2,15,23]
[{"$f":"DATE($C$278,$D$278,$E$278) + TIME($F$278,0,0)","v":"1900-01-12T12:00:00"},{"$f":"IF(A1106<'PV Data'!$H$10,0,SUMIFS('PV Data'!D:D,'PV Data'!A:A,MONTH(Conversions!A1106),'PV Data'!B:B,DAY(Conversions!A1106),'PV Data'!C:C,HOUR(Conversions!A1106))/1000)","v":0},null,2,16,0]
[{"$f":"A1106+TIME(0,15,0)","v":"1900-01-12T12:15:00"},{"$f":"B1106","v":0},null,2,16,1]
[{"$f":"A1107+TIME(0,15,0)","v":"1900-01-12T12:30:00"},{"$f":"B1106","v":0},null,2,16,2]
[{"$f":"A1108+TIME(0,15,0)","v":"1900-01-12T12:45:00"},{"$f":"B1106","v":0},null,2,16,3]
[{"$f":"DATE($C$279,$D$279,$E$279) + TIME($F$279,0,0)","v":"1900-01-12T13:00:00"},{"$f":"IF(A1110<'PV Data'!$H$10,0,SUMIFS('PV Data'!D:D,'PV Data'!A:A,MONTH(Conversions!A1110),'PV Data'!B:B,DAY(Conversions!A1110),'PV Data'!C:C,HOUR(Conversions!A1110))/1000)","v":0},null,2,16,4]
[{"$f":"A1110+TIME(0,15,0)","v":"1900-01-12T13:15:00"},{"$f":"B1110","v":0},null,2,16,5]
[{"$f":"A1111+TIME(0,15,0)","v":"1900-01-12T13:30:00"},{"$f":"B1110","v":0},null,2,16,6]
[{"$f":"A1112+TIME(0,15,0)","v":"1900-01-12T13:45:00"},{"$f":"B1110","v":0},null,2,16,7]
[{"$f":"DATE($C$280,$D$280,$E$280) + TIME($F$280,0,0)","v":"1900-01-12T14:00:00"},{"$f":"IF(A1114<'PV Data'!$H$10,0,SUMIFS('PV Data'!D:D,'PV Data'!A:A,MONTH(Conversions!A1114),'PV Data'!B:B,DAY(Conversions!A1114),'PV Data'!C:C,HOUR(Conversions!A1114))/1000)","v":0},null,2,16,8]
[{"$f":"A1114+TIME(0,15,0)","v":"1900-01-12T14:15:00"},{"$f":"B1114","v":0},null,2,16,9]
[{"$f":"A1115+TIME(0,15,0)","v":"1900-01-12T14:30:00"},{"$f":"B1114","v":0},null,2,16,10]
[{"$f":"A1116+TIME(0,15,0)","v":"1900-01-12T14:45:00"},{"$f":"B1114","v":0},null,2,16,11]
[{"$f":"DATE($C$281,$D$281,$E$281) + TIME($F$281,0,0)","v":"1900-01-12T15:00:00"},{"$f":"IF(A1118<'PV Data'!$H$10,0,SUMIFS('PV Data'!D:D,'PV Data'!A:A,MONTH(Conversions!A1118),'PV Data'!B:B,DAY(Conversions!A1118),'PV Data'!C:C,HOUR(Conversions!A1118))/1000)","v":0},null,2,16,12]
[{"$f":"A1118+TIME(0,15,0)","v":"1900-01-12T15:15:00"},{"$f":"B1118","v":0},null,2,16,13]
[{"$f":"A1119+TIME(0,15,0)","v":"1900-01-12T15:30:00"},{"$f":"B1118","v":0},null,2,16,14]
[{"$f":"A1120+TIME(0,15,0)","v":"1900-01-12T15:45:00"},{"$f":"B1118","v":0},null,2,16,15]
[{"$f":"DATE($C$282,$D$282,$E$282) + TIME($F$282,0,0)","v":"1900-01-12T16:00:00"},{"$f":"IF(A1122<'PV Data'!$H$10,0,SUMIFS('PV Data'!D:D,'PV Data'!A:A,MONTH(Conversions!A1122),'PV Data'!B:B,DAY(Conversions!A1122),'PV Data'!C:C,HOUR(Conversions!A1122))/1000)","v":0},null,2,16,16]
[{"$f":"A1122+TIME(0,15,0)","v":"1900-01-12T16:15:00"},{"$f":"B1122","v":0},null,2,16,17]
[{"$f":"A1123+TIME(0,15,0)","v":"1900-01-12T16:30:00"},{"$f":"B1122","v":0},null,2,16,18]
[{"$f":"A1124+TIME(0,15,0)","v":"1900-01-12T16:45:00"},{"$f":"B1122","v":0},null,2,16,19]
[{"$f":"DATE($C$283,$D$283,$E$283) + TIME($F$283,0,0)","v":"1900-01-12T17:00:00"},{"$f":"IF(A1126<'PV Data'!$H$10,0,SUMIFS('PV Data'!D:D,'PV Data'!A:A,MONTH(Conversions!A1126),'PV Data'!B:B,DAY(Conversions!A1126),'PV Data'!C:C,HOUR(Conversions!A1126))/1000)","v":0},null,2,16,20]
[{"$f":"A1126+TIME(0,15,0)","v":"1900-01-12T17:15:00"},{"$f":"B1126","v":0},null,2,16,21]
[{"$f":"A1127+TIME(0,15,0)","v":"1900-01-12T17:30:00"},{"$f":"B1126","v":0},null,2,16,22]
[{"$f":"A1128+TIME(0,15,0)","v":"1900-01-12T17:45:00"},{"$f":"B1126","v":0},null,2,16,23]
[{"$f":"DATE($C$284,$D$284,$E$284) + TIME($F$284,0,0)","v":"1900-01-12T18:00:00"},{"$f":"IF(A1130<'PV Data'!$H$10,0,SUMIFS('PV Data'!D:D,'PV Data'!A:A,MONTH(Conversions!A1130),'PV Data'!B:B,DAY(Conversions!A1130),'PV Data'!C:C,HOUR(Conversions!A1130))/1000)","v":0},null,2,17,0]
[{"$f":"A1130+TIME(0,15,0)","v":"1900-01-12T18:15:00"},{"$f":"B1130","v":0},null,2,17,1]
[{"$f":"A1131+TIME(0,15,0)","v":"1900-01-12T18:30:00"},{"$f":"B1130","v":0},null,2,17,2]
[{"$f":"A1132+TIME(0,15,0)","v":"1900-01-12T18:45:00"},{"$f":"B1130","v":0},null,2,17,3]
[{"$f":"DATE($C$285,$D$285,$E$285) + TIME($F$285,0,0)","v":"1900-01-12T19:00:00"},{"$f":"IF(A1134<'PV Data'!$H$10,0,SUMIFS('PV Data'!D:D,'PV Data'!A:A,MONTH(Conversions!A1134),'PV Data'!B:B,DAY(Conversions!A1134),'PV Data'!C:C,HOUR(Conversions!A1134))/1000)","v":0},null,2,17,4]
[{"$f":"A1134+TIME(0,15,0)","v":"1900-01-12T19:15:00"},{"$f":"B1134","v":0},null,2,17,5]
[{"$f":"A1135+TIME(0,15,0)","v":"1900-01-12T19:30:00"},{"$f":"B1134","v":0},null,2,17,6]
[{"$f":"A1136+TIME(0,15,0)","v":"1900-01-12T19:45:00"},{"$f":"B1134","v":0},null,2,17,7]
[{"$f":"DATE($C$286,$D$286,$E$286) + TIME($F$286,0,0)","v":"1900-01-12T20:00:00"},{"$f":"IF(A1138<'PV Data'!$H$10,0,SUMIFS('PV Data'!D:D,'PV Data'!A:A,MONTH(Conversions!A1138),'PV Data'!B:B,DAY(Conversions!A1138),'PV Data'!C:C,HOUR(Conversions!A1138))/1000)","v":0},null,2,17,8]
[{"$f":"A1138+TIME(0,15,0)","v":"1900-01-12T20:15:00"},{"$f":"B1138","v":0},null,2,17,9]
[{"$f":"A1139+TIME(0,15,0)","v":"1900-01-12T20:30:00"},{"$f":"B1138","v":0},null,2,17,10]
[{"$f":"A1140+TIME(0,15,0)","v":"1900-01-12T20:45:00"},{"$f":"B1138","v":0},null,2,17,11]
[{"$f":"DATE($C$287,$D$287,$E$287) + TIME($F$287,0,0)","v":"1900-01-12T21:00:00"},{"$f":"IF(A1142<'PV Data'!$H$10,0,SUMIFS('PV Data'!D:D,'PV Data'!A:A,MONTH(Conversions!A1142),'PV Data'!B:B,DAY(Conversions!A1142),'PV Data'!C:C,HOUR(Conversions!A1142))/1000)","v":0},null,2,17,12]
[{"$f":"A1142+TIME(0,15,0)","v":"1900-01-12T21:15:00"},{"$f":"B1142","v":0},null,2,17,13]
[{"$f":"A1143+TIME(0,15,0)","v":"1900-01-12T21:30:00"},{"$f":"B1142","v":0},null,2,17,14]
[{"$f":"A1144+TIME(0,15,0)","v":"1900-01-12T21:45:00"},{"$f":"B1142","v":0},null,2,17,15]
[{"$f":"DATE($C$288,$D$288,$E$288) + TIME($F$288,0,0)","v":"1900-01-12T22:00:00"},{"$f":"IF(A1146<'PV Data'!$H$10,0,SUMIFS('PV Data'!D:D,'PV Data'!A:A,MONTH(Conversions!A1146),'PV Data'!B:B,DAY(Conversions!A1146),'PV Data'!C:C,HOUR(Conversions!A1146))/1000)","v":0},null,2,17,16]
[{"$f":"A1146+TIME(0,15,0)","v":"1900-01-12T22:15:00"},{"$f":"B1146","v":0},null,2,17,17]
[{"$f":"A1147+TIME(0,15,0)","v":"1900-01-12T22:30:00"},{"$f":"B1146","v":0},null,2,17,18]
[{"$f":"A1148+TIME(0,15,0)","v":"1900-01-12T22:45:00"},{"$f":"B1146","v":0},null,2,17,19]
[{"$f":"DATE($C$289,$D$289,$E$289) + TIME($F$289,0,0)","v":"1900-01-12T23:00:00"},{"$f":"IF(A1150<'PV Data'!$H$10,0,SUMIFS('PV Data'!D:D,'PV Data'!A:A,MONTH(Conversions!A1150),'PV Data'!B:B,DAY(Conversions!A1150),'PV Data'!C:C,HOUR(Conversions!A1150))/1000)","v":0},null,2,17,20]
[{"$f":"A1150+TIME(0,15,0)","v":"1900-01-12T23:15:00"},{"$f":"B1150","v":0},null,2,17,21]
[{"$f":"A1151+TIME(0,15,0)","v":"1900-01-12T23:30:00"},{"$f":"B1150","v":0},null,2,17,22]
[{"$f":"A1152+TIME(0,15,0)","v":"1900-01-12T23:45:00"},{"$f":"B1150","v":0},null,2,17,23]
[{"$f":"DATE($C$290,$D$290,$E$290) + TIME($F$290,0,0)","v":"1900-01-13"},{"$f":"IF(A1154<'PV Data'!$H$10,0,SUMIFS('PV Data'!D:D,'PV Data'!A:A,MONTH(Conversions!A1154),'PV Data'!B:B,DAY(Conversions!A1154),'PV Data'!C:C,HOUR(Conversions!A1154))/1000)","v":0},null,2,18,0]
[{"$f":"A1154+TIME(0,15,0)","v":"1900-01-13T00:15:00"},{"$f":"B1154","v":0},null,2,18,1]
[{"$f":"A1155+TIME(0,15,0)","v":"1900-01-13T00:30:00"},{"$f":"B1154","v":0},null,2,18,2]
[{"$f":"A1156+TIME(0,15,0)","v":"1900-01-13T00:45:00"},{"$f":"B1154","v":0},null,2,18,3]
[{"$f":"DATE($C$291,$D$291,$E$291) + TIME($F$291,0,0)","v":"1900-01-13T01:00:00"},{"$f":"IF(A1158<'PV Data'!$H$10,0,SUMIFS('PV Data'!D:D,'PV Data'!A:A,MONTH(Conversions!A1158),'PV Data'!B:B,DAY(Conversions!A1158),'PV Data'!C:C,HOUR(Conversions!A1158))/1000)","v":0},null,2,18,4]
[{"$f":"A1158+TIME(0,15,0)","v":"1900-01-13T01:15:00"},{"$f":"B1158","v":0},null,2,18,5]
[{"$f":"A1159+TIME(0,15,0)","v":"1900-01-13T01:30:00"},{"$f":"B1158","v":0},null,2,18,6]
[{"$f":"A1160+TIME(0,15,0)","v":"1900-01-13T01:45:00"},{"$f":"B1158","v":0},null,2,18,7]
[{"$f":"DATE($C$292,$D$292,$E$292) + TIME($F$292,0,0)","v":"1900-01-13T02:00:00"},{"$f":"IF(A1162<'PV Data'!$H$10,0,SUMIFS('PV Data'!D:D,'PV Data'!A:A,MONTH(Conversions!A1162),'PV Data'!B:B,DAY(Conversions!A1162),'PV Data'!C:C,HOUR(Conversions!A1162))/1000)","v":0},null,2,18,8]
[{"$f":"A1162+TIME(0,15,0)","v":"1900-01-13T02:15:00"},{"$f":"B1162","v":0},null,2,18,9]
[{"$f":"A1163+TIME(0,15,0)","v":"1900-01-13T02:30:00"},{"$f":"B1162","v":0},null,2,18,10]
[{"$f":"A1164+TIME(0,15,0)","v":"1900-01-13T02:45:00"},{"$f":"B1162","v":0},null,2,18,11]
[{"$f":"DATE($C$293,$D$293,$E$293) + TIME($F$293,0,0)","v":"1900-01-13T03:00:00"},{"$f":"IF(A1166<'PV Data'!$H$10,0,SUMIFS('PV Data'!D:D,'PV Data'!A:A,MONTH(Conversions!A1166),'PV Data'!B:B,DAY(Conversions!A1166),'PV Data'!C:C,HOUR(Conversions!A1166))/1000)","v":0},null,2,18,12]
[{"$f":"A1166+TIME(0,15,0)","v":"1900-01-13T03:15:00"},{"$f":"B1166","v":0},null,2,18,13]
[{"$f":"A1167+TIME(0,15,0)","v":"1900-01-13T03:30:00"},{"$f":"B1166","v":0},null,2,18,14]
[{"$f":"A1168+TIME(0,15,0)","v":"1900-01-13T03:45:00"},{"$f":"B1166","v":0},null,2,18,15]
[{"$f":"DATE($C$294,$D$294,$E$294) + TIME($F$294,0,0)","v":"1900-01-13T04:00:00"},{"$f":"IF(A1170<'PV Data'!$H$10,0,SUMIFS('PV Data'!D:D,'PV Data'!A:A,MONTH(Conversions!A1170),'PV Data'!B:B,DAY(Conversions!A1170),'PV Data'!C:C,HOUR(Conversions!A1170))/1000)","v":0},null,2,18,16]
[{"$f":"A1170+TIME(0,15,0)","v":"1900-01-13T04:15:00"},{"$f":"B1170","v":0},null,2,18,17]
[{"$f":"A1171+TIME(0,15,0)","v":"1900-01-13T04:30:00"},{"$f":"B1170","v":0},null,2,18,18]
[{"$f":"A1172+TIME(0,15,0)","v":"1900-01-13T04:45:00"},{"$f":"B1170","v":0},null,2,18,19]
[{"$f":"DATE($C$295,$D$295,$E$295) + TIME($F$295,0,0)","v":"1900-01-13T05:00:00"},{"$f":"IF(A1174<'PV Data'!$H$10,0,SUMIFS('PV Data'!D:D,'PV Data'!A:A,MONTH(Conversions!A1174),'PV Data'!B:B,DAY(Conversions!A1174),'PV Data'!C:C,HOUR(Conversions!A1174))/1000)","v":0},null,2,18,20]
[{"$f":"A1174+TIME(0,15,0)","v":"1900-01-13T05:15:00"},{"$f":"B1174","v":0},null,2,18,21]
[{"$f":"A1175+TIME(0,15,0)","v":"1900-01-13T05:30:00"},{"$f":"B1174","v":0},null,2,18,22]
[{"$f":"A1176+TIME(0,15,0)","v":"1900-01-13T05:45:00"},{"$f":"B1174","v":0},null,2,18,23]
[{"$f":"DATE($C$296,$D$296,$E$296) + TIME($F$296,0,0)","v":"1900-01-13T06:00:00"},{"$f":"IF(A1178<'PV Data'!$H$10,0,SUMIFS('PV Data'!D:D,'PV Data'!A:A,MONTH(Conversions!A1178),'PV Data'!B:B,DAY(Conversions!A1178),'PV Data'!C:C,HOUR(Conversions!A1178))/1000)","v":0},null,2,19,0]
[{"$f":"A1178+TIME(0,15,0)","v":"1900-01-13T06:15:00"},{"$f":"B1178","v":0},null,2,19,1]
[{"$f":"A1179+TIME(0,15,0)","v":"1900-01-13T06:30:00"},{"$f":"B1178","v":0},null,2,19,2]
[{"$f":"A1180+TIME(0,15,0)","v":"1900-01-13T06:45:00"},{"$f":"B1178","v":0},null,2,19,3]
[{"$f":"DATE($C$297,$D$297,$E$297) + TIME($F$297,0,0)","v":"1900-01-13T07:00:00"},{"$f":"IF(A1182<'PV Data'!$H$10,0,SUMIFS('PV Data'!D:D,'PV Data'!A:A,MONTH(Conversions!A1182),'PV Data'!B:B,DAY(Conversions!A1182),'PV Data'!C:C,HOUR(Conversions!A1182))/1000)","v":0},null,2,19,4]
[{"$f":"A1182+TIME(0,15,0)","v":"1900-01-13T07:15:00"},{"$f":"B1182","v":0},null,2,19,5]
[{"$f":"A1183+TIME(0,15,0)","v":"1900-01-13T07:30:00"},{"$f":"B1182","v":0},null,2,19,6]
[{"$f":"A1184+TIME(0,15,0)","v":"1900-01-13T07:45:00"},{"$f":"B1182","v":0},null,2,19,7]
[{"$f":"DATE($C$298,$D$298,$E$298) + TIME($F$298,0,0)","v":"1900-01-13T08:00:00"},{"$f":"IF(A1186<'PV Data'!$H$10,0,SUMIFS('PV Data'!D:D,'PV Data'!A:A,MONTH(Conversions!A1186),'PV Data'!B:B,DAY(Conversions!A1186),'PV Data'!C:C,HOUR(Conversions!A1186))/1000)","v":0},null,2,19,8]
[{"$f":"A1186+TIME(0,15,0)","v":"1900-01-13T08:15:00"},{"$f":"B1186","v":0},null,2,19,9]
[{"$f":"A1187+TIME(0,15,0)","v":"1900-01-13T08:30:00"},{"$f":"B1186","v":0},null,2,19,10]
[{"$f":"A1188+TIME(0,15,0)","v":"1900-01-13T08:45:00"},{"$f":"B1186","v":0},null,2,19,11]
[{"$f":"DATE($C$299,$D$299,$E$299) + TIME($F$299,0,0)","v":"1900-01-13T09:00:00"},{"$f":"IF(A1190<'PV Data'!$H$10,0,SUMIFS('PV Data'!D:D,'PV Data'!A:A,MONTH(Conversions!A1190),'PV Data'!B:B,DAY(Conversions!A1190),'PV Data'!C:C,HOUR(Conversions!A1190))/1000)","v":0},null,2,19,12]
[{"$f":"A1190+TIME(0,15,0)","v":"1900-01-13T09:15:00"},{"$f":"B1190","v":0},null,2,19,13]
[{"$f":"A1191+TIME(0,15,0)","v":"1900-01-13T09:30:00"},{"$f":"B1190","v":0},null,2,19,14]
[{"$f":"A1192+TIME(0,15,0)","v":"1900-01-13T09:45:00"},{"$f":"B1190","v":0},null,2,19,15]
[{"$f":"DATE($C$300,$D$300,$E$300) + TIME($F$300,0,0)","v":"1900-01-13T10:00:00"},{"$f":"IF(A1194<'PV Data'!$H$10,0,SUMIFS('PV Data'!D:D,'PV Data'!A:A,MONTH(Conversions!A1194),'PV Data'!B:B,DAY(Conversions!A1194),'PV Data'!C:C,HOUR(Conversions!A1194))/1000)","v":0},null,2,19,16]
[{"$f":"A1194+TIME(0,15,0)","v":"1900-01-13T10:15:00"},{"$f":"B1194","v":0},null,2,19,17]
[{"$f":"A1195+TIME(0,15,0)","v":"1900-01-13T10:30:00"},{"$f":"B1194","v":0},null,2,19,18]
[{"$f":"A1196+TIME(0,15,0)","v":"1900-01-13T10:45:00"},{"$f":"B1194","v":0},null,2,19,19]
[{"$f":"DATE($C$301,$D$301,$E$301) + TIME($F$301,0,0)","v":"1900-01-13T11:00:00"},{"$f":"IF(A1198<'PV Data'!$H$10,0,SUMIFS('PV Data'!D:D,'PV Data'!A:A,MONTH(Conversions!A1198),'PV Data'!B:B,DAY(Conversions!A1198),'PV Data'!C:C,HOUR(Conversions!A1198))/1000)","v":0},null,2,19,20]
[{"$f":"A1198+TIME(0,15,0)","v":"1900-01-13T11:15:00"},{"$f":"B1198","v":0},null,2,19,21]
[{"$f":"A1199+TIME(0,15,0)","v":"1900-01-13T11:30:00"},{"$f":"B1198","v":0},null,2,19,22]
[{"$f":"A1200+TIME(0,15,0)","v":"1900-01-13T11:45:00"},{"$f":"B1198","v":0},null,2,19,23]
[{"$f":"DATE($C$302,$D$302,$E$302) + TIME($F$302,0,0)","v":"1900-01-13T12:00:00"},{"$f":"IF(A1202<'PV Data'!$H$10,0,SUMIFS('PV Data'!D:D,'PV Data'!A:A,MONTH(Conversions!A1202),'PV Data'!B:B,DAY(Conversions!A1202),'PV Data'!C:C,HOUR(Conversions!A1202))/1000)","v":0},null,2,20,0]
[{"$f":"A1202+TIME(0,15,0)","v":"1900-01-13T12:15:00"},{"$f":"B1202","v":0},null,2,20,1]
[{"$f":"A1203+TIME(0,15,0)","v":"1900-01-13T12:30:00"},{"$f":"B1202","v":0},null,2,20,2]
[{"$f":"A1204+TIME(0,15,0)","v":"1900-01-13T12:45:00"},{"$f":"B1202","v":0},null,2,20,3]
[{"$f":"DATE($C$303,$D$303,$E$303) + TIME($F$303,0,0)","v":"1900-01-13T13:00:00"},{"$f":"IF(A1206<'PV Data'!$H$10,0,SUMIFS('PV Data'!D:D,'PV Data'!A:A,MONTH(Conversions!A1206),'PV Data'!B:B,DAY(Conversions!A1206),'PV Data'!C:C,HOUR(Conversions!A1206))/1000)","v":0},null,2,20,4]
[{"$f":"A1206+TIME(0,15,0)","v":"1900-01-13T13:15:00"},{"$f":"B1206","v":0},null,2,20,5]
[{"$f":"A1207+TIME(0,15,0)","v":"1900-01-13T13:30:00"},{"$f":"B1206","v":0},null,2,20,6]
[{"$f":"A1208+TIME(0,15,0)","v":"1900-01-13T13:45:00"},{"$f":"B1206","v":0},null,2,20,7]
[{"$f":"DATE($C$304,$D$304,$E$304) + TIME($F$304,0,0)","v":"1900-01-13T14:00:00"},{"$f":"IF(A1210<'PV Data'!$H$10,0,SUMIFS('PV Data'!D:D,'PV Data'!A:A,MONTH(Conversions!A1210),'PV Data'!B:B,DAY(Conversions!A1210),'PV Data'!C:C,HOUR(Conversions!A1210))/1000)","v":0},null,2,20,8]
[{"$f":"A1210+TIME(0,15,0)","v":"1900-01-13T14:15:00"},{"$f":"B1210","v":0},null,2,20,9]
[{"$f":"A1211+TIME(0,15,0)","v":"1900-01-13T14:30:00"},{"$f":"B1210","v":0},null,2,20,10]
[{"$f":"A1212+TIME(0,15,0)","v":"1900-01-13T14:45:00"},{"$f":"B1210","v":0},null,2,20,11]
[{"$f":"DATE($C$305,$D$305,$E$305) + TIME($F$305,0,0)","v":"1900-01-13T15:00:00"},{"$f":"IF(A1214<'PV Data'!$H$10,0,SUMIFS('PV Data'!D:D,'PV Data'!A:A,MONTH(Conversions!A1214),'PV Data'!B:B,DAY(Conversions!A1214),'PV Data'!C:C,HOUR(Conversions!A1214))/1000)","v":0},null,2,20,12]
[{"$f":"A1214+TIME(0,15,0)","v":"1900-01-13T15:15:00"},{"$f":"B1214","v":0},null,2,20,13]
[{"$f":"A1215+TIME(0,15,0)","v":"1900-01-13T15:30:00"},{"$f":"B1214","v":0},null,2,20,14]
[{"$f":"A1216+TIME(0,15,0)","v":"1900-01-13T15:45:00"},{"$f":"B1214","v":0},null,2,20,15]
[{"$f":"DATE($C$306,$D$306,$E$306) + TIME($F$306,0,0)","v":"1900-01-13T16:00:00"},{"$f":"IF(A1218<'PV Data'!$H$10,0,SUMIFS('PV Data'!D:D,'PV Data'!A:A,MONTH(Conversions!A1218),'PV Data'!B:B,DAY(Conversions!A1218),'PV Data'!C:C,HOUR(Conversions!A1218))/1000)","v":0},null,2,20,16]
[{"$f":"A1218+TIME(0,15,0)","v":"1900-01-13T16:15:00"},{"$f":"B1218","v":0},null,2,20,17]
[{"$f":"A1219+TIME(0,15,0)","v":"1900-01-13T16:30:00"},{"$f":"B1218","v":0},null,2,20,18]
[{"$f":"A1220+TIME(0,15,0)","v":"1900-01-13T16:45:00"},{"$f":"B1218","v":0},null,2,20,19]
[{"$f":"DATE($C$307,$D$307,$E$307) + TIME($F$307,0,0)","v":"1900-01-13T17:00:00"},{"$f":"IF(A1222<'PV Data'!$H$10,0,SUMIFS('PV Data'!D:D,'PV Data'!A:A,MONTH(Conversions!A1222),'PV Data'!B:B,DAY(Conversions!A1222),'PV Data'!C:C,HOUR(Conversions!A1222))/1000)","v":0},null,2,20,20]
[{"$f":"A1222+TIME(0,15,0)","v":"1900-01-13T17:15:00"},{"$f":"B1222","v":0},null,2,20,21]
[{"$f":"A1223+TIME(0,15,0)","v":"1900-01-13T17:30:00"},{"$f":"B1222","v":0},null,2,20,22]
[{"$f":"A1224+TIME(0,15,0)","v":"1900-01-13T17:45:00"},{"$f":"B1222","v":0},null,2,20,23]
[{"$f":"DATE($C$308,$D$308,$E$308) + TIME($F$308,0,0)","v":"1900-01-13T18:00:00"},{"$f":"IF(A1226<'PV Data'!$H$10,0,SUMIFS('PV Data'!D:D,'PV Data'!A:A,MONTH(Conversions!A1226),'PV Data'!B:B,DAY(Conversions!A1226),'PV Data'!C:C,HOUR(Conversions!A1226))/1000)","v":0},null,2,21,0]
[{"$f":"A1226+TIME(0,15,0)","v":"1900-01-13T18:15:00"},{"$f":"B1226","v":0},null,2,21,1]
[{"$f":"A1227+TIME(0,15,0)","v":"1900-01-13T18:30:00"},{"$f":"B1226","v":0},null,2,21,2]
[{"$f":"A1228+TIME(0,15,0)","v":"1900-01-13T18:45:00"},{"$f":"B1226","v":0},null,2,21,3]
[{"$f":"DATE($C$309,$D$309,$E$309) + TIME($F$309,0,0)","v":"1900-01-13T19:00:00"},{"$f":"IF(A1230<'PV Data'!$H$10,0,SUMIFS('PV Data'!D:D,'PV Data'!A:A,MONTH(Conversions!A1230),'PV Data'!B:B,DAY(Conversions!A1230),'PV Data'!C:C,HOUR(Conversions!A1230))/1000)","v":0},null,2,21,4]
[{"$f":"A1230+TIME(0,15,0)","v":"1900-01-13T19:15:00"},{"$f":"B1230","v":0},null,2,21,5]
[{"$f":"A1231+TIME(0,15,0)","v":"1900-01-13T19:30:00"},{"$f":"B1230","v":0},null,2,21,6]
[{"$f":"A1232+TIME(0,15,0)","v":"1900-01-13T19:45:00"},{"$f":"B1230","v":0},null,2,21,7]
[{"$f":"DATE($C$310,$D$310,$E$310) + TIME($F$310,0,0)","v":"1900-01-13T20:00:00"},{"$f":"IF(A1234<'PV Data'!$H$10,0,SUMIFS('PV Data'!D:D,'PV Data'!A:A,MONTH(Conversions!A1234),'PV Data'!B:B,DAY(Conversions!A1234),'PV Data'!C:C,HOUR(Conversions!A1234))/1000)","v":0},null,2,21,8]
[{"$f":"A1234+TIME(0,15,0)","v":"1900-01-13T20:15:00"},{"$f":"B1234","v":0},null,2,21,9]
[{"$f":"A1235+TIME(0,15,0)","v":"1900-01-13T20:30:00"},{"$f":"B1234","v":0},null,2,21,10]
[{"$f":"A1236+TIME(0,15,0)","v":"1900-01-13T20:45:00"},{"$f":"B1234","v":0},null,2,21,11]
[{"$f":"DATE($C$311,$D$311,$E$311) + TIME($F$311,0,0)","v":"1900-01-13T21:00:00"},{"$f":"IF(A1238<'PV Data'!$H$10,0,SUMIFS('PV Data'!D:D,'PV Data'!A:A,MONTH(Conversions!A1238),'PV Data'!B:B,DAY(Conversions!A1238),'PV Data'!C:C,HOUR(Conversions!A1238))/1000)","v":0},null,2,21,12]
[{"$f":"A1238+TIME(0,15,0)","v":"1900-01-13T21:15:00"},{"$f":"B1238","v":0},null,2,21,13]
[{"$f":"A1239+TIME(0,15,0)","v":"1900-01-13T21:30:00"},{"$f":"B1238","v":0},null,2,21,14]
[{"$f":"A1240+TIME(0,15,0)","v":"1900-01-13T21:45:00"},{"$f":"B1238","v":0},null,2,21,15]
[{"$f":"DATE($C$312,$D$312,$E$312) + TIME($F$312,0,0)","v":"1900-01-13T22:00:00"},{"$f":"IF(A1242<'PV Data'!$H$10,0,SUMIFS('PV Data'!D:D,'PV Data'!A:A,MONTH(Conversions!A1242),'PV Data'!B:B,DAY(Conversions!A1242),'PV Data'!C:C,HOUR(Conversions!A1242))/1000)","v":0},null,2,21,16]
[{"$f":"A1242+TIME(0,15,0)","v":"1900-01-13T22:15:00"},{"$f":"B1242","v":0},null,2,21,17]
[{"$f":"A1243+TIME(0,15,0)","v":"1900-01-13T22:30:00"},{"$f":"B1242","v":0},null,2,21,18]
[{"$f":"A1244+TIME(0,15,0)","v":"1900-01-13T22:45:00"},{"$f":"B1242","v":0},null,2,21,19]
[{"$f":"DATE($C$313,$D$313,$E$313) + TIME($F$313,0,0)","v":"1900-01-13T23:00:00"},{"$f":"IF(A1246<'PV Data'!$H$10,0,SUMIFS('PV Data'!D:D,'PV Data'!A:A,MONTH(Conversions!A1246),'PV Data'!B:B,DAY(Conversions!A1246),'PV Data'!C:C,HOUR(Conversions!A1246))/1000)","v":0},null,2,21,20]
[{"$f":"A1246+TIME(0,15,0)","v":"1900-01-13T23:15:00"},{"$f":"B1246","v":0},null,2,21,21]
[{"$f":"A1247+TIME(0,15,0)","v":"1900-01-13T23:30:00"},{"$f":"B1246","v":0},null,2,21,22]
[{"$f":"A1248+TIME(0,15,0)","v":"1900-01-13T23:45:00"},{"$f":"B1246","v":0},null,2,21,23]
[{"$f":"DATE($C$314,$D$314,$E$314) + TIME($F$314,0,0)","v":"1900-01-14"},{"$f":"IF(A1250<'PV Data'!$H$10,0,SUMIFS('PV Data'!D:D,'PV Data'!A:A,MONTH(Conversions!A1250),'PV Data'!B:B,DAY(Conversions!A1250),'PV Data'!C:C,HOUR(Conversions!A1250))/1000)","v":0},null,2,22,0]
[{"$f":"A1250+TIME(0,15,0)","v":"1900-01-14T00:15:00"},{"$f":"B1250","v":0},null,2,22,1]
[{"$f":"A1251+TIME(0,15,0)","v":"1900-01-14T00:30:00"},{"$f":"B1250","v":0},null,2,22,2]
[{"$f":"A1252+TIME(0,15,0)","v":"1900-01-14T00:45:00"},{"$f":"B1250","v":0},null,2,22,3]
[{"$f":"DATE($C$315,$D$315,$E$315) + TIME($F$315,0,0)","v":"1900-01-14T01:00:00"},{"$f":"IF(A1254<'PV Data'!$H$10,0,SUMIFS('PV Data'!D:D,'PV Data'!A:A,MONTH(Conversions!A1254),'PV Data'!B:B,DAY(Conversions!A1254),'PV Data'!C:C,HOUR(Conversions!A1254))/1000)","v":0},null,2,22,4]
[{"$f":"A1254+TIME(0,15,0)","v":"1900-01-14T01:15:00"},{"$f":"B1254","v":0},null,2,22,5]
[{"$f":"A1255+TIME(0,15,0)","v":"1900-01-14T01:30:00"},{"$f":"B1254","v":0},null,2,22,6]
[{"$f":"A1256+TIME(0,15,0)","v":"1900-01-14T01:45:00"},{"$f":"B1254","v":0},null,2,22,7]
[{"$f":"DATE($C$316,$D$316,$E$316) + TIME($F$316,0,0)","v":"1900-01-14T02:00:00"},{"$f":"IF(A1258<'PV Data'!$H$10,0,SUMIFS('PV Data'!D:D,'PV Data'!A:A,MONTH(Conversions!A1258),'PV Data'!B:B,DAY(Conversions!A1258),'PV Data'!C:C,HOUR(Conversions!A1258))/1000)","v":0},null,2,22,8]
[{"$f":"A1258+TIME(0,15,0)","v":"1900-01-14T02:15:00"},{"$f":"B1258","v":0},null,2,22,9]
[{"$f":"A1259+TIME(0,15,0)","v":"1900-01-14T02:30:00"},{"$f":"B1258","v":0},null,2,22,10]
[{"$f":"A1260+TIME(0,15,0)","v":"1900-01-14T02:45:00"},{"$f":"B1258","v":0},null,2,22,11]
[{"$f":"DATE($C$317,$D$317,$E$317) + TIME($F$317,0,0)","v":"1900-01-14T03:00:00"},{"$f":"IF(A1262<'PV Data'!$H$10,0,SUMIFS('PV Data'!D:D,'PV Data'!A:A,MONTH(Conversions!A1262),'PV Data'!B:B,DAY(Conversions!A1262),'PV Data'!C:C,HOUR(Conversions!A1262))/1000)","v":0},null,2,22,12]
[{"$f":"A1262+TIME(0,15,0)","v":"1900-01-14T03:15:00"},{"$f":"B1262","v":0},null,2,22,13]
[{"$f":"A1263+TIME(0,15,0)","v":"1900-01-14T03:30:00"},{"$f":"B1262","v":0},null,2,22,14]
[{"$f":"A1264+TIME(0,15,0)","v":"1900-01-14T03:45:00"},{"$f":"B1262","v":0},null,2,22,15]
[{"$f":"DATE($C$318,$D$318,$E$318) + TIME($F$318,0,0)","v":"1900-01-14T04:00:00"},{"$f":"IF(A1266<'PV Data'!$H$10,0,SUMIFS('PV Data'!D:D,'PV Data'!A:A,MONTH(Conversions!A1266),'PV Data'!B:B,DAY(Conversions!A1266),'PV Data'!C:C,HOUR(Conversions!A1266))/1000)","v":0},null,2,22,16]
[{"$f":"A1266+TIME(0,15,0)","v":"1900-01-14T04:15:00"},{"$f":"B1266","v":0},null,2,22,17]
[{"$f":"A1267+TIME(0,15,0)","v":"1900-01-14T04:30:00"},{"$f":"B1266","v":0},null,2,22,18]
[{"$f":"A1268+TIME(0,15,0)","v":"1900-01-14T04:45:00"},{"$f":"B1266","v":0},null,2,22,19]
[{"$f":"DATE($C$319,$D$319,$E$319) + TIME($F$319,0,0)","v":"1900-01-14T05:00:00"},{"$f":"IF(A1270<'PV Data'!$H$10,0,SUMIFS('PV Data'!D:D,'PV Data'!A:A,MONTH(Conversions!A1270),'PV Data'!B:B,DAY(Conversions!A1270),'PV Data'!C:C,HOUR(Conversions!A1270))/1000)","v":0},null,2,22,20]
[{"$f":"A1270+TIME(0,15,0)","v":"1900-01-14T05:15:00"},{"$f":"B1270","v":0},null,2,22,21]
[{"$f":"A1271+TIME(0,15,0)","v":"1900-01-14T05:30:00"},{"$f":"B1270","v":0},null,2,22,22]
[{"$f":"A1272+TIME(0,15,0)","v":"1900-01-14T05:45:00"},{"$f":"B1270","v":0},null,2,22,23]
[{"$f":"DATE($C$320,$D$320,$E$320) + TIME($F$320,0,0)","v":"1900-01-14T06:00:00"},{"$f":"IF(A1274<'PV Data'!$H$10,0,SUMIFS('PV Data'!D:D,'PV Data'!A:A,MONTH(Conversions!A1274),'PV Data'!B:B,DAY(Conversions!A1274),'PV Data'!C:C,HOUR(Conversions!A1274))/1000)","v":0},null,2,23,0]
[{"$f":"A1274+TIME(0,15,0)","v":"1900-01-14T06:15:00"},{"$f":"B1274","v":0},null,2,23,1]
[{"$f":"A1275+TIME(0,15,0)","v":"1900-01-14T06:30:00"},{"$f":"B1274","v":0},null,2,23,2]
[{"$f":"A1276+TIME(0,15,0)","v":"1900-01-14T06:45:00"},{"$f":"B1274","v":0},null,2,23,3]
[{"$f":"DATE($C$321,$D$321,$E$321) + TIME($F$321,0,0)","v":"1900-01-14T07:00:00"},{"$f":"IF(A1278<'PV Data'!$H$10,0,SUMIFS('PV Data'!D:D,'PV Data'!A:A,MONTH(Conversions!A1278),'PV Data'!B:B,DAY(Conversions!A1278),'PV Data'!C:C,HOUR(Conversions!A1278))/1000)","v":0},null,2,23,4]
[{"$f":"A1278+TIME(0,15,0)","v":"1900-01-14T07:15:00"},{"$f":"B1278","v":0},null,2,23,5]
[{"$f":"A1279+TIME(0,15,0)","v":"1900-01-14T07:30:00"},{"$f":"B1278","v":0},null,2,23,6]
[{"$f":"A1280+TIME(0,15,0)","v":"1900-01-14T07:45:00"},{"$f":"B1278","v":0},null,2,23,7]
[{"$f":"DATE($C$322,$D$322,$E$322) + TIME($F$322,0,0)","v":"1900-01-14T08:00:00"},{"$f":"IF(A1282<'PV Data'!$H$10,0,SUMIFS('PV Data'!D:D,'PV Data'!A:A,MONTH(Conversions!A1282),'PV Data'!B:B,DAY(Conversions!A1282),'PV Data'!C:C,HOUR(Conversions!A1282))/1000)","v":0},null,2,23,8]
[{"$f":"A1282+TIME(0,15,0)","v":"1900-01-14T08:15:00"},{"$f":"B1282","v":0},null,2,23,9]
[{"$f":"A1283+TIME(0,15,0)","v":"1900-01-14T08:30:00"},{"$f":"B1282","v":0},null,2,23,10]
[{"$f":"A1284+TIME(0,15,0)","v":"1900-01-14T08:45:00"},{"$f":"B1282","v":0},null,2,23,11]
[{"$f":"DATE($C$323,$D$323,$E$323) + TIME($F$323,0,0)","v":"1900-01-14T09:00:00"},{"$f":"IF(A1286<'PV Data'!$H$10,0,SUMIFS('PV Data'!D:D,'PV Data'!A:A,MONTH(Conversions!A1286),'PV Data'!B:B,DAY(Conversions!A1286),'PV Data'!C:C,HOUR(Conversions!A1286))/1000)","v":0},null,2,23,12]
[{"$f":"A1286+TIME(0,15,0)","v":"1900-01-14T09:15:00"},{"$f":"B1286","v":0},null,2,23,13]
[{"$f":"A1287+TIME(0,15,0)","v":"1900-01-14T09:30:00"},{"$f":"B1286","v":0},null,2,23,14]
[{"$f":"A1288+TIME(0,15,0)","v":"1900-01-14T09:45:00"},{"$f":"B1286","v":0},null,2,23,15]
[{"$f":"DATE($C$324,$D$324,$E$324) + TIME($F$324,0,0)","v":"1900-01-14T10:00:00"},{"$f":"IF(A1290<'PV Data'!$H$10,0,SUMIFS('PV Data'!D:D,'PV Data'!A:A,MONTH(Conversions!A1290),'PV Data'!B:B,DAY(Conversions!A1290),'PV Data'!C:C,HOUR(Conversions!A1290))/1000)","v":0},null,2,23,16]
[{"$f":"A1290+TIME(0,15,0)","v":"1900-01-14T10:15:00"},{"$f":"B1290","v":0},null,2,23,17]
[{"$f":"A1291+TIME(0,15,0)","v":"1900-01-14T10:30:00"},{"$f":"B1290","v":0},null,2,23,18]
[{"$f":"A1292+TIME(0,15,0)","v":"1900-01-14T10:45:00"},{"$f":"B1290","v":0},null,2,23,19]
[{"$f":"DATE($C$325,$D$325,$E$325) + TIME($F$325,0,0)","v":"1900-01-14T11:00:00"},{"$f":"IF(A1294<'PV Data'!$H$10,0,SUMIFS('PV Data'!D:D,'PV Data'!A:A,MONTH(Conversions!A1294),'PV Data'!B:B,DAY(Conversions!A1294),'PV Data'!C:C,HOUR(Conversions!A1294))/1000)","v":0},null,2,23,20]
[{"$f":"A1294+TIME(0,15,0)","v":"1900-01-14T11:15:00"},{"$f":"B1294","v":0},null,2,23,21]
[{"$f":"A1295+TIME(0,15,0)","v":"1900-01-14T11:30:00"},{"$f":"B1294","v":0},null,2,23,22]
[{"$f":"A1296+TIME(0,15,0)","v":"1900-01-14T11:45:00"},{"$f":"B1294","v":0},null,2,23,23]
[{"$f":"DATE($C$326,$D$326,$E$326) + TIME($F$326,0,0)","v":"1900-01-14T12:00:00"},{"$f":"IF(A1298<'PV Data'!$H$10,0,SUMIFS('PV Data'!D:D,'PV Data'!A:A,MONTH(Conversions!A1298),'PV Data'!B:B,DAY(Conversions!A1298),'PV Data'!C:C,HOUR(Conversions!A1298))/1000)","v":0},null,2,24,0]
[{"$f":"A1298+TIME(0,15,0)","v":"1900-01-14T12:15:00"},{"$f":"B1298","v":0},null,2,24,1]
[{"$f":"A1299+TIME(0,15,0)","v":"1900-01-14T12:30:00"},{"$f":"B1298","v":0},null,2,24,2]
[{"$f":"A1300+TIME(0,15,0)","v":"1900-01-14T12:45:00"},{"$f":"B1298","v":0},null,2,24,3]
[{"$f":"DATE($C$327,$D$327,$E$327) + TIME($F$327,0,0)","v":"1900-01-14T13:00:00"},{"$f":"IF(A1302<'PV Data'!$H$10,0,SUMIFS('PV Data'!D:D,'PV Data'!A:A,MONTH(Conversions!A1302),'PV Data'!B:B,DAY(Conversions!A1302),'PV Data'!C:C,HOUR(Conversions!A1302))/1000)","v":0},null,2,24,4]
[{"$f":"A1302+TIME(0,15,0)","v":"1900-01-14T13:15:00"},{"$f":"B1302","v":0},null,2,24,5]
[{"$f":"A1303+TIME(0,15,0)","v":"1900-01-14T13:30:00"},{"$f":"B1302","v":0},null,2,24,6]
[{"$f":"A1304+TIME(0,15,0)","v":"1900-01-14T13:45:00"},{"$f":"B1302","v":0},null,2,24,7]
[{"$f":"DATE($C$328,$D$328,$E$328) + TIME($F$328,0,0)","v":"1900-01-14T14:00:00"},{"$f":"IF(A1306<'PV Data'!$H$10,0,SUMIFS('PV Data'!D:D,'PV Data'!A:A,MONTH(Conversions!A1306),'PV Data'!B:B,DAY(Conversions!A1306),'PV Data'!C:C,HOUR(Conversions!A1306))/1000)","v":0},null,2,24,8]
[{"$f":"A1306+TIME(0,15,0)","v":"1900-01-14T14:15:00"},{"$f":"B1306","v":0},null,2,24,9]
[{"$f":"A1307+TIME(0,15,0)","v":"1900-01-14T14:30:00"},{"$f":"B1306","v":0},null,2,24,10]
[{"$f":"A1308+TIME(0,15,0)","v":"1900-01-14T14:45:00"},{"$f":"B1306","v":0},null,2,24,11]
[{"$f":"DATE($C$329,$D$329,$E$329) + TIME($F$329,0,0)","v":"1900-01-14T15:00:00"},{"$f":"IF(A1310<'PV Data'!$H$10,0,SUMIFS('PV Data'!D:D,'PV Data'!A:A,MONTH(Conversions!A1310),'PV Data'!B:B,DAY(Conversions!A1310),'PV Data'!C:C,HOUR(Conversions!A1310))/1000)","v":0},null,2,24,12]
[{"$f":"A1310+TIME(0,15,0)","v":"1900-01-14T15:15:00"},{"$f":"B1310","v":0},null,2,24,13]
[{"$f":"A1311+TIME(0,15,0)","v":"1900-01-14T15:30:00"},{"$f":"B1310","v":0},null,2,24,14]
[{"$f":"A1312+TIME(0,15,0)","v":"1900-01-14T15:45:00"},{"$f":"B1310","v":0},null,2,24,15]
[{"$f":"DATE($C$330,$D$330,$E$330) + TIME($F$330,0,0)","v":"1900-01-14T16:00:00"},{"$f":"IF(A1314<'PV Data'!$H$10,0,SUMIFS('PV Data'!D:D,'PV Data'!A:A,MONTH(Conversions!A1314),'PV Data'!B:B,DAY(Conversions!A1314),'PV Data'!C:C,HOUR(Conversions!A1314))/1000)","v":0},null,2,24,16]
[{"$f":"A1314+TIME(0,15,0)","v":"1900-01-14T16:15:00"},{"$f":"B1314","v":0},null,2,24,17]
[{"$f":"A1315+TIME(0,15,0)","v":"1900-01-14T16:30:00"},{"$f":"B1314","v":0},null,2,24,18]
[{"$f":"A1316+TIME(0,15,0)","v":"1900-01-14T16:45:00"},{"$f":"B1314","v":0},null,2,24,19]
[{"$f":"DATE($C$331,$D$331,$E$331) + TIME($F$331,0,0)","v":"1900-01-14T17:00:00"},{"$f":"IF(A1318<'PV Data'!$H$10,0,SUMIFS('PV Data'!D:D,'PV Data'!A:A,MONTH(Conversions!A1318),'PV Data'!B:B,DAY(Conversions!A1318),'PV Data'!C:C,HOUR(Conversions!A1318))/1000)","v":0},null,2,24,20]
[{"$f":"A1318+TIME(0,15,0)","v":"1900-01-14T17:15:00"},{"$f":"B1318","v":0},null,2,24,21]
[{"$f":"A1319+TIME(0,15,0)","v":"1900-01-14T17:30:00"},{"$f":"B1318","v":0},null,2,24,22]
[{"$f":"A1320+TIME(0,15,0)","v":"1900-01-14T17:45:00"},{"$f":"B1318","v":0},null,2,24,23]
[{"$f":"DATE($C$332,$D$332,$E$332) + TIME($F$332,0,0)","v":"1900-01-14T18:00:00"},{"$f":"IF(A1322<'PV Data'!$H$10,0,SUMIFS('PV Data'!D:D,'PV Data'!A:A,MONTH(Conversions!A1322),'PV Data'!B:B,DAY(Conversions!A1322),'PV Data'!C:C,HOUR(Conversions!A1322))/1000)","v":0},null,2,25,0]
[{"$f":"A1322+TIME(0,15,0)","v":"1900-01-14T18:15:00"},{"$f":"B1322","v":0},null,2,25,1]
[{"$f":"A1323+TIME(0,15,0)","v":"1900-01-14T18:30:00"},{"$f":"B1322","v":0},null,2,25,2]
[{"$f":"A1324+TIME(0,15,0)","v":"1900-01-14T18:45:00"},{"$f":"B1322","v":0},null,2,25,3]
[{"$f":"DATE($C$333,$D$333,$E$333) + TIME($F$333,0,0)","v":"1900-01-14T19:00:00"},{"$f":"IF(A1326<'PV Data'!$H$10,0,SUMIFS('PV Data'!D:D,'PV Data'!A:A,MONTH(Conversions!A1326),'PV Data'!B:B,DAY(Conversions!A1326),'PV Data'!C:C,HOUR(Conversions!A1326))/1000)","v":0},null,2,25,4]
[{"$f":"A1326+TIME(0,15,0)","v":"1900-01-14T19:15:00"},{"$f":"B1326","v":0},null,2,25,5]
[{"$f":"A1327+TIME(0,15,0)","v":"1900-01-14T19:30:00"},{"$f":"B1326","v":0},null,2,25,6]
[{"$f":"A1328+TIME(0,15,0)","v":"1900-01-14T19:45:00"},{"$f":"B1326","v":0},null,2,25,7]
[{"$f":"DATE($C$334,$D$334,$E$334) + TIME($F$334,0,0)","v":"1900-01-14T20:00:00"},{"$f":"IF(A1330<'PV Data'!$H$10,0,SUMIFS('PV Data'!D:D,'PV Data'!A:A,MONTH(Conversions!A1330),'PV Data'!B:B,DAY(Conversions!A1330),'PV Data'!C:C,HOUR(Conversions!A1330))/1000)","v":0},null,2,25,8]
[{"$f":"A1330+TIME(0,15,0)","v":"1900-01-14T20:15:00"},{"$f":"B1330","v":0},null,2,25,9]
[{"$f":"A1331+TIME(0,15,0)","v":"1900-01-14T20:30:00"},{"$f":"B1330","v":0},null,2,25,10]
[{"$f":"A1332+TIME(0,15,0)","v":"1900-01-14T20:45:00"},{"$f":"B1330","v":0},null,2,25,11]
[{"$f":"DATE($C$335,$D$335,$E$335) + TIME($F$335,0,0)","v":"1900-01-14T21:00:00"},{"$f":"IF(A1334<'PV Data'!$H$10,0,SUMIFS('PV Data'!D:D,'PV Data'!A:A,MONTH(Conversions!A1334),'PV Data'!B:B,DAY(Conversions!A1334),'PV Data'!C:C,HOUR(Conversions!A1334))/1000)","v":0},null,2,25,12]
[{"$f":"A1334+TIME(0,15,0)","v":"1900-01-14T21:15:00"},{"$f":"B1334","v":0},null,2,25,13]
[{"$f":"A1335+TIME(0,15,0)","v":"1900-01-14T21:30:00"},{"$f":"B1334","v":0},null,2,25,14]
[{"$f":"A1336+TIME(0,15,0)","v":"1900-01-14T21:45:00"},{"$f":"B1334","v":0},null,2,25,15]
[{"$f":"DATE($C$336,$D$336,$E$336) + TIME($F$336,0,0)","v":"1900-01-14T22:00:00"},{"$f":"IF(A1338<'PV Data'!$H$10,0,SUMIFS('PV Data'!D:D,'PV Data'!A:A,MONTH(Conversions!A1338),'PV Data'!B:B,DAY(Conversions!A1338),'PV Data'!C:C,HOUR(Conversions!A1338))/1000)","v":0},null,2,25,16]
[{"$f":"A1338+TIME(0,15,0)","v":"1900-01-14T22:15:00"},{"$f":"B1338","v":0},null,2,25,17]
[{"$f":"A1339+TIME(0,15,0)","v":"1900-01-14T22:30:00"},{"$f":"B1338","v":0},null,2,25,18]
[{"$f":"A1340+TIME(0,15,0)","v":"1900-01-14T22:45:00"},{"$f":"B1338","v":0},null,2,25,19]
[{"$f":"DATE($C$337,$D$337,$E$337) + TIME($F$337,0,0)","v":"1900-01-14T23:00:00"},{"$f":"IF(A1342<'PV Data'!$H$10,0,SUMIFS('PV Data'!D:D,'PV Data'!A:A,MONTH(Conversions!A1342),'PV Data'!B:B,DAY(Conversions!A1342),'PV Data'!C:C,HOUR(Conversions!A1342))/1000)","v":0},null,2,25,20]
[{"$f":"A1342+TIME(0,15,0)","v":"1900-01-14T23:15:00"},{"$f":"B1342","v":0},null,2,25,21]
[{"$f":"A1343+TIME(0,15,0)","v":"1900-01-14T23:30:00"},{"$f":"B1342","v":0},null,2,25,22]
[{"$f":"A1344+TIME(0,15,0)","v":"1900-01-14T23:45:00"},{"$f":"B1342","v":0},null,2,25,23]
[{"$f":"DATE($C$338,$D$338,$E$338) + TIME($F$338,0,0)","v":"1900-01-15"},{"$f":"IF(A1346<'PV Data'!$H$10,0,SUMIFS('PV Data'!D:D,'PV Data'!A:A,MONTH(Conversions!A1346),'PV Data'!B:B,DAY(Conversions!A1346),'PV Data'!C:C,HOUR(Conversions!A1346))/1000)","v":0},null,2,26,0]
[{"$f":"A1346+TIME(0,15,0)","v":"1900-01-15T00:15:00"},{"$f":"B1346","v":0},null,2,26,1]
[{"$f":"A1347+TIME(0,15,0)","v":"1900-01-15T00:30:00"},{"$f":"B1346","v":0},null,2,26,2]
[{"$f":"A1348+TIME(0,15,0)","v":"1900-01-15T00:45:00"},{"$f":"B1346","v":0},null,2,26,3]
[{"$f":"DATE($C$339,$D$339,$E$339) + TIME($F$339,0,0)","v":"1900-01-15T01:00:00"},{"$f":"IF(A1350<'PV Data'!$H$10,0,SUMIFS('PV Data'!D:D,'PV Data'!A:A,MONTH(Conversions!A1350),'PV Data'!B:B,DAY(Conversions!A1350),'PV Data'!C:C,HOUR(Conversions!A1350))/1000)","v":0},null,2,26,4]
[{"$f":"A1350+TIME(0,15,0)","v":"1900-01-15T01:15:00"},{"$f":"B1350","v":0},null,2,26,5]
[{"$f":"A1351+TIME(0,15,0)","v":"1900-01-15T01:30:00"},{"$f":"B1350","v":0},null,2,26,6]
[{"$f":"A1352+TIME(0,15,0)","v":"1900-01-15T01:45:00"},{"$f":"B1350","v":0},null,2,26,7]
[{"$f":"DATE($C$340,$D$340,$E$340) + TIME($F$340,0,0)","v":"1900-01-15T02:00:00"},{"$f":"IF(A1354<'PV Data'!$H$10,0,SUMIFS('PV Data'!D:D,'PV Data'!A:A,MONTH(Conversions!A1354),'PV Data'!B:B,DAY(Conversions!A1354),'PV Data'!C:C,HOUR(Conversions!A1354))/1000)","v":0},null,2,26,8]
[{"$f":"A1354+TIME(0,15,0)","v":"1900-01-15T02:15:00"},{"$f":"B1354","v":0},null,2,26,9]
[{"$f":"A1355+TIME(0,15,0)","v":"1900-01-15T02:30:00"},{"$f":"B1354","v":0},null,2,26,10]
[{"$f":"A1356+TIME(0,15,0)","v":"1900-01-15T02:45:00"},{"$f":"B1354","v":0},null,2,26,11]
[{"$f":"DATE($C$341,$D$341,$E$341) + TIME($F$341,0,0)","v":"1900-01-15T03:00:00"},{"$f":"IF(A1358<'PV Data'!$H$10,0,SUMIFS('PV Data'!D:D,'PV Data'!A:A,MONTH(Conversions!A1358),'PV Data'!B:B,DAY(Conversions!A1358),'PV Data'!C:C,HOUR(Conversions!A1358))/1000)","v":0},null,2,26,12]
[{"$f":"A1358+TIME(0,15,0)","v":"1900-01-15T03:15:00"},{"$f":"B1358","v":0},null,2,26,13]
[{"$f":"A1359+TIME(0,15,0)","v":"1900-01-15T03:30:00"},{"$f":"B1358","v":0},null,2,26,14]
[{"$f":"A1360+TIME(0,15,0)","v":"1900-01-15T03:45:00"},{"$f":"B1358","v":0},null,2,26,15]
[{"$f":"DATE($C$342,$D$342,$E$342) + TIME($F$342,0,0)","v":"1900-01-15T04:00:00"},{"$f":"IF(A1362<'PV Data'!$H$10,0,SUMIFS('PV Data'!D:D,'PV Data'!A:A,MONTH(Conversions!A1362),'PV Data'!B:B,DAY(Conversions!A1362),'PV Data'!C:C,HOUR(Conversions!A1362))/1000)","v":0},null,2,26,16]
[{"$f":"A1362+TIME(0,15,0)","v":"1900-01-15T04:15:00"},{"$f":"B1362","v":0},null,2,26,17]
[{"$f":"A1363+TIME(0,15,0)","v":"1900-01-15T04:30:00"},{"$f":"B1362","v":0},null,2,26,18]
[{"$f":"A1364+TIME(0,15,0)","v":"1900-01-15T04:45:00"},{"$f":"B1362","v":0},null,2,26,19]
[{"$f":"DATE($C$343,$D$343,$E$343) + TIME($F$343,0,0)","v":"1900-01-15T05:00:00"},{"$f":"IF(A1366<'PV Data'!$H$10,0,SUMIFS('PV Data'!D:D,'PV Data'!A:A,MONTH(Conversions!A1366),'PV Data'!B:B,DAY(Conversions!A1366),'PV Data'!C:C,HOUR(Conversions!A1366))/1000)","v":0},null,2,26,20]
[{"$f":"A1366+TIME(0,15,0)","v":"1900-01-15T05:15:00"},{"$f":"B1366","v":0},null,2,26,21]
[{"$f":"A1367+TIME(0,15,0)","v":"1900-01-15T05:30:00"},{"$f":"B1366","v":0},null,2,26,22]
[{"$f":"A1368+TIME(0,15,0)","v":"1900-01-15T05:45:00"},{"$f":"B1366","v":0},null,2,26,23]
[{"$f":"DATE($C$344,$D$344,$E$344) + TIME($F$344,0,0)","v":"1900-01-15T06:00:00"},{"$f":"IF(A1370<'PV Data'!$H$10,0,SUMIFS('PV Data'!D:D,'PV Data'!A:A,MONTH(Conversions!A1370),'PV Data'!B:B,DAY(Conversions!A1370),'PV Data'!C:C,HOUR(Conversions!A1370))/1000)","v":0},null,2,27,0]
[{"$f":"A1370+TIME(0,15,0)","v":"1900-01-15T06:15:00"},{"$f":"B1370","v":0},null,2,27,1]
[{"$f":"A1371+TIME(0,15,0)","v":"1900-01-15T06:30:00"},{"$f":"B1370","v":0},null,2,27,2]
[{"$f":"A1372+TIME(0,15,0)","v":"1900-01-15T06:45:00"},{"$f":"B1370","v":0},null,2,27,3]
[{"$f":"DATE($C$345,$D$345,$E$345) + TIME($F$345,0,0)","v":"1900-01-15T07:00:00"},{"$f":"IF(A1374<'PV Data'!$H$10,0,SUMIFS('PV Data'!D:D,'PV Data'!A:A,MONTH(Conversions!A1374),'PV Data'!B:B,DAY(Conversions!A1374),'PV Data'!C:C,HOUR(Conversions!A1374))/1000)","v":0},null,2,27,4]
[{"$f":"A1374+TIME(0,15,0)","v":"1900-01-15T07:15:00"},{"$f":"B1374","v":0},null,2,27,5]
[{"$f":"A1375+TIME(0,15,0)","v":"1900-01-15T07:30:00"},{"$f":"B1374","v":0},null,2,27,6]
[{"$f":"A1376+TIME(0,15,0)","v":"1900-01-15T07:45:00"},{"$f":"B1374","v":0},null,2,27,7]
[{"$f":"DATE($C$346,$D$346,$E$346) + TIME($F$346,0,0)","v":"1900-01-15T08:00:00"},{"$f":"IF(A1378<'PV Data'!$H$10,0,SUMIFS('PV Data'!D:D,'PV Data'!A:A,MONTH(Conversions!A1378),'PV Data'!B:B,DAY(Conversions!A1378),'PV Data'!C:C,HOUR(Conversions!A1378))/1000)","v":0},null,2,27,8]
[{"$f":"A1378+TIME(0,15,0)","v":"1900-01-15T08:15:00"},{"$f":"B1378","v":0},null,2,27,9]
[{"$f":"A1379+TIME(0,15,0)","v":"1900-01-15T08:30:00"},{"$f":"B1378","v":0},null,2,27,10]
[{"$f":"A1380+TIME(0,15,0)","v":"1900-01-15T08:45:00"},{"$f":"B1378","v":0},null,2,27,11]
[{"$f":"DATE($C$347,$D$347,$E$347) + TIME($F$347,0,0)","v":"1900-01-15T09:00:00"},{"$f":"IF(A1382<'PV Data'!$H$10,0,SUMIFS('PV Data'!D:D,'PV Data'!A:A,MONTH(Conversions!A1382),'PV Data'!B:B,DAY(Conversions!A1382),'PV Data'!C:C,HOUR(Conversions!A1382))/1000)","v":0},null,2,27,12]
[{"$f":"A1382+TIME(0,15,0)","v":"1900-01-15T09:15:00"},{"$f":"B1382","v":0},null,2,27,13]
[{"$f":"A1383+TIME(0,15,0)","v":"1900-01-15T09:30:00"},{"$f":"B1382","v":0},null,2,27,14]
[{"$f":"A1384+TIME(0,15,0)","v":"1900-01-15T09:45:00"},{"$f":"B1382","v":0},null,2,27,15]
[{"$f":"DATE($C$348,$D$348,$E$348) + TIME($F$348,0,0)","v":"1900-01-15T10:00:00"},{"$f":"IF(A1386<'PV Data'!$H$10,0,SUMIFS('PV Data'!D:D,'PV Data'!A:A,MONTH(Conversions!A1386),'PV Data'!B:B,DAY(Conversions!A1386),'PV Data'!C:C,HOUR(Conversions!A1386))/1000)","v":0},null,2,27,16]
[{"$f":"A1386+TIME(0,15,0)","v":"1900-01-15T10:15:00"},{"$f":"B1386","v":0},null,2,27,17]
[{"$f":"A1387+TIME(0,15,0)","v":"1900-01-15T10:30:00"},{"$f":"B1386","v":0},null,2,27,18]
[{"$f":"A1388+TIME(0,15,0)","v":"1900-01-15T10:45:00"},{"$f":"B1386","v":0},null,2,27,19]
[{"$f":"DATE($C$349,$D$349,$E$349) + TIME($F$349,0,0)","v":"1900-01-15T11:00:00"},{"$f":"IF(A1390<'PV Data'!$H$10,0,SUMIFS('PV Data'!D:D,'PV Data'!A:A,MONTH(Conversions!A1390),'PV Data'!B:B,DAY(Conversions!A1390),'PV Data'!C:C,HOUR(Conversions!A1390))/1000)","v":0},null,2,27,20]
[{"$f":"A1390+TIME(0,15,0)","v":"1900-01-15T11:15:00"},{"$f":"B1390","v":0},null,2,27,21]
[{"$f":"A1391+TIME(0,15,0)","v":"1900-01-15T11:30:00"},{"$f":"B1390","v":0},null,2,27,22]
[{"$f":"A1392+TIME(0,15,0)","v":"1900-01-15T11:45:00"},{"$f":"B1390","v":0},null,2,27,23]
[{"$f":"DATE($C$350,$D$350,$E$350) + TIME($F$350,0,0)","v":"1900-01-15T12:00:00"},{"$f":"IF(A1394<'PV Data'!$H$10,0,SUMIFS('PV Data'!D:D,'PV Data'!A:A,MONTH(Conversions!A1394),'PV Data'!B:B,DAY(Conversions!A1394),'PV Data'!C:C,HOUR(Conversions!A1394))/1000)","v":0},null,2,28,0]
[{"$f":"A1394+TIME(0,15,0)","v":"1900-01-15T12:15:00"},{"$f":"B1394","v":0},null,2,28,1]
[{"$f":"A1395+TIME(0,15,0)","v":"1900-01-15T12:30:00"},{"$f":"B1394","v":0},null,2,28,2]
[{"$f":"A1396+TIME(0,15,0)","v":"1900-01-15T12:45:00"},{"$f":"B1394","v":0},null,2,28,3]
[{"$f":"DATE($C$351,$D$351,$E$351) + TIME($F$351,0,0)","v":"1900-01-15T13:00:00"},{"$f":"IF(A1398<'PV Data'!$H$10,0,SUMIFS('PV Data'!D:D,'PV Data'!A:A,MONTH(Conversions!A1398),'PV Data'!B:B,DAY(Conversions!A1398),'PV Data'!C:C,HOUR(Conversions!A1398))/1000)","v":0},null,2,28,4]
[{"$f":"A1398+TIME(0,15,0)","v":"1900-01-15T13:15:00"},{"$f":"B1398","v":0},null,2,28,5]
[{"$f":"A1399+TIME(0,15,0)","v":"1900-01-15T13:30:00"},{"$f":"B1398","v":0},null,2,28,6]
[{"$f":"A1400+TIME(0,15,0)","v":"1900-01-15T13:45:00"},{"$f":"B1398","v":0},null,2,28,7]
[{"$f":"DATE($C$352,$D$352,$E$352) + TIME($F$352,0,0)","v":"1900-01-15T14:00:00"},{"$f":"IF(A1402<'PV Data'!$H$10,0,SUMIFS('PV Data'!D:D,'PV Data'!A:A,MONTH(Conversions!A1402),'PV Data'!B:B,DAY(Conversions!A1402),'PV Data'!C:C,HOUR(Conversions!A1402))/1000)","v":0},null,2,28,8]
[{"$f":"A1402+TIME(0,15,0)","v":"1900-01-15T14:15:00"},{"$f":"B1402","v":0},null,2,28,9]
[{"$f":"A1403+TIME(0,15,0)","v":"1900-01-15T14:30:00"},{"$f":"B1402","v":0},null,2,28,10]
[{"$f":"A1404+TIME(0,15,0)","v":"1900-01-15T14:45:00"},{"$f":"B1402","v":0},null,2,28,11]
[{"$f":"DATE($C$353,$D$353,$E$353) + TIME($F$353,0,0)","v":"1900-01-15T15:00:00"},{"$f":"IF(A1406<'PV Data'!$H$10,0,SUMIFS('PV Data'!D:D,'PV Data'!A:A,MONTH(Conversions!A1406),'PV Data'!B:B,DAY(Conversions!A1406),'PV Data'!C:C,HOUR(Conversions!A1406))/1000)","v":0},null,2,28,12]
[{"$f":"A1406+TIME(0,15,0)","v":"1900-01-15T15:15:00"},{"$f":"B1406","v":0},null,2,28,13]
[{"$f":"A1407+TIME(0,15,0)","v":"1900-01-15T15:30:00"},{"$f":"B1406","v":0},null,2,28,14]
[{"$f":"A1408+TIME(0,15,0)","v":"1900-01-15T15:45:00"},{"$f":"B1406","v":0},null,2,28,15]
[{"$f":"DATE($C$354,$D$354,$E$354) + TIME($F$354,0,0)","v":"1900-01-15T16:00:00"},{"$f":"IF(A1410<'PV Data'!$H$10,0,SUMIFS('PV Data'!D:D,'PV Data'!A:A,MONTH(Conversions!A1410),'PV Data'!B:B,DAY(Conversions!A1410),'PV Data'!C:C,HOUR(Conversions!A1410))/1000)","v":0},null,2,28,16]
[{"$f":"A1410+TIME(0,15,0)","v":"1900-01-15T16:15:00"},{"$f":"B1410","v":0},null,2,28,17]
[{"$f":"A1411+TIME(0,15,0)","v":"1900-01-15T16:30:00"},{"$f":"B1410","v":0},null,2,28,18]
[{"$f":"A1412+TIME(0,15,0)","v":"1900-01-15T16:45:00"},{"$f":"B1410","v":0},null,2,28,19]
[{"$f":"DATE($C$355,$D$355,$E$355) + TIME($F$355,0,0)","v":"1900-01-15T17:00:00"},{"$f":"IF(A1414<'PV Data'!$H$10,0,SUMIFS('PV Data'!D:D,'PV Data'!A:A,MONTH(Conversions!A1414),'PV Data'!B:B,DAY(Conversions!A1414),'PV Data'!C:C,HOUR(Conversions!A1414))/1000)","v":0},null,2,28,20]
[{"$f":"A1414+TIME(0,15,0)","v":"1900-01-15T17:15:00"},{"$f":"B1414","v":0},null,2,28,21]
[{"$f":"A1415+TIME(0,15,0)","v":"1900-01-15T17:30:00"},{"$f":"B1414","v":0},null,2,28,22]
[{"$f":"A1416+TIME(0,15,0)","v":"1900-01-15T17:45:00"},{"$f":"B1414","v":0},null,2,28,23]
[{"$f":"DATE($C$356,$D$356,$E$356) + TIME($F$356,0,0)","v":"1900-01-15T18:00:00"},{"$f":"IF(A1418<'PV Data'!$H$10,0,SUMIFS('PV Data'!D:D,'PV Data'!A:A,MONTH(Conversions!A1418),'PV Data'!B:B,DAY(Conversions!A1418),'PV Data'!C:C,HOUR(Conversions!A1418))/1000)","v":0},null,3,1,0]
[{"$f":"A1418+TIME(0,15,0)","v":"1900-01-15T18:15:00"},{"$f":"B1418","v":0},null,3,1,1]
[{"$f":"A1419+TIME(0,15,0)","v":"1900-01-15T18:30:00"},{"$f":"B1418","v":0},null,3,1,2]
[{"$f":"A1420+TIME(0,15,0)","v":"1900-01-15T18:45:00"},{"$f":"B1418","v":0},null,3,1,3]
[{"$f":"DATE($C$357,$D$357,$E$357) + TIME($F$357,0,0)","v":"1900-01-15T19:00:00"},{"$f":"IF(A1422<'PV Data'!$H$10,0,SUMIFS('PV Data'!D:D,'PV Data'!A:A,MONTH(Conversions!A1422),'PV Data'!B:B,DAY(Conversions!A1422),'PV Data'!C:C,HOUR(Conversions!A1422))/1000)","v":0},null,3,1,4]
[{"$f":"A1422+TIME(0,15,0)","v":"1900-01-15T19:15:00"},{"$f":"B1422","v":0},null,3,1,5]
[{"$f":"A1423+TIME(0,15,0)","v":"1900-01-15T19:30:00"},{"$f":"B1422","v":0},null,3,1,6]
[{"$f":"A1424+TIME(0,15,0)","v":"1900-01-15T19:45:00"},{"$f":"B1422","v":0},null,3,1,7]
[{"$f":"DATE($C$358,$D$358,$E$358) + TIME($F$358,0,0)","v":"1900-01-15T20:00:00"},{"$f":"IF(A1426<'PV Data'!$H$10,0,SUMIFS('PV Data'!D:D,'PV Data'!A:A,MONTH(Conversions!A1426),'PV Data'!B:B,DAY(Conversions!A1426),'PV Data'!C:C,HOUR(Conversions!A1426))/1000)","v":0},null,3,1,8]
[{"$f":"A1426+TIME(0,15,0)","v":"1900-01-15T20:15:00"},{"$f":"B1426","v":0},null,3,1,9]
[{"$f":"A1427+TIME(0,15,0)","v":"1900-01-15T20:30:00"},{"$f":"B1426","v":0},null,3,1,10]
[{"$f":"A1428+TIME(0,15,0)","v":"1900-01-15T20:45:00"},{"$f":"B1426","v":0},null,3,1,11]
[{"$f":"DATE($C$359,$D$359,$E$359) + TIME($F$359,0,0)","v":"1900-01-15T21:00:00"},{"$f":"IF(A1430<'PV Data'!$H$10,0,SUMIFS('PV Data'!D:D,'PV Data'!A:A,MONTH(Conversions!A1430),'PV Data'!B:B,DAY(Conversions!A1430),'PV Data'!C:C,HOUR(Conversions!A1430))/1000)","v":0},null,3,1,12]
[{"$f":"A1430+TIME(0,15,0)","v":"1900-01-15T21:15:00"},{"$f":"B1430","v":0},null,3,1,13]
[{"$f":"A1431+TIME(0,15,0)","v":"1900-01-15T21:30:00"},{"$f":"B1430","v":0},null,3,1,14]
[{"$f":"A1432+TIME(0,15,0)","v":"1900-01-15T21:45:00"},{"$f":"B1430","v":0},null,3,1,15]
[{"$f":"DATE($C$360,$D$360,$E$360) + TIME($F$360,0,0)","v":"1900-01-15T22:00:00"},{"$f":"IF(A1434<'PV Data'!$H$10,0,SUMIFS('PV Data'!D:D,'PV Data'!A:A,MONTH(Conversions!A1434),'PV Data'!B:B,DAY(Conversions!A1434),'PV Data'!C:C,HOUR(Conversions!A1434))/1000)","v":0},null,3,1,16]
[{"$f":"A1434+TIME(0,15,0)","v":"1900-01-15T22:15:00"},{"$f":"B1434","v":0},null,3,1,17]
[{"$f":"A1435+TIME(0,15,0)","v":"1900-01-15T22:30:00"},{"$f":"B1434","v":0},null,3,1,18]
[{"$f":"A1436+TIME(0,15,0)","v":"1900-01-15T22:45:00"},{"$f":"B1434","v":0},null,3,1,19]
[{"$f":"DATE($C$361,$D$361,$E$361) + TIME($F$361,0,0)","v":"1900-01-15T23:00:00"},{"$f":"IF(A1438<'PV Data'!$H$10,0,SUMIFS('PV Data'!D:D,'PV Data'!A:A,MONTH(Conversions!A1438),'PV Data'!B:B,DAY(Conversions!A1438),'PV Data'!C:C,HOUR(Conversions!A1438))/1000)","v":0},null,3,1,20]
[{"$f":"A1438+TIME(0,15,0)","v":"1900-01-15T23:15:00"},{"$f":"B1438","v":0},null,3,1,21]
[{"$f":"A1439+TIME(0,15,0)","v":"1900-01-15T23:30:00"},{"$f":"B1438","v":0},null,3,1,22]
[{"$f":"A1440+TIME(0,15,0)","v":"1900-01-15T23:45:00"},{"$f":"B1438","v":0},null,3,1,23]
[{"$f":"DATE($C$362,$D$362,$E$362) + TIME($F$362,0,0)","v":"1900-01-16"},{"$f":"IF(A1442<'PV Data'!$H$10,0,SUMIFS('PV Data'!D:D,'PV Data'!A:A,MONTH(Conversions!A1442),'PV Data'!B:B,DAY(Conversions!A1442),'PV Data'!C:C,HOUR(Conversions!A1442))/1000)","v":0},null,3,2,0]
[{"$f":"A1442+TIME(0,15,0)","v":"1900-01-16T00:15:00"},{"$f":"B1442","v":0},null,3,2,1]
[{"$f":"A1443+TIME(0,15,0)","v":"1900-01-16T00:30:00"},{"$f":"B1442","v":0},null,3,2,2]
[{"$f":"A1444+TIME(0,15,0)","v":"1900-01-16T00:45:00"},{"$f":"B1442","v":0},null,3,2,3]
[{"$f":"DATE($C$363,$D$363,$E$363) + TIME($F$363,0,0)","v":"1900-01-16T01:00:00"},{"$f":"IF(A1446<'PV Data'!$H$10,0,SUMIFS('PV Data'!D:D,'PV Data'!A:A,MONTH(Conversions!A1446),'PV Data'!B:B,DAY(Conversions!A1446),'PV Data'!C:C,HOUR(Conversions!A1446))/1000)","v":0},null,3,2,4]
[{"$f":"A1446+TIME(0,15,0)","v":"1900-01-16T01:15:00"},{"$f":"B1446","v":0},null,3,2,5]
[{"$f":"A1447+TIME(0,15,0)","v":"1900-01-16T01:30:00"},{"$f":"B1446","v":0},null,3,2,6]
[{"$f":"A1448+TIME(0,15,0)","v":"1900-01-16T01:45:00"},{"$f":"B1446","v":0},null,3,2,7]
[{"$f":"DATE($C$364,$D$364,$E$364) + TIME($F$364,0,0)","v":"1900-01-16T02:00:00"},{"$f":"IF(A1450<'PV Data'!$H$10,0,SUMIFS('PV Data'!D:D,'PV Data'!A:A,MONTH(Conversions!A1450),'PV Data'!B:B,DAY(Conversions!A1450),'PV Data'!C:C,HOUR(Conversions!A1450))/1000)","v":0},null,3,2,8]
[{"$f":"A1450+TIME(0,15,0)","v":"1900-01-16T02:15:00"},{"$f":"B1450","v":0},null,3,2,9]
[{"$f":"A1451+TIME(0,15,0)","v":"1900-01-16T02:30:00"},{"$f":"B1450","v":0},null,3,2,10]
[{"$f":"A1452+TIME(0,15,0)","v":"1900-01-16T02:45:00"},{"$f":"B1450","v":0},null,3,2,11]
[{"$f":"DATE($C$365,$D$365,$E$365) + TIME($F$365,0,0)","v":"1900-01-16T03:00:00"},{"$f":"IF(A1454<'PV Data'!$H$10,0,SUMIFS('PV Data'!D:D,'PV Data'!A:A,MONTH(Conversions!A1454),'PV Data'!B:B,DAY(Conversions!A1454),'PV Data'!C:C,HOUR(Conversions!A1454))/1000)","v":0},null,3,2,12]
[{"$f":"A1454+TIME(0,15,0)","v":"1900-01-16T03:15:00"},{"$f":"B1454","v":0},null,3,2,13]
[{"$f":"A1455+TIME(0,15,0)","v":"1900-01-16T03:30:00"},{"$f":"B1454","v":0},null,3,2,14]
[{"$f":"A1456+TIME(0,15,0)","v":"1900-01-16T03:45:00"},{"$f":"B1454","v":0},null,3,2,15]
[{"$f":"DATE($C$366,$D$366,$E$366) + TIME($F$366,0,0)","v":"1900-01-16T04:00:00"},{"$f":"IF(A1458<'PV Data'!$H$10,0,SUMIFS('PV Data'!D:D,'PV Data'!A:A,MONTH(Conversions!A1458),'PV Data'!B:B,DAY(Conversions!A1458),'PV Data'!C:C,HOUR(Conversions!A1458))/1000)","v":0},null,3,2,16]
[{"$f":"A1458+TIME(0,15,0)","v":"1900-01-16T04:15:00"},{"$f":"B1458","v":0},null,3,2,17]
[{"$f":"A1459+TIME(0,15,0)","v":"1900-01-16T04:30:00"},{"$f":"B1458","v":0},null,3,2,18]
[{"$f":"A1460+TIME(0,15,0)","v":"1900-01-16T04:45:00"},{"$f":"B1458","v":0},null,3,2,19]
[{"$f":"DATE($C$367,$D$367,$E$367) + TIME($F$367,0,0)","v":"1900-01-16T05:00:00"},{"$f":"IF(A1462<'PV Data'!$H$10,0,SUMIFS('PV Data'!D:D,'PV Data'!A:A,MONTH(Conversions!A1462),'PV Data'!B:B,DAY(Conversions!A1462),'PV Data'!C:C,HOUR(Conversions!A1462))/1000)","v":0},null,3,2,20]
[{"$f":"A1462+TIME(0,15,0)","v":"1900-01-16T05:15:00"},{"$f":"B1462","v":0},null,3,2,21]
[{"$f":"A1463+TIME(0,15,0)","v":"1900-01-16T05:30:00"},{"$f":"B1462","v":0},null,3,2,22]
[{"$f":"A1464+TIME(0,15,0)","v":"1900-01-16T05:45:00"},{"$f":"B1462","v":0},null,3,2,23]
[{"$f":"DATE($C$368,$D$368,$E$368) + TIME($F$368,0,0)","v":"1900-01-16T06:00:00"},{"$f":"IF(A1466<'PV Data'!$H$10,0,SUMIFS('PV Data'!D:D,'PV Data'!A:A,MONTH(Conversions!A1466),'PV Data'!B:B,DAY(Conversions!A1466),'PV Data'!C:C,HOUR(Conversions!A1466))/1000)","v":0},null,3,3,0]
[{"$f":"A1466+TIME(0,15,0)","v":"1900-01-16T06:15:00"},{"$f":"B1466","v":0},null,3,3,1]
[{"$f":"A1467+TIME(0,15,0)","v":"1900-01-16T06:30:00"},{"$f":"B1466","v":0},null,3,3,2]
[{"$f":"A1468+TIME(0,15,0)","v":"1900-01-16T06:45:00"},{"$f":"B1466","v":0},null,3,3,3]
[{"$f":"DATE($C$369,$D$369,$E$369) + TIME($F$369,0,0)","v":"1900-01-16T07:00:00"},{"$f":"IF(A1470<'PV Data'!$H$10,0,SUMIFS('PV Data'!D:D,'PV Data'!A:A,MONTH(Conversions!A1470),'PV Data'!B:B,DAY(Conversions!A1470),'PV Data'!C:C,HOUR(Conversions!A1470))/1000)","v":0},null,3,3,4]
[{"$f":"A1470+TIME(0,15,0)","v":"1900-01-16T07:15:00"},{"$f":"B1470","v":0},null,3,3,5]
[{"$f":"A1471+TIME(0,15,0)","v":"1900-01-16T07:30:00"},{"$f":"B1470","v":0},null,3,3,6]
[{"$f":"A1472+TIME(0,15,0)","v":"1900-01-16T07:45:00"},{"$f":"B1470","v":0},null,3,3,7]
[{"$f":"DATE($C$370,$D$370,$E$370) + TIME($F$370,0,0)","v":"1900-01-16T08:00:00"},{"$f":"IF(A1474<'PV Data'!$H$10,0,SUMIFS('PV Data'!D:D,'PV Data'!A:A,MONTH(Conversions!A1474),'PV Data'!B:B,DAY(Conversions!A1474),'PV Data'!C:C,HOUR(Conversions!A1474))/1000)","v":0},null,3,3,8]
[{"$f":"A1474+TIME(0,15,0)","v":"1900-01-16T08:15:00"},{"$f":"B1474","v":0},null,3,3,9]
[{"$f":"A1475+TIME(0,15,0)","v":"1900-01-16T08:30:00"},{"$f":"B1474","v":0},null,3,3,10]
[{"$f":"A1476+TIME(0,15,0)","v":"1900-01-16T08:45:00"},{"$f":"B1474","v":0},null,3,3,11]
[{"$f":"DATE($C$371,$D$371,$E$371) + TIME($F$371,0,0)","v":"1900-01-16T09:00:00"},{"$f":"IF(A1478<'PV Data'!$H$10,0,SUMIFS('PV Data'!D:D,'PV Data'!A:A,MONTH(Conversions!A1478),'PV Data'!B:B,DAY(Conversions!A1478),'PV Data'!C:C,HOUR(Conversions!A1478))/1000)","v":0},null,3,3,12]
[{"$f":"A1478+TIME(0,15,0)","v":"1900-01-16T09:15:00"},{"$f":"B1478","v":0},null,3,3,13]
[{"$f":"A1479+TIME(0,15,0)","v":"1900-01-16T09:30:00"},{"$f":"B1478","v":0},null,3,3,14]
[{"$f":"A1480+TIME(0,15,0)","v":"1900-01-16T09:45:00"},{"$f":"B1478","v":0},null,3,3,15]
[{"$f":"DATE($C$372,$D$372,$E$372) + TIME($F$372,0,0)","v":"1900-01-16T10:00:00"},{"$f":"IF(A1482<'PV Data'!$H$10,0,SUMIFS('PV Data'!D:D,'PV Data'!A:A,MONTH(Conversions!A1482),'PV Data'!B:B,DAY(Conversions!A1482),'PV Data'!C:C,HOUR(Conversions!A1482))/1000)","v":0},null,3,3,16]
[{"$f":"A1482+TIME(0,15,0)","v":"1900-01-16T10:15:00"},{"$f":"B1482","v":0},null,3,3,17]
[{"$f":"A1483+TIME(0,15,0)","v":"1900-01-16T10:30:00"},{"$f":"B1482","v":0},null,3,3,18]
[{"$f":"A1484+TIME(0,15,0)","v":"1900-01-16T10:45:00"},{"$f":"B1482","v":0},null,3,3,19]
[{"$f":"DATE($C$373,$D$373,$E$373) + TIME($F$373,0,0)","v":"1900-01-16T11:00:00"},{"$f":"IF(A1486<'PV Data'!$H$10,0,SUMIFS('PV Data'!D:D,'PV Data'!A:A,MONTH(Conversions!A1486),'PV Data'!B:B,DAY(Conversions!A1486),'PV Data'!C:C,HOUR(Conversions!A1486))/1000)","v":0},null,3,3,20]
[{"$f":"A1486+TIME(0,15,0)","v":"1900-01-16T11:15:00"},{"$f":"B1486","v":0},null,3,3,21]
[{"$f":"A1487+TIME(0,15,0)","v":"1900-01-16T11:30:00"},{"$f":"B1486","v":0},null,3,3,22]
[{"$f":"A1488+TIME(0,15,0)","v":"1900-01-16T11:45:00"},{"$f":"B1486","v":0},null,3,3,23]
[{"$f":"DATE($C$374,$D$374,$E$374) + TIME($F$374,0,0)","v":"1900-01-16T12:00:00"},{"$f":"IF(A1490<'PV Data'!$H$10,0,SUMIFS('PV Data'!D:D,'PV Data'!A:A,MONTH(Conversions!A1490),'PV Data'!B:B,DAY(Conversions!A1490),'PV Data'!C:C,HOUR(Conversions!A1490))/1000)","v":0},null,3,4,0]
[{"$f":"A1490+TIME(0,15,0)","v":"1900-01-16T12:15:00"},{"$f":"B1490","v":0},null,3,4,1]
[{"$f":"A1491+TIME(0,15,0)","v":"1900-01-16T12:30:00"},{"$f":"B1490","v":0},null,3,4,2]
[{"$f":"A1492+TIME(0,15,0)","v":"1900-01-16T12:45:00"},{"$f":"B1490","v":0},null,3,4,3]
[{"$f":"DATE($C$375,$D$375,$E$375) + TIME($F$375,0,0)","v":"1900-01-16T13:00:00"},{"$f":"IF(A1494<'PV Data'!$H$10,0,SUMIFS('PV Data'!D:D,'PV Data'!A:A,MONTH(Conversions!A1494),'PV Data'!B:B,DAY(Conversions!A1494),'PV Data'!C:C,HOUR(Conversions!A1494))/1000)","v":0},null,3,4,4]
[{"$f":"A1494+TIME(0,15,0)","v":"1900-01-16T13:15:00"},{"$f":"B1494","v":0},null,3,4,5]
[{"$f":"A1495+TIME(0,15,0)","v":"1900-01-16T13:30:00"},{"$f":"B1494","v":0},null,3,4,6]
[{"$f":"A1496+TIME(0,15,0)","v":"1900-01-16T13:45:00"},{"$f":"B1494","v":0},null,3,4,7]
[{"$f":"DATE($C$376,$D$376,$E$376) + TIME($F$376,0,0)","v":"1900-01-16T14:00:00"},{"$f":"IF(A1498<'PV Data'!$H$10,0,SUMIFS('PV Data'!D:D,'PV Data'!A:A,MONTH(Conversions!A1498),'PV Data'!B:B,DAY(Conversions!A1498),'PV Data'!C:C,HOUR(Conversions!A1498))/1000)","v":0},null,3,4,8]
[{"$f":"A1498+TIME(0,15,0)","v":"1900-01-16T14:15:00"},{"$f":"B1498","v":0},null,3,4,9]
[{"$f":"A1499+TIME(0,15,0)","v":"1900-01-16T14:30:00"},{"$f":"B1498","v":0},null,3,4,10]
[{"$f":"A1500+TIME(0,15,0)","v":"1900-01-16T14:45:00"},{"$f":"B1498","v":0},null,3,4,11]
[{"$f":"DATE($C$377,$D$377,$E$377) + TIME($F$377,0,0)","v":"1900-01-16T15:00:00"},{"$f":"IF(A1502<'PV Data'!$H$10,0,SUMIFS('PV Data'!D:D,'PV Data'!A:A,MONTH(Conversions!A1502),'PV Data'!B:B,DAY(Conversions!A1502),'PV Data'!C:C,HOUR(Conversions!A1502))/1000)","v":0},null,3,4,12]
[{"$f":"A1502+TIME(0,15,0)","v":"1900-01-16T15:15:00"},{"$f":"B1502","v":0},null,3,4,13]
[{"$f":"A1503+TIME(0,15,0)","v":"1900-01-16T15:30:00"},{"$f":"B1502","v":0},null,3,4,14]
[{"$f":"A1504+TIME(0,15,0)","v":"1900-01-16T15:45:00"},{"$f":"B1502","v":0},null,3,4,15]
[{"$f":"DATE($C$378,$D$378,$E$378) + TIME($F$378,0,0)","v":"1900-01-16T16:00:00"},{"$f":"IF(A1506<'PV Data'!$H$10,0,SUMIFS('PV Data'!D:D,'PV Data'!A:A,MONTH(Conversions!A1506),'PV Data'!B:B,DAY(Conversions!A1506),'PV Data'!C:C,HOUR(Conversions!A1506))/1000)","v":0},null,3,4,16]
[{"$f":"A1506+TIME(0,15,0)","v":"1900-01-16T16:15:00"},{"$f":"B1506","v":0},null,3,4,17]
[{"$f":"A1507+TIME(0,15,0)","v":"1900-01-16T16:30:00"},{"$f":"B1506","v":0},null,3,4,18]
[{"$f":"A1508+TIME(0,15,0)","v":"1900-01-16T16:45:00"},{"$f":"B1506","v":0},null,3,4,19]
[{"$f":"DATE($C$379,$D$379,$E$379) + TIME($F$379,0,0)","v":"1900-01-16T17:00:00"},{"$f":"IF(A1510<'PV Data'!$H$10,0,SUMIFS('PV Data'!D:D,'PV Data'!A:A,MONTH(Conversions!A1510),'PV Data'!B:B,DAY(Conversions!A1510),'PV Data'!C:C,HOUR(Conversions!A1510))/1000)","v":0},null,3,4,20]
[{"$f":"A1510+TIME(0,15,0)","v":"1900-01-16T17:15:00"},{"$f":"B1510","v":0},null,3,4,21]
[{"$f":"A1511+TIME(0,15,0)","v":"1900-01-16T17:30:00"},{"$f":"B1510","v":0},null,3,4,22]
[{"$f":"A1512+TIME(0,15,0)","v":"1900-01-16T17:45:00"},{"$f":"B1510","v":0},null,3,4,23]
[{"$f":"DATE($C$380,$D$380,$E$380) + TIME($F$380,0,0)","v":"1900-01-16T18:00:00"},{"$f":"IF(A1514<'PV Data'!$H$10,0,SUMIFS('PV Data'!D:D,'PV Data'!A:A,MONTH(Conversions!A1514),'PV Data'!B:B,DAY(Conversions!A1514),'PV Data'!C:C,HOUR(Conversions!A1514))/1000)","v":0},null,3,5,0]
[{"$f":"A1514+TIME(0,15,0)","v":"1900-01-16T18:15:00"},{"$f":"B1514","v":0},null,3,5,1]
[{"$f":"A1515+TIME(0,15,0)","v":"1900-01-16T18:30:00"},{"$f":"B1514","v":0},null,3,5,2]
[{"$f":"A1516+TIME(0,15,0)","v":"1900-01-16T18:45:00"},{"$f":"B1514","v":0},null,3,5,3]
[{"$f":"DATE($C$381,$D$381,$E$381) + TIME($F$381,0,0)","v":"1900-01-16T19:00:00"},{"$f":"IF(A1518<'PV Data'!$H$10,0,SUMIFS('PV Data'!D:D,'PV Data'!A:A,MONTH(Conversions!A1518),'PV Data'!B:B,DAY(Conversions!A1518),'PV Data'!C:C,HOUR(Conversions!A1518))/1000)","v":0},null,3,5,4]
[{"$f":"A1518+TIME(0,15,0)","v":"1900-01-16T19:15:00"},{"$f":"B1518","v":0},null,3,5,5]
[{"$f":"A1519+TIME(0,15,0)","v":"1900-01-16T19:30:00"},{"$f":"B1518","v":0},null,3,5,6]
[{"$f":"A1520+TIME(0,15,0)","v":"1900-01-16T19:45:00"},{"$f":"B1518","v":0},null,3,5,7]
[{"$f":"DATE($C$382,$D$382,$E$382) + TIME($F$382,0,0)","v":"1900-01-16T20:00:00"},{"$f":"IF(A1522<'PV Data'!$H$10,0,SUMIFS('PV Data'!D:D,'PV Data'!A:A,MONTH(Conversions!A1522),'PV Data'!B:B,DAY(Conversions!A1522),'PV Data'!C:C,HOUR(Conversions!A1522))/1000)","v":0},null,3,5,8]
[{"$f":"A1522+TIME(0,15,0)","v":"1900-01-16T20:15:00"},{"$f":"B1522","v":0},null,3,5,9]
[{"$f":"A1523+TIME(0,15,0)","v":"1900-01-16T20:30:00"},{"$f":"B1522","v":0},null,3,5,10]
[{"$f":"A1524+TIME(0,15,0)","v":"1900-01-16T20:45:00"},{"$f":"B1522","v":0},null,3,5,11]
[{"$f":"DATE($C$383,$D$383,$E$383) + TIME($F$383,0,0)","v":"1900-01-16T21:00:00"},{"$f":"IF(A1526<'PV Data'!$H$10,0,SUMIFS('PV Data'!D:D,'PV Data'!A:A,MONTH(Conversions!A1526),'PV Data'!B:B,DAY(Conversions!A1526),'PV Data'!C:C,HOUR(Conversions!A1526))/1000)","v":0},null,3,5,12]
[{"$f":"A1526+TIME(0,15,0)","v":"1900-01-16T21:15:00"},{"$f":"B1526","v":0},null,3,5,13]
[{"$f":"A1527+TIME(0,15,0)","v":"1900-01-16T21:30:00"},{"$f":"B1526","v":0},null,3,5,14]
[{"$f":"A1528+TIME(0,15,0)","v":"1900-01-16T21:45:00"},{"$f":"B1526","v":0},null,3,5,15]
[{"$f":"DATE($C$384,$D$384,$E$384) + TIME($F$384,0,0)","v":"1900-01-16T22:00:00"},{"$f":"IF(A1530<'PV Data'!$H$10,0,SUMIFS('PV Data'!D:D,'PV Data'!A:A,MONTH(Conversions!A1530),'PV Data'!B:B,DAY(Conversions!A1530),'PV Data'!C:C,HOUR(Conversions!A1530))/1000)","v":0},null,3,5,16]
[{"$f":"A1530+TIME(0,15,0)","v":"1900-01-16T22:15:00"},{"$f":"B1530","v":0},null,3,5,17]
[{"$f":"A1531+TIME(0,15,0)","v":"1900-01-16T22:30:00"},{"$f":"B1530","v":0},null,3,5,18]
[{"$f":"A1532+TIME(0,15,0)","v":"1900-01-16T22:45:00"},{"$f":"B1530","v":0},null,3,5,19]
[{"$f":"DATE($C$385,$D$385,$E$385) + TIME($F$385,0,0)","v":"1900-01-16T23:00:00"},{"$f":"IF(A1534<'PV Data'!$H$10,0,SUMIFS('PV Data'!D:D,'PV Data'!A:A,MONTH(Conversions!A1534),'PV Data'!B:B,DAY(Conversions!A1534),'PV Data'!C:C,HOUR(Conversions!A1534))/1000)","v":0},null,3,5,20]
[{"$f":"A1534+TIME(0,15,0)","v":"1900-01-16T23:15:00"},{"$f":"B1534","v":0},null,3,5,21]
[{"$f":"A1535+TIME(0,15,0)","v":"1900-01-16T23:30:00"},{"$f":"B1534","v":0},null,3,5,22]
[{"$f":"A1536+TIME(0,15,0)","v":"1900-01-16T23:45:00"},{"$f":"B1534","v":0},null,3,5,23]
[{"$f":"DATE($C$386,$D$386,$E$386) + TIME($F$386,0,0)","v":"1900-01-17"},{"$f":"IF(A1538<'PV Data'!$H$10,0,SUMIFS('PV Data'!D:D,'PV Data'!A:A,MONTH(Conversions!A1538),'PV Data'!B:B,DAY(Conversions!A1538),'PV Data'!C:C,HOUR(Conversions!A1538))/1000)","v":0},null,3,6,0]
[{"$f":"A1538+TIME(0,15,0)","v":"1900-01-17T00:15:00"},{"$f":"B1538","v":0},null,3,6,1]
[{"$f":"A1539+TIME(0,15,0)","v":"1900-01-17T00:30:00"},{"$f":"B1538","v":0},null,3,6,2]
[{"$f":"A1540+TIME(0,15,0)","v":"1900-01-17T00:45:00"},{"$f":"B1538","v":0},null,3,6,3]
[{"$f":"DATE($C$387,$D$387,$E$387) + TIME($F$387,0,0)","v":"1900-01-17T01:00:00"},{"$f":"IF(A1542<'PV Data'!$H$10,0,SUMIFS('PV Data'!D:D,'PV Data'!A:A,MONTH(Conversions!A1542),'PV Data'!B:B,DAY(Conversions!A1542),'PV Data'!C:C,HOUR(Conversions!A1542))/1000)","v":0},null,3,6,4]
[{"$f":"A1542+TIME(0,15,0)","v":"1900-01-17T01:15:00"},{"$f":"B1542","v":0},null,3,6,5]
[{"$f":"A1543+TIME(0,15,0)","v":"1900-01-17T01:30:00"},{"$f":"B1542","v":0},null,3,6,6]
[{"$f":"A1544+TIME(0,15,0)","v":"1900-01-17T01:45:00"},{"$f":"B1542","v":0},null,3,6,7]
[{"$f":"DATE($C$388,$D$388,$E$388) + TIME($F$388,0,0)","v":"1900-01-17T02:00:00"},{"$f":"IF(A1546<'PV Data'!$H$10,0,SUMIFS('PV Data'!D:D,'PV Data'!A:A,MONTH(Conversions!A1546),'PV Data'!B:B,DAY(Conversions!A1546),'PV Data'!C:C,HOUR(Conversions!A1546))/1000)","v":0},null,3,6,8]
[{"$f":"A1546+TIME(0,15,0)","v":"1900-01-17T02:15:00"},{"$f":"B1546","v":0},null,3,6,9]
[{"$f":"A1547+TIME(0,15,0)","v":"1900-01-17T02:30:00"},{"$f":"B1546","v":0},null,3,6,10]
[{"$f":"A1548+TIME(0,15,0)","v":"1900-01-17T02:45:00"},{"$f":"B1546","v":0},null,3,6,11]
[{"$f":"DATE($C$389,$D$389,$E$389) + TIME($F$389,0,0)","v":"1900-01-17T03:00:00"},{"$f":"IF(A1550<'PV Data'!$H$10,0,SUMIFS('PV Data'!D:D,'PV Data'!A:A,MONTH(Conversions!A1550),'PV Data'!B:B,DAY(Conversions!A1550),'PV Data'!C:C,HOUR(Conversions!A1550))/1000)","v":0},null,3,6,12]
[{"$f":"A1550+TIME(0,15,0)","v":"1900-01-17T03:15:00"},{"$f":"B1550","v":0},null,3,6,13]
[{"$f":"A1551+TIME(0,15,0)","v":"1900-01-17T03:30:00"},{"$f":"B1550","v":0},null,3,6,14]
[{"$f":"A1552+TIME(0,15,0)","v":"1900-01-17T03:45:00"},{"$f":"B1550","v":0},null,3,6,15]
[{"$f":"DATE($C$390,$D$390,$E$390) + TIME($F$390,0,0)","v":"1900-01-17T04:00:00"},{"$f":"IF(A1554<'PV Data'!$H$10,0,SUMIFS('PV Data'!D:D,'PV Data'!A:A,MONTH(Conversions!A1554),'PV Data'!B:B,DAY(Conversions!A1554),'PV Data'!C:C,HOUR(Conversions!A1554))/1000)","v":0},null,3,6,16]
[{"$f":"A1554+TIME(0,15,0)","v":"1900-01-17T04:15:00"},{"$f":"B1554","v":0},null,3,6,17]
[{"$f":"A1555+TIME(0,15,0)","v":"1900-01-17T04:30:00"},{"$f":"B1554","v":0},null,3,6,18]
[{"$f":"A1556+TIME(0,15,0)","v":"1900-01-17T04:45:00"},{"$f":"B1554","v":0},null,3,6,19]
[{"$f":"DATE($C$391,$D$391,$E$391) + TIME($F$391,0,0)","v":"1900-01-17T05:00:00"},{"$f":"IF(A1558<'PV Data'!$H$10,0,SUMIFS('PV Data'!D:D,'PV Data'!A:A,MONTH(Conversions!A1558),'PV Data'!B:B,DAY(Conversions!A1558),'PV Data'!C:C,HOUR(Conversions!A1558))/1000)","v":0},null,3,6,20]
[{"$f":"A1558+TIME(0,15,0)","v":"1900-01-17T05:15:00"},{"$f":"B1558","v":0},null,3,6,21]
[{"$f":"A1559+TIME(0,15,0)","v":"1900-01-17T05:30:00"},{"$f":"B1558","v":0},null,3,6,22]
[{"$f":"A1560+TIME(0,15,0)","v":"1900-01-17T05:45:00"},{"$f":"B1558","v":0},null,3,6,23]
[{"$f":"DATE($C$392,$D$392,$E$392) + TIME($F$392,0,0)","v":"1900-01-17T06:00:00"},{"$f":"IF(A1562<'PV Data'!$H$10,0,SUMIFS('PV Data'!D:D,'PV Data'!A:A,MONTH(Conversions!A1562),'PV Data'!B:B,DAY(Conversions!A1562),'PV Data'!C:C,HOUR(Conversions!A1562))/1000)","v":0},null,3,7,0]
[{"$f":"A1562+TIME(0,15,0)","v":"1900-01-17T06:15:00"},{"$f":"B1562","v":0},null,3,7,1]
[{"$f":"A1563+TIME(0,15,0)","v":"1900-01-17T06:30:00"},{"$f":"B1562","v":0},null,3,7,2]
[{"$f":"A1564+TIME(0,15,0)","v":"1900-01-17T06:45:00"},{"$f":"B1562","v":0},null,3,7,3]
[{"$f":"DATE($C$393,$D$393,$E$393) + TIME($F$393,0,0)","v":"1900-01-17T07:00:00"},{"$f":"IF(A1566<'PV Data'!$H$10,0,SUMIFS('PV Data'!D:D,'PV Data'!A:A,MONTH(Conversions!A1566),'PV Data'!B:B,DAY(Conversions!A1566),'PV Data'!C:C,HOUR(Conversions!A1566))/1000)","v":0},null,3,7,4]
[{"$f":"A1566+TIME(0,15,0)","v":"1900-01-17T07:15:00"},{"$f":"B1566","v":0},null,3,7,5]
[{"$f":"A1567+TIME(0,15,0)","v":"1900-01-17T07:30:00"},{"$f":"B1566","v":0},null,3,7,6]
[{"$f":"A1568+TIME(0,15,0)","v":"1900-01-17T07:45:00"},{"$f":"B1566","v":0},null,3,7,7]
[{"$f":"DATE($C$394,$D$394,$E$394) + TIME($F$394,0,0)","v":"1900-01-17T08:00:00"},{"$f":"IF(A1570<'PV Data'!$H$10,0,SUMIFS('PV Data'!D:D,'PV Data'!A:A,MONTH(Conversions!A1570),'PV Data'!B:B,DAY(Conversions!A1570),'PV Data'!C:C,HOUR(Conversions!A1570))/1000)","v":0},null,3,7,8]
[{"$f":"A1570+TIME(0,15,0)","v":"1900-01-17T08:15:00"},{"$f":"B1570","v":0},null,3,7,9]
[{"$f":"A1571+TIME(0,15,0)","v":"1900-01-17T08:30:00"},{"$f":"B1570","v":0},null,3,7,10]
[{"$f":"A1572+TIME(0,15,0)","v":"1900-01-17T08:45:00"},{"$f":"B1570","v":0},null,3,7,11]
[{"$f":"DATE($C$395,$D$395,$E$395) + TIME($F$395,0,0)","v":"1900-01-17T09:00:00"},{"$f":"IF(A1574<'PV Data'!$H$10,0,SUMIFS('PV Data'!D:D,'PV Data'!A:A,MONTH(Conversions!A1574),'PV Data'!B:B,DAY(Conversions!A1574),'PV Data'!C:C,HOUR(Conversions!A1574))/1000)","v":0},null,3,7,12]
[{"$f":"A1574+TIME(0,15,0)","v":"1900-01-17T09:15:00"},{"$f":"B1574","v":0},null,3,7,13]
[{"$f":"A1575+TIME(0,15,0)","v":"1900-01-17T09:30:00"},{"$f":"B1574","v":0},null,3,7,14]
[{"$f":"A1576+TIME(0,15,0)","v":"1900-01-17T09:45:00"},{"$f":"B1574","v":0},null,3,7,15]
[{"$f":"DATE($C$396,$D$396,$E$396) + TIME($F$396,0,0)","v":"1900-01-17T10:00:00"},{"$f":"IF(A1578<'PV Data'!$H$10,0,SUMIFS('PV Data'!D:D,'PV Data'!A:A,MONTH(Conversions!A1578),'PV Data'!B:B,DAY(Conversions!A1578),'PV Data'!C:C,HOUR(Conversions!A1578))/1000)","v":0},null,3,7,16]
[{"$f":"A1578+TIME(0,15,0)","v":"1900-01-17T10:15:00"},{"$f":"B1578","v":0},null,3,7,17]
[{"$f":"A1579+TIME(0,15,0)","v":"1900-01-17T10:30:00"},{"$f":"B1578","v":0},null,3,7,18]
[{"$f":"A1580+TIME(0,15,0)","v":"1900-01-17T10:45:00"},{"$f":"B1578","v":0},null,3,7,19]
[{"$f":"DATE($C$397,$D$397,$E$397) + TIME($F$397,0,0)","v":"1900-01-17T11:00:00"},{"$f":"IF(A1582<'PV Data'!$H$10,0,SUMIFS('PV Data'!D:D,'PV Data'!A:A,MONTH(Conversions!A1582),'PV Data'!B:B,DAY(Conversions!A1582),'PV Data'!C:C,HOUR(Conversions!A1582))/1000)","v":0},null,3,7,20]
[{"$f":"A1582+TIME(0,15,0)","v":"1900-01-17T11:15:00"},{"$f":"B1582","v":0},null,3,7,21]
[{"$f":"A1583+TIME(0,15,0)","v":"1900-01-17T11:30:00"},{"$f":"B1582","v":0},null,3,7,22]
[{"$f":"A1584+TIME(0,15,0)","v":"1900-01-17T11:45:00"},{"$f":"B1582","v":0},null,3,7,23]
[{"$f":"DATE($C$398,$D$398,$E$398) + TIME($F$398,0,0)","v":"1900-01-17T12:00:00"},{"$f":"IF(A1586<'PV Data'!$H$10,0,SUMIFS('PV Data'!D:D,'PV Data'!A:A,MONTH(Conversions!A1586),'PV Data'!B:B,DAY(Conversions!A1586),'PV Data'!C:C,HOUR(Conversions!A1586))/1000)","v":0},null,3,8,0]
[{"$f":"A1586+TIME(0,15,0)","v":"1900-01-17T12:15:00"},{"$f":"B1586","v":0},null,3,8,1]
[{"$f":"A1587+TIME(0,15,0)","v":"1900-01-17T12:30:00"},{"$f":"B1586","v":0},null,3,8,2]
[{"$f":"A1588+TIME(0,15,0)","v":"1900-01-17T12:45:00"},{"$f":"B1586","v":0},null,3,8,3]
[{"$f":"DATE($C$399,$D$399,$E$399) + TIME($F$399,0,0)","v":"1900-01-17T13:00:00"},{"$f":"IF(A1590<'PV Data'!$H$10,0,SUMIFS('PV Data'!D:D,'PV Data'!A:A,MONTH(Conversions!A1590),'PV Data'!B:B,DAY(Conversions!A1590),'PV Data'!C:C,HOUR(Conversions!A1590))/1000)","v":0},null,3,8,4]
[{"$f":"A1590+TIME(0,15,0)","v":"1900-01-17T13:15:00"},{"$f":"B1590","v":0},null,3,8,5]
[{"$f":"A1591+TIME(0,15,0)","v":"1900-01-17T13:30:00"},{"$f":"B1590","v":0},null,3,8,6]
[{"$f":"A1592+TIME(0,15,0)","v":"1900-01-17T13:45:00"},{"$f":"B1590","v":0},null,3,8,7]
[{"$f":"DATE($C$400,$D$400,$E$400) + TIME($F$400,0,0)","v":"1900-01-17T14:00:00"},{"$f":"IF(A1594<'PV Data'!$H$10,0,SUMIFS('PV Data'!D:D,'PV Data'!A:A,MONTH(Conversions!A1594),'PV Data'!B:B,DAY(Conversions!A1594),'PV Data'!C:C,HOUR(Conversions!A1594))/1000)","v":0},null,3,8,8]
[{"$f":"A1594+TIME(0,15,0)","v":"1900-01-17T14:15:00"},{"$f":"B1594","v":0},null,3,8,9]
[{"$f":"A1595+TIME(0,15,0)","v":"1900-01-17T14:30:00"},{"$f":"B1594","v":0},null,3,8,10]
[{"$f":"A1596+TIME(0,15,0)","v":"1900-01-17T14:45:00"},{"$f":"B1594","v":0},null,3,8,11]
[{"$f":"DATE($C$401,$D$401,$E$401) + TIME($F$401,0,0)","v":"1900-01-17T15:00:00"},{"$f":"IF(A1598<'PV Data'!$H$10,0,SUMIFS('PV Data'!D:D,'PV Data'!A:A,MONTH(Conversions!A1598),'PV Data'!B:B,DAY(Conversions!A1598),'PV Data'!C:C,HOUR(Conversions!A1598))/1000)","v":0},null,3,8,12]
[{"$f":"A1598+TIME(0,15,0)","v":"1900-01-17T15:15:00"},{"$f":"B1598","v":0},null,3,8,13]
[{"$f":"A1599+TIME(0,15,0)","v":"1900-01-17T15:30:00"},{"$f":"B1598","v":0},null,3,8,14]
[{"$f":"A1600+TIME(0,15,0)","v":"1900-01-17T15:45:00"},{"$f":"B1598","v":0},null,3,8,15]
[{"$f":"DATE($C$402,$D$402,$E$402) + TIME($F$402,0,0)","v":"1900-01-17T16:00:00"},{"$f":"IF(A1602<'PV Data'!$H$10,0,SUMIFS('PV Data'!D:D,'PV Data'!A:A,MONTH(Conversions!A1602),'PV Data'!B:B,DAY(Conversions!A1602),'PV Data'!C:C,HOUR(Conversions!A1602))/1000)","v":0},null,3,8,16]
[{"$f":"A1602+TIME(0,15,0)","v":"1900-01-17T16:15:00"},{"$f":"B1602","v":0},null,3,8,17]
[{"$f":"A1603+TIME(0,15,0)","v":"1900-01-17T16:30:00"},{"$f":"B1602","v":0},null,3,8,18]
[{"$f":"A1604+TIME(0,15,0)","v":"1900-01-17T16:45:00"},{"$f":"B1602","v":0},null,3,8,19]
[{"$f":"DATE($C$403,$D$403,$E$403) + TIME($F$403,0,0)","v":"1900-01-17T17:00:00"},{"$f":"IF(A1606<'PV Data'!$H$10,0,SUMIFS('PV Data'!D:D,'PV Data'!A:A,MONTH(Conversions!A1606),'PV Data'!B:B,DAY(Conversions!A1606),'PV Data'!C:C,HOUR(Conversions!A1606))/1000)","v":0},null,3,8,20]
[{"$f":"A1606+TIME(0,15,0)","v":"1900-01-17T17:15:00"},{"$f":"B1606","v":0},null,3,8,21]
[{"$f":"A1607+TIME(0,15,0)","v":"1900-01-17T17:30:00"},{"$f":"B1606","v":0},null,3,8,22]
[{"$f":"A1608+TIME(0,15,0)","v":"1900-01-17T17:45:00"},{"$f":"B1606","v":0},null,3,8,23]
[{"$f":"DATE($C$404,$D$404,$E$404) + TIME($F$404,0,0)","v":"1900-01-17T18:00:00"},{"$f":"IF(A1610<'PV Data'!$H$10,0,SUMIFS('PV Data'!D:D,'PV Data'!A:A,MONTH(Conversions!A1610),'PV Data'!B:B,DAY(Conversions!A1610),'PV Data'!C:C,HOUR(Conversions!A1610))/1000)","v":0},null,3,9,0]
[{"$f":"A1610+TIME(0,15,0)","v":"1900-01-17T18:15:00"},{"$f":"B1610","v":0},null,3,9,1]
[{"$f":"A1611+TIME(0,15,0)","v":"1900-01-17T18:30:00"},{"$f":"B1610","v":0},null,3,9,2]
[{"$f":"A1612+TIME(0,15,0)","v":"1900-01-17T18:45:00"},{"$f":"B1610","v":0},null,3,9,3]
[{"$f":"DATE($C$405,$D$405,$E$405) + TIME($F$405,0,0)","v":"1900-01-17T19:00:00"},{"$f":"IF(A1614<'PV Data'!$H$10,0,SUMIFS('PV Data'!D:D,'PV Data'!A:A,MONTH(Conversions!A1614),'PV Data'!B:B,DAY(Conversions!A1614),'PV Data'!C:C,HOUR(Conversions!A1614))/1000)","v":0},null,3,9,4]
[{"$f":"A1614+TIME(0,15,0)","v":"1900-01-17T19:15:00"},{"$f":"B1614","v":0},null,3,9,5]
[{"$f":"A1615+TIME(0,15,0)","v":"1900-01-17T19:30:00"},{"$f":"B1614","v":0},null,3,9,6]
[{"$f":"A1616+TIME(0,15,0)","v":"1900-01-17T19:45:00"},{"$f":"B1614","v":0},null,3,9,7]
[{"$f":"DATE($C$406,$D$406,$E$406) + TIME($F$406,0,0)","v":"1900-01-17T20:00:00"},{"$f":"IF(A1618<'PV Data'!$H$10,0,SUMIFS('PV Data'!D:D,'PV Data'!A:A,MONTH(Conversions!A1618),'PV Data'!B:B,DAY(Conversions!A1618),'PV Data'!C:C,HOUR(Conversions!A1618))/1000)","v":0},null,3,9,8]
[{"$f":"A1618+TIME(0,15,0)","v":"1900-01-17T20:15:00"},{"$f":"B1618","v":0},null,3,9,9]
[{"$f":"A1619+TIME(0,15,0)","v":"1900-01-17T20:30:00"},{"$f":"B1618","v":0},null,3,9,10]
[{"$f":"A1620+TIME(0,15,0)","v":"1900-01-17T20:45:00"},{"$f":"B1618","v":0},null,3,9,11]
[{"$f":"DATE($C$407,$D$407,$E$407) + TIME($F$407,0,0)","v":"1900-01-17T21:00:00"},{"$f":"IF(A1622<'PV Data'!$H$10,0,SUMIFS('PV Data'!D:D,'PV Data'!A:A,MONTH(Conversions!A1622),'PV Data'!B:B,DAY(Conversions!A1622),'PV Data'!C:C,HOUR(Conversions!A1622))/1000)","v":0},null,3,9,12]
[{"$f":"A1622+TIME(0,15,0)","v":"1900-01-17T21:15:00"},{"$f":"B1622","v":0},null,3,9,13]
[{"$f":"A1623+TIME(0,15,0)","v":"1900-01-17T21:30:00"},{"$f":"B1622","v":0},null,3,9,14]
[{"$f":"A1624+TIME(0,15,0)","v":"1900-01-17T21:45:00"},{"$f":"B1622","v":0},null,3,9,15]
[{"$f":"DATE($C$408,$D$408,$E$408) + TIME($F$408,0,0)","v":"1900-01-17T22:00:00"},{"$f":"IF(A1626<'PV Data'!$H$10,0,SUMIFS('PV Data'!D:D,'PV Data'!A:A,MONTH(Conversions!A1626),'PV Data'!B:B,DAY(Conversions!A1626),'PV Data'!C:C,HOUR(Conversions!A1626))/1000)","v":0},null,3,9,16]
[{"$f":"A1626+TIME(0,15,0)","v":"1900-01-17T22:15:00"},{"$f":"B1626","v":0},null,3,9,17]
[{"$f":"A1627+TIME(0,15,0)","v":"1900-01-17T22:30:00"},{"$f":"B1626","v":0},null,3,9,18]
[{"$f":"A1628+TIME(0,15,0)","v":"1900-01-17T22:45:00"},{"$f":"B1626","v":0},null,3,9,19]
[{"$f":"DATE($C$409,$D$409,$E$409) + TIME($F$409,0,0)","v":"1900-01-17T23:00:00"},{"$f":"IF(A1630<'PV Data'!$H$10,0,SUMIFS('PV Data'!D:D,'PV Data'!A:A,MONTH(Conversions!A1630),'PV Data'!B:B,DAY(Conversions!A1630),'PV Data'!C:C,HOUR(Conversions!A1630))/1000)","v":0},null,3,9,20]
[{"$f":"A1630+TIME(0,15,0)","v":"1900-01-17T23:15:00"},{"$f":"B1630","v":0},null,3,9,21]
[{"$f":"A1631+TIME(0,15,0)","v":"1900-01-17T23:30:00"},{"$f":"B1630","v":0},null,3,9,22]
[{"$f":"A1632+TIME(0,15,0)","v":"1900-01-17T23:45:00"},{"$f":"B1630","v":0},null,3,9,23]
[{"$f":"DATE($C$410,$D$410,$E$410) + TIME($F$410,0,0)","v":"1900-01-18"},{"$f":"IF(A1634<'PV Data'!$H$10,0,SUMIFS('PV Data'!D:D,'PV Data'!A:A,MONTH(Conversions!A1634),'PV Data'!B:B,DAY(Conversions!A1634),'PV Data'!C:C,HOUR(Conversions!A1634))/1000)","v":0},null,3,10,0]
[{"$f":"A1634+TIME(0,15,0)","v":"1900-01-18T00:15:00"},{"$f":"B1634","v":0},null,3,10,1]
[{"$f":"A1635+TIME(0,15,0)","v":"1900-01-18T00:30:00"},{"$f":"B1634","v":0},null,3,10,2]
[{"$f":"A1636+TIME(0,15,0)","v":"1900-01-18T00:45:00"},{"$f":"B1634","v":0},null,3,10,3]
[{"$f":"DATE($C$411,$D$411,$E$411) + TIME($F$411,0,0)","v":"1900-01-18T01:00:00"},{"$f":"IF(A1638<'PV Data'!$H$10,0,SUMIFS('PV Data'!D:D,'PV Data'!A:A,MONTH(Conversions!A1638),'PV Data'!B:B,DAY(Conversions!A1638),'PV Data'!C:C,HOUR(Conversions!A1638))/1000)","v":0},null,3,10,4]
[{"$f":"A1638+TIME(0,15,0)","v":"1900-01-18T01:15:00"},{"$f":"B1638","v":0},null,3,10,5]
[{"$f":"A1639+TIME(0,15,0)","v":"1900-01-18T01:30:00"},{"$f":"B1638","v":0},null,3,10,6]
[{"$f":"A1640+TIME(0,15,0)","v":"1900-01-18T01:45:00"},{"$f":"B1638","v":0},null,3,10,7]
[{"$f":"DATE($C$412,$D$412,$E$412) + TIME($F$412,0,0)","v":"1900-01-18T02:00:00"},{"$f":"IF(A1642<'PV Data'!$H$10,0,SUMIFS('PV Data'!D:D,'PV Data'!A:A,MONTH(Conversions!A1642),'PV Data'!B:B,DAY(Conversions!A1642),'PV Data'!C:C,HOUR(Conversions!A1642))/1000)","v":0},null,3,10,8]
[{"$f":"A1642+TIME(0,15,0)","v":"1900-01-18T02:15:00"},{"$f":"B1642","v":0},null,3,10,9]
[{"$f":"A1643+TIME(0,15,0)","v":"1900-01-18T02:30:00"},{"$f":"B1642","v":0},null,3,10,10]
[{"$f":"A1644+TIME(0,15,0)","v":"1900-01-18T02:45:00"},{"$f":"B1642","v":0},null,3,10,11]
[{"$f":"DATE($C$413,$D$413,$E$413) + TIME($F$413,0,0)","v":"1900-01-18T03:00:00"},{"$f":"IF(A1646<'PV Data'!$H$10,0,SUMIFS('PV Data'!D:D,'PV Data'!A:A,MONTH(Conversions!A1646),'PV Data'!B:B,DAY(Conversions!A1646),'PV Data'!C:C,HOUR(Conversions!A1646))/1000)","v":0},null,3,10,12]
[{"$f":"A1646+TIME(0,15,0)","v":"1900-01-18T03:15:00"},{"$f":"B1646","v":0},null,3,10,13]
[{"$f":"A1647+TIME(0,15,0)","v":"1900-01-18T03:30:00"},{"$f":"B1646","v":0},null,3,10,14]
[{"$f":"A1648+TIME(0,15,0)","v":"1900-01-18T03:45:00"},{"$f":"B1646","v":0},null,3,10,15]
[{"$f":"DATE($C$414,$D$414,$E$414) + TIME($F$414,0,0)","v":"1900-01-18T04:00:00"},{"$f":"IF(A1650<'PV Data'!$H$10,0,SUMIFS('PV Data'!D:D,'PV Data'!A:A,MONTH(Conversions!A1650),'PV Data'!B:B,DAY(Conversions!A1650),'PV Data'!C:C,HOUR(Conversions!A1650))/1000)","v":0},null,3,10,16]
[{"$f":"A1650+TIME(0,15,0)","v":"1900-01-18T04:15:00"},{"$f":"B1650","v":0},null,3,10,17]
[{"$f":"A1651+TIME(0,15,0)","v":"1900-01-18T04:30:00"},{"$f":"B1650","v":0},null,3,10,18]
[{"$f":"A1652+TIME(0,15,0)","v":"1900-01-18T04:45:00"},{"$f":"B1650","v":0},null,3,10,19]
[{"$f":"DATE($C$415,$D$415,$E$415) + TIME($F$415,0,0)","v":"1900-01-18T05:00:00"},{"$f":"IF(A1654<'PV Data'!$H$10,0,SUMIFS('PV Data'!D:D,'PV Data'!A:A,MONTH(Conversions!A1654),'PV Data'!B:B,DAY(Conversions!A1654),'PV Data'!C:C,HOUR(Conversions!A1654))/1000)","v":0},null,3,10,20]
[{"$f":"A1654+TIME(0,15,0)","v":"1900-01-18T05:15:00"},{"$f":"B1654","v":0},null,3,10,21]
[{"$f":"A1655+TIME(0,15,0)","v":"1900-01-18T05:30:00"},{"$f":"B1654","v":0},null,3,10,22]
[{"$f":"A1656+TIME(0,15,0)","v":"1900-01-18T05:45:00"},{"$f":"B1654","v":0},null,3,10,23]
[{"$f":"DATE($C$416,$D$416,$E$416) + TIME($F$416,0,0)","v":"1900-01-18T06:00:00"},{"$f":"IF(A1658<'PV Data'!$H$10,0,SUMIFS('PV Data'!D:D,'PV Data'!A:A,MONTH(Conversions!A1658),'PV Data'!B:B,DAY(Conversions!A1658),'PV Data'!C:C,HOUR(Conversions!A1658))/1000)","v":0},null,3,11,0]
[{"$f":"A1658+TIME(0,15,0)","v":"1900-01-18T06:15:00"},{"$f":"B1658","v":0},null,3,11,1]
[{"$f":"A1659+TIME(0,15,0)","v":"1900-01-18T06:30:00"},{"$f":"B1658","v":0},null,3,11,2]
[{"$f":"A1660+TIME(0,15,0)","v":"1900-01-18T06:45:00"},{"$f":"B1658","v":0},null,3,11,3]
[{"$f":"DATE($C$417,$D$417,$E$417) + TIME($F$417,0,0)","v":"1900-01-18T07:00:00"},{"$f":"IF(A1662<'PV Data'!$H$10,0,SUMIFS('PV Data'!D:D,'PV Data'!A:A,MONTH(Conversions!A1662),'PV Data'!B:B,DAY(Conversions!A1662),'PV Data'!C:C,HOUR(Conversions!A1662))/1000)","v":0},null,3,11,4]
[{"$f":"A1662+TIME(0,15,0)","v":"1900-01-18T07:15:00"},{"$f":"B1662","v":0},null,3,11,5]
[{"$f":"A1663+TIME(0,15,0)","v":"1900-01-18T07:30:00"},{"$f":"B1662","v":0},null,3,11,6]
[{"$f":"A1664+TIME(0,15,0)","v":"1900-01-18T07:45:00"},{"$f":"B1662","v":0},null,3,11,7]
[{"$f":"DATE($C$418,$D$418,$E$418) + TIME($F$418,0,0)","v":"1900-01-18T08:00:00"},{"$f":"IF(A1666<'PV Data'!$H$10,0,SUMIFS('PV Data'!D:D,'PV Data'!A:A,MONTH(Conversions!A1666),'PV Data'!B:B,DAY(Conversions!A1666),'PV Data'!C:C,HOUR(Conversions!A1666))/1000)","v":0},null,3,11,8]
[{"$f":"A1666+TIME(0,15,0)","v":"1900-01-18T08:15:00"},{"$f":"B1666","v":0},null,3,11,9]
[{"$f":"A1667+TIME(0,15,0)","v":"1900-01-18T08:30:00"},{"$f":"B1666","v":0},null,3,11,10]
[{"$f":"A1668+TIME(0,15,0)","v":"1900-01-18T08:45:00"},{"$f":"B1666","v":0},null,3,11,11]
[{"$f":"DATE($C$419,$D$419,$E$419) + TIME($F$419,0,0)","v":"1900-01-18T09:00:00"},{"$f":"IF(A1670<'PV Data'!$H$10,0,SUMIFS('PV Data'!D:D,'PV Data'!A:A,MONTH(Conversions!A1670),'PV Data'!B:B,DAY(Conversions!A1670),'PV Data'!C:C,HOUR(Conversions!A1670))/1000)","v":0},null,3,11,12]
[{"$f":"A1670+TIME(0,15,0)","v":"1900-01-18T09:15:00"},{"$f":"B1670","v":0},null,3,11,13]
[{"$f":"A1671+TIME(0,15,0)","v":"1900-01-18T09:30:00"},{"$f":"B1670","v":0},null,3,11,14]
[{"$f":"A1672+TIME(0,15,0)","v":"1900-01-18T09:45:00"},{"$f":"B1670","v":0},null,3,11,15]
[{"$f":"DATE($C$420,$D$420,$E$420) + TIME($F$420,0,0)","v":"1900-01-18T10:00:00"},{"$f":"IF(A1674<'PV Data'!$H$10,0,SUMIFS('PV Data'!D:D,'PV Data'!A:A,MONTH(Conversions!A1674),'PV Data'!B:B,DAY(Conversions!A1674),'PV Data'!C:C,HOUR(Conversions!A1674))/1000)","v":0},null,3,11,16]
[{"$f":"A1674+TIME(0,15,0)","v":"1900-01-18T10:15:00"},{"$f":"B1674","v":0},null,3,11,17]
[{"$f":"A1675+TIME(0,15,0)","v":"1900-01-18T10:30:00"},{"$f":"B1674","v":0},null,3,11,18]
[{"$f":"A1676+TIME(0,15,0)","v":"1900-01-18T10:45:00"},{"$f":"B1674","v":0},null,3,11,19]
[{"$f":"DATE($C$421,$D$421,$E$421) + TIME($F$421,0,0)","v":"1900-01-18T11:00:00"},{"$f":"IF(A1678<'PV Data'!$H$10,0,SUMIFS('PV Data'!D:D,'PV Data'!A:A,MONTH(Conversions!A1678),'PV Data'!B:B,DAY(Conversions!A1678),'PV Data'!C:C,HOUR(Conversions!A1678))/1000)","v":0},null,3,11,20]
[{"$f":"A1678+TIME(0,15,0)","v":"1900-01-18T11:15:00"},{"$f":"B1678","v":0},null,3,11,21]
[{"$f":"A1679+TIME(0,15,0)","v":"1900-01-18T11:30:00"},{"$f":"B1678","v":0},null,3,11,22]
[{"$f":"A1680+TIME(0,15,0)","v":"1900-01-18T11:45:00"},{"$f":"B1678","v":0},null,3,11,23]
[{"$f":"DATE($C$422,$D$422,$E$422) + TIME($F$422,0,0)","v":"1900-01-18T12:00:00"},{"$f":"IF(A1682<'PV Data'!$H$10,0,SUMIFS('PV Data'!D:D,'PV Data'!A:A,MONTH(Conversions!A1682),'PV Data'!B:B,DAY(Conversions!A1682),'PV Data'!C:C,HOUR(Conversions!A1682))/1000)","v":0},null,3,12,0]
[{"$f":"A1682+TIME(0,15,0)","v":"1900-01-18T12:15:00"},{"$f":"B1682","v":0},null,3,12,1]
[{"$f":"A1683+TIME(0,15,0)","v":"1900-01-18T12:30:00"},{"$f":"B1682","v":0},null,3,12,2]
[{"$f":"A1684+TIME(0,15,0)","v":"1900-01-18T12:45:00"},{"$f":"B1682","v":0},null,3,12,3]
[{"$f":"DATE($C$423,$D$423,$E$423) + TIME($F$423,0,0)","v":"1900-01-18T13:00:00"},{"$f":"IF(A1686<'PV Data'!$H$10,0,SUMIFS('PV Data'!D:D,'PV Data'!A:A,MONTH(Conversions!A1686),'PV Data'!B:B,DAY(Conversions!A1686),'PV Data'!C:C,HOUR(Conversions!A1686))/1000)","v":0},null,3,12,4]
[{"$f":"A1686+TIME(0,15,0)","v":"1900-01-18T13:15:00"},{"$f":"B1686","v":0},null,3,12,5]
[{"$f":"A1687+TIME(0,15,0)","v":"1900-01-18T13:30:00"},{"$f":"B1686","v":0},null,3,12,6]
[{"$f":"A1688+TIME(0,15,0)","v":"1900-01-18T13:45:00"},{"$f":"B1686","v":0},null,3,12,7]
[{"$f":"DATE($C$424,$D$424,$E$424) + TIME($F$424,0,0)","v":"1900-01-18T14:00:00"},{"$f":"IF(A1690<'PV Data'!$H$10,0,SUMIFS('PV Data'!D:D,'PV Data'!A:A,MONTH(Conversions!A1690),'PV Data'!B:B,DAY(Conversions!A1690),'PV Data'!C:C,HOUR(Conversions!A1690))/1000)","v":0},null,3,12,8]
[{"$f":"A1690+TIME(0,15,0)","v":"1900-01-18T14:15:00"},{"$f":"B1690","v":0},null,3,12,9]
[{"$f":"A1691+TIME(0,15,0)","v":"1900-01-18T14:30:00"},{"$f":"B1690","v":0},null,3,12,10]
[{"$f":"A1692+TIME(0,15,0)","v":"1900-01-18T14:45:00"},{"$f":"B1690","v":0},null,3,12,11]
[{"$f":"DATE($C$425,$D$425,$E$425) + TIME($F$425,0,0)","v":"1900-01-18T15:00:00"},{"$f":"IF(A1694<'PV Data'!$H$10,0,SUMIFS('PV Data'!D:D,'PV Data'!A:A,MONTH(Conversions!A1694),'PV Data'!B:B,DAY(Conversions!A1694),'PV Data'!C:C,HOUR(Conversions!A1694))/1000)","v":0},null,3,12,12]
[{"$f":"A1694+TIME(0,15,0)","v":"1900-01-18T15:15:00"},{"$f":"B1694","v":0},null,3,12,13]
[{"$f":"A1695+TIME(0,15,0)","v":"1900-01-18T15:30:00"},{"$f":"B1694","v":0},null,3,12,14]
[{"$f":"A1696+TIME(0,15,0)","v":"1900-01-18T15:45:00"},{"$f":"B1694","v":0},null,3,12,15]
[{"$f":"DATE($C$426,$D$426,$E$426) + TIME($F$426,0,0)","v":"1900-01-18T16:00:00"},{"$f":"IF(A1698<'PV Data'!$H$10,0,SUMIFS('PV Data'!D:D,'PV Data'!A:A,MONTH(Conversions!A1698),'PV Data'!B:B,DAY(Conversions!A1698),'PV Data'!C:C,HOUR(Conversions!A1698))/1000)","v":0},null,3,12,16]
[{"$f":"A1698+TIME(0,15,0)","v":"1900-01-18T16:15:00"},{"$f":"B1698","v":0},null,3,12,17]
[{"$f":"A1699+TIME(0,15,0)","v":"1900-01-18T16:30:00"},{"$f":"B1698","v":0},null,3,12,18]
[{"$f":"A1700+TIME(0,15,0)","v":"1900-01-18T16:45:00"},{"$f":"B1698","v":0},null,3,12,19]
[{"$f":"DATE($C$427,$D$427,$E$427) + TIME($F$427,0,0)","v":"1900-01-18T17:00:00"},{"$f":"IF(A1702<'PV Data'!$H$10,0,SUMIFS('PV Data'!D:D,'PV Data'!A:A,MONTH(Conversions!A1702),'PV Data'!B:B,DAY(Conversions!A1702),'PV Data'!C:C,HOUR(Conversions!A1702))/1000)","v":0},null,3,12,20]
[{"$f":"A1702+TIME(0,15,0)","v":"1900-01-18T17:15:00"},{"$f":"B1702","v":0},null,3,12,21]
[{"$f":"A1703+TIME(0,15,0)","v":"1900-01-18T17:30:00"},{"$f":"B1702","v":0},null,3,12,22]
[{"$f":"A1704+TIME(0,15,0)","v":"1900-01-18T17:45:00"},{"$f":"B1702","v":0},null,3,12,23]
[{"$f":"DATE($C$428,$D$428,$E$428) + TIME($F$428,0,0)","v":"1900-01-18T18:00:00"},{"$f":"IF(A1706<'PV Data'!$H$10,0,SUMIFS('PV Data'!D:D,'PV Data'!A:A,MONTH(Conversions!A1706),'PV Data'!B:B,DAY(Conversions!A1706),'PV Data'!C:C,HOUR(Conversions!A1706))/1000)","v":0},null,3,13,0]
[{"$f":"A1706+TIME(0,15,0)","v":"1900-01-18T18:15:00"},{"$f":"B1706","v":0},null,3,13,1]
[{"$f":"A1707+TIME(0,15,0)","v":"1900-01-18T18:30:00"},{"$f":"B1706","v":0},null,3,13,2]
[{"$f":"A1708+TIME(0,15,0)","v":"1900-01-18T18:45:00"},{"$f":"B1706","v":0},null,3,13,3]
[{"$f":"DATE($C$429,$D$429,$E$429) + TIME($F$429,0,0)","v":"1900-01-18T19:00:00"},{"$f":"IF(A1710<'PV Data'!$H$10,0,SUMIFS('PV Data'!D:D,'PV Data'!A:A,MONTH(Conversions!A1710),'PV Data'!B:B,DAY(Conversions!A1710),'PV Data'!C:C,HOUR(Conversions!A1710))/1000)","v":0},null,3,13,4]
[{"$f":"A1710+TIME(0,15,0)","v":"1900-01-18T19:15:00"},{"$f":"B1710","v":0},null,3,13,5]
[{"$f":"A1711+TIME(0,15,0)","v":"1900-01-18T19:30:00"},{"$f":"B1710","v":0},null,3,13,6]
[{"$f":"A1712+TIME(0,15,0)","v":"1900-01-18T19:45:00"},{"$f":"B1710","v":0},null,3,13,7]
[{"$f":"DATE($C$430,$D$430,$E$430) + TIME($F$430,0,0)","v":"1900-01-18T20:00:00"},{"$f":"IF(A1714<'PV Data'!$H$10,0,SUMIFS('PV Data'!D:D,'PV Data'!A:A,MONTH(Conversions!A1714),'PV Data'!B:B,DAY(Conversions!A1714),'PV Data'!C:C,HOUR(Conversions!A1714))/1000)","v":0},null,3,13,8]
[{"$f":"A1714+TIME(0,15,0)","v":"1900-01-18T20:15:00"},{"$f":"B1714","v":0},null,3,13,9]
[{"$f":"A1715+TIME(0,15,0)","v":"1900-01-18T20:30:00"},{"$f":"B1714","v":0},null,3,13,10]
[{"$f":"A1716+TIME(0,15,0)","v":"1900-01-18T20:45:00"},{"$f":"B1714","v":0},null,3,13,11]
[{"$f":"DATE($C$431,$D$431,$E$431) + TIME($F$431,0,0)","v":"1900-01-18T21:00:00"},{"$f":"IF(A1718<'PV Data'!$H$10,0,SUMIFS('PV Data'!D:D,'PV Data'!A:A,MONTH(Conversions!A1718),'PV Data'!B:B,DAY(Conversions!A1718),'PV Data'!C:C,HOUR(Conversions!A1718))/1000)","v":0},null,3,13,12]
[{"$f":"A1718+TIME(0,15,0)","v":"1900-01-18T21:15:00"},{"$f":"B1718","v":0},null,3,13,13]
[{"$f":"A1719+TIME(0,15,0)","v":"1900-01-18T21:30:00"},{"$f":"B1718","v":0},null,3,13,14]
[{"$f":"A1720+TIME(0,15,0)","v":"1900-01-18T21:45:00"},{"$f":"B1718","v":0},null,3,13,15]
[{"$f":"DATE($C$432,$D$432,$E$432) + TIME($F$432,0,0)","v":"1900-01-18T22:00:00"},{"$f":"IF(A1722<'PV Data'!$H$10,0,SUMIFS('PV Data'!D:D,'PV Data'!A:A,MONTH(Conversions!A1722),'PV Data'!B:B,DAY(Conversions!A1722),'PV Data'!C:C,HOUR(Conversions!A1722))/1000)","v":0},null,3,13,16]
[{"$f":"A1722+TIME(0,15,0)","v":"1900-01-18T22:15:00"},{"$f":"B1722","v":0},null,3,13,17]
[{"$f":"A1723+TIME(0,15,0)","v":"1900-01-18T22:30:00"},{"$f":"B1722","v":0},null,3,13,18]
[{"$f":"A1724+TIME(0,15,0)","v":"1900-01-18T22:45:00"},{"$f":"B1722","v":0},null,3,13,19]
[{"$f":"DATE($C$433,$D$433,$E$433) + TIME($F$433,0,0)","v":"1900-01-18T23:00:00"},{"$f":"IF(A1726<'PV Data'!$H$10,0,SUMIFS('PV Data'!D:D,'PV Data'!A:A,MONTH(Conversions!A1726),'PV Data'!B:B,DAY(Conversions!A1726),'PV Data'!C:C,HOUR(Conversions!A1726))/1000)","v":0},null,3,13,20]
[{"$f":"A1726+TIME(0,15,0)","v":"1900-01-18T23:15:00"},{"$f":"B1726","v":0},null,3,13,21]
[{"$f":"A1727+TIME(0,15,0)","v":"1900-01-18T23:30:00"},{"$f":"B1726","v":0},null,3,13,22]
[{"$f":"A1728+TIME(0,15,0)","v":"1900-01-18T23:45:00"},{"$f":"B1726","v":0},null,3,13,23]
[{"$f":"DATE($C$434,$D$434,$E$434) + TIME($F$434,0,0)","v":"1900-01-19"},{"$f":"IF(A1730<'PV Data'!$H$10,0,SUMIFS('PV Data'!D:D,'PV Data'!A:A,MONTH(Conversions!A1730),'PV Data'!B:B,DAY(Conversions!A1730),'PV Data'!C:C,HOUR(Conversions!A1730))/1000)","v":0},null,3,14,0]
[{"$f":"A1730+TIME(0,15,0)","v":"1900-01-19T00:15:00"},{"$f":"B1730","v":0},null,3,14,1]
[{"$f":"A1731+TIME(0,15,0)","v":"1900-01-19T00:30:00"},{"$f":"B1730","v":0},null,3,14,2]
[{"$f":"A1732+TIME(0,15,0)","v":"1900-01-19T00:45:00"},{"$f":"B1730","v":0},null,3,14,3]
[{"$f":"DATE($C$435,$D$435,$E$435) + TIME($F$435,0,0)","v":"1900-01-19T01:00:00"},{"$f":"IF(A1734<'PV Data'!$H$10,0,SUMIFS('PV Data'!D:D,'PV Data'!A:A,MONTH(Conversions!A1734),'PV Data'!B:B,DAY(Conversions!A1734),'PV Data'!C:C,HOUR(Conversions!A1734))/1000)","v":0},null,3,14,4]
[{"$f":"A1734+TIME(0,15,0)","v":"1900-01-19T01:15:00"},{"$f":"B1734","v":0},null,3,14,5]
[{"$f":"A1735+TIME(0,15,0)","v":"1900-01-19T01:30:00"},{"$f":"B1734","v":0},null,3,14,6]
[{"$f":"A1736+TIME(0,15,0)","v":"1900-01-19T01:45:00"},{"$f":"B1734","v":0},null,3,14,7]
[{"$f":"DATE($C$436,$D$436,$E$436) + TIME($F$436,0,0)","v":"1900-01-19T02:00:00"},{"$f":"IF(A1738<'PV Data'!$H$10,0,SUMIFS('PV Data'!D:D,'PV Data'!A:A,MONTH(Conversions!A1738),'PV Data'!B:B,DAY(Conversions!A1738),'PV Data'!C:C,HOUR(Conversions!A1738))/1000)","v":0},null,3,14,8]
[{"$f":"A1738+TIME(0,15,0)","v":"1900-01-19T02:15:00"},{"$f":"B1738","v":0},null,3,14,9]
[{"$f":"A1739+TIME(0,15,0)","v":"1900-01-19T02:30:00"},{"$f":"B1738","v":0},null,3,14,10]
[{"$f":"A1740+TIME(0,15,0)","v":"1900-01-19T02:45:00"},{"$f":"B1738","v":0},null,3,14,11]
[{"$f":"DATE($C$437,$D$437,$E$437) + TIME($F$437,0,0)","v":"1900-01-19T03:00:00"},{"$f":"IF(A1742<'PV Data'!$H$10,0,SUMIFS('PV Data'!D:D,'PV Data'!A:A,MONTH(Conversions!A1742),'PV Data'!B:B,DAY(Conversions!A1742),'PV Data'!C:C,HOUR(Conversions!A1742))/1000)","v":0},null,3,14,12]
[{"$f":"A1742+TIME(0,15,0)","v":"1900-01-19T03:15:00"},{"$f":"B1742","v":0},null,3,14,13]
[{"$f":"A1743+TIME(0,15,0)","v":"1900-01-19T03:30:00"},{"$f":"B1742","v":0},null,3,14,14]
[{"$f":"A1744+TIME(0,15,0)","v":"1900-01-19T03:45:00"},{"$f":"B1742","v":0},null,3,14,15]
[{"$f":"DATE($C$438,$D$438,$E$438) + TIME($F$438,0,0)","v":"1900-01-19T04:00:00"},{"$f":"IF(A1746<'PV Data'!$H$10,0,SUMIFS('PV Data'!D:D,'PV Data'!A:A,MONTH(Conversions!A1746),'PV Data'!B:B,DAY(Conversions!A1746),'PV Data'!C:C,HOUR(Conversions!A1746))/1000)","v":0},null,3,14,16]
[{"$f":"A1746+TIME(0,15,0)","v":"1900-01-19T04:15:00"},{"$f":"B1746","v":0},null,3,14,17]
[{"$f":"A1747+TIME(0,15,0)","v":"1900-01-19T04:30:00"},{"$f":"B1746","v":0},null,3,14,18]
[{"$f":"A1748+TIME(0,15,0)","v":"1900-01-19T04:45:00"},{"$f":"B1746","v":0},null,3,14,19]
[{"$f":"DATE($C$439,$D$439,$E$439) + TIME($F$439,0,0)","v":"1900-01-19T05:00:00"},{"$f":"IF(A1750<'PV Data'!$H$10,0,SUMIFS('PV Data'!D:D,'PV Data'!A:A,MONTH(Conversions!A1750),'PV Data'!B:B,DAY(Conversions!A1750),'PV Data'!C:C,HOUR(Conversions!A1750))/1000)","v":0},null,3,14,20]
[{"$f":"A1750+TIME(0,15,0)","v":"1900-01-19T05:15:00"},{"$f":"B1750","v":0},null,3,14,21]
[{"$f":"A1751+TIME(0,15,0)","v":"1900-01-19T05:30:00"},{"$f":"B1750","v":0},null,3,14,22]
[{"$f":"A1752+TIME(0,15,0)","v":"1900-01-19T05:45:00"},{"$f":"B1750","v":0},null,3,14,23]
[{"$f":"DATE($C$440,$D$440,$E$440) + TIME($F$440,0,0)","v":"1900-01-19T06:00:00"},{"$f":"IF(A1754<'PV Data'!$H$10,0,SUMIFS('PV Data'!D:D,'PV Data'!A:A,MONTH(Conversions!A1754),'PV Data'!B:B,DAY(Conversions!A1754),'PV Data'!C:C,HOUR(Conversions!A1754))/1000)","v":0},null,3,15,0]
[{"$f":"A1754+TIME(0,15,0)","v":"1900-01-19T06:15:00"},{"$f":"B1754","v":0},null,3,15,1]
[{"$f":"A1755+TIME(0,15,0)","v":"1900-01-19T06:30:00"},{"$f":"B1754","v":0},null,3,15,2]
[{"$f":"A1756+TIME(0,15,0)","v":"1900-01-19T06:45:00"},{"$f":"B1754","v":0},null,3,15,3]
[{"$f":"DATE($C$441,$D$441,$E$441) + TIME($F$441,0,0)","v":"1900-01-19T07:00:00"},{"$f":"IF(A1758<'PV Data'!$H$10,0,SUMIFS('PV Data'!D:D,'PV Data'!A:A,MONTH(Conversions!A1758),'PV Data'!B:B,DAY(Conversions!A1758),'PV Data'!C:C,HOUR(Conversions!A1758))/1000)","v":0},null,3,15,4]
[{"$f":"A1758+TIME(0,15,0)","v":"1900-01-19T07:15:00"},{"$f":"B1758","v":0},null,3,15,5]
[{"$f":"A1759+TIME(0,15,0)","v":"1900-01-19T07:30:00"},{"$f":"B1758","v":0},null,3,15,6]
[{"$f":"A1760+TIME(0,15,0)","v":"1900-01-19T07:45:00"},{"$f":"B1758","v":0},null,3,15,7]
[{"$f":"DATE($C$442,$D$442,$E$442) + TIME($F$442,0,0)","v":"1900-01-19T08:00:00"},{"$f":"IF(A1762<'PV Data'!$H$10,0,SUMIFS('PV Data'!D:D,'PV Data'!A:A,MONTH(Conversions!A1762),'PV Data'!B:B,DAY(Conversions!A1762),'PV Data'!C:C,HOUR(Conversions!A1762))/1000)","v":0},null,3,15,8]
[{"$f":"A1762+TIME(0,15,0)","v":"1900-01-19T08:15:00"},{"$f":"B1762","v":0},null,3,15,9]
[{"$f":"A1763+TIME(0,15,0)","v":"1900-01-19T08:30:00"},{"$f":"B1762","v":0},null,3,15,10]
[{"$f":"A1764+TIME(0,15,0)","v":"1900-01-19T08:45:00"},{"$f":"B1762","v":0},null,3,15,11]
[{"$f":"DATE($C$443,$D$443,$E$443) + TIME($F$443,0,0)","v":"1900-01-19T09:00:00"},{"$f":"IF(A1766<'PV Data'!$H$10,0,SUMIFS('PV Data'!D:D,'PV Data'!A:A,MONTH(Conversions!A1766),'PV Data'!B:B,DAY(Conversions!A1766),'PV Data'!C:C,HOUR(Conversions!A1766))/1000)","v":0},null,3,15,12]
[{"$f":"A1766+TIME(0,15,0)","v":"1900-01-19T09:15:00"},{"$f":"B1766","v":0},null,3,15,13]
[{"$f":"A1767+TIME(0,15,0)","v":"1900-01-19T09:30:00"},{"$f":"B1766","v":0},null,3,15,14]
[{"$f":"A1768+TIME(0,15,0)","v":"1900-01-19T09:45:00"},{"$f":"B1766","v":0},null,3,15,15]
[{"$f":"DATE($C$444,$D$444,$E$444) + TIME($F$444,0,0)","v":"1900-01-19T10:00:00"},{"$f":"IF(A1770<'PV Data'!$H$10,0,SUMIFS('PV Data'!D:D,'PV Data'!A:A,MONTH(Conversions!A1770),'PV Data'!B:B,DAY(Conversions!A1770),'PV Data'!C:C,HOUR(Conversions!A1770))/1000)","v":0},null,3,15,16]
[{"$f":"A1770+TIME(0,15,0)","v":"1900-01-19T10:15:00"},{"$f":"B1770","v":0},null,3,15,17]
[{"$f":"A1771+TIME(0,15,0)","v":"1900-01-19T10:30:00"},{"$f":"B1770","v":0},null,3,15,18]
[{"$f":"A1772+TIME(0,15,0)","v":"1900-01-19T10:45:00"},{"$f":"B1770","v":0},null,3,15,19]
[{"$f":"DATE($C$445,$D$445,$E$445) + TIME($F$445,0,0)","v":"1900-01-19T11:00:00"},{"$f":"IF(A1774<'PV Data'!$H$10,0,SUMIFS('PV Data'!D:D,'PV Data'!A:A,MONTH(Conversions!A1774),'PV Data'!B:B,DAY(Conversions!A1774),'PV Data'!C:C,HOUR(Conversions!A1774))/1000)","v":0},null,3,15,20]
[{"$f":"A1774+TIME(0,15,0)","v":"1900-01-19T11:15:00"},{"$f":"B1774","v":0},null,3,15,21]
[{"$f":"A1775+TIME(0,15,0)","v":"1900-01-19T11:30:00"},{"$f":"B1774","v":0},null,3,15,22]
[{"$f":"A1776+TIME(0,15,0)","v":"1900-01-19T11:45:00"},{"$f":"B1774","v":0},null,3,15,23]
[{"$f":"DATE($C$446,$D$446,$E$446) + TIME($F$446,0,0)","v":"1900-01-19T12:00:00"},{"$f":"IF(A1778<'PV Data'!$H$10,0,SUMIFS('PV Data'!D:D,'PV Data'!A:A,MONTH(Conversions!A1778),'PV Data'!B:B,DAY(Conversions!A1778),'PV Data'!C:C,HOUR(Conversions!A1778))/1000)","v":0},null,3,16,0]
[{"$f":"A1778+TIME(0,15,0)","v":"1900-01-19T12:15:00"},{"$f":"B1778","v":0},null,3,16,1]
[{"$f":"A1779+TIME(0,15,0)","v":"1900-01-19T12:30:00"},{"$f":"B1778","v":0},null,3,16,2]
[{"$f":"A1780+TIME(0,15,0)","v":"1900-01-19T12:45:00"},{"$f":"B1778","v":0},null,3,16,3]
[{"$f":"DATE($C$447,$D$447,$E$447) + TIME($F$447,0,0)","v":"1900-01-19T13:00:00"},{"$f":"IF(A1782<'PV Data'!$H$10,0,SUMIFS('PV Data'!D:D,'PV Data'!A:A,MONTH(Conversions!A1782),'PV Data'!B:B,DAY(Conversions!A1782),'PV Data'!C:C,HOUR(Conversions!A1782))/1000)","v":0},null,3,16,4]
[{"$f":"A1782+TIME(0,15,0)","v":"1900-01-19T13:15:00"},{"$f":"B1782","v":0},null,3,16,5]
[{"$f":"A1783+TIME(0,15,0)","v":"1900-01-19T13:30:00"},{"$f":"B1782","v":0},null,3,16,6]
[{"$f":"A1784+TIME(0,15,0)","v":"1900-01-19T13:45:00"},{"$f":"B1782","v":0},null,3,16,7]
[{"$f":"DATE($C$448,$D$448,$E$448) + TIME($F$448,0,0)","v":"1900-01-19T14:00:00"},{"$f":"IF(A1786<'PV Data'!$H$10,0,SUMIFS('PV Data'!D:D,'PV Data'!A:A,MONTH(Conversions!A1786),'PV Data'!B:B,DAY(Conversions!A1786),'PV Data'!C:C,HOUR(Conversions!A1786))/1000)","v":0},null,3,16,8]
[{"$f":"A1786+TIME(0,15,0)","v":"1900-01-19T14:15:00"},{"$f":"B1786","v":0},null,3,16,9]
[{"$f":"A1787+TIME(0,15,0)","v":"1900-01-19T14:30:00"},{"$f":"B1786","v":0},null,3,16,10]
[{"$f":"A1788+TIME(0,15,0)","v":"1900-01-19T14:45:00"},{"$f":"B1786","v":0},null,3,16,11]
[{"$f":"DATE($C$449,$D$449,$E$449) + TIME($F$449,0,0)","v":"1900-01-19T15:00:00"},{"$f":"IF(A1790<'PV Data'!$H$10,0,SUMIFS('PV Data'!D:D,'PV Data'!A:A,MONTH(Conversions!A1790),'PV Data'!B:B,DAY(Conversions!A1790),'PV Data'!C:C,HOUR(Conversions!A1790))/1000)","v":0},null,3,16,12]
[{"$f":"A1790+TIME(0,15,0)","v":"1900-01-19T15:15:00"},{"$f":"B1790","v":0},null,3,16,13]
[{"$f":"A1791+TIME(0,15,0)","v":"1900-01-19T15:30:00"},{"$f":"B1790","v":0},null,3,16,14]
[{"$f":"A1792+TIME(0,15,0)","v":"1900-01-19T15:45:00"},{"$f":"B1790","v":0},null,3,16,15]
[{"$f":"DATE($C$450,$D$450,$E$450) + TIME($F$450,0,0)","v":"1900-01-19T16:00:00"},{"$f":"IF(A1794<'PV Data'!$H$10,0,SUMIFS('PV Data'!D:D,'PV Data'!A:A,MONTH(Conversions!A1794),'PV Data'!B:B,DAY(Conversions!A1794),'PV Data'!C:C,HOUR(Conversions!A1794))/1000)","v":0},null,3,16,16]
[{"$f":"A1794+TIME(0,15,0)","v":"1900-01-19T16:15:00"},{"$f":"B1794","v":0},null,3,16,17]
[{"$f":"A1795+TIME(0,15,0)","v":"1900-01-19T16:30:00"},{"$f":"B1794","v":0},null,3,16,18]
[{"$f":"A1796+TIME(0,15,0)","v":"1900-01-19T16:45:00"},{"$f":"B1794","v":0},null,3,16,19]
[{"$f":"DATE($C$451,$D$451,$E$451) + TIME($F$451,0,0)","v":"1900-01-19T17:00:00"},{"$f":"IF(A1798<'PV Data'!$H$10,0,SUMIFS('PV Data'!D:D,'PV Data'!A:A,MONTH(Conversions!A1798),'PV Data'!B:B,DAY(Conversions!A1798),'PV Data'!C:C,HOUR(Conversions!A1798))/1000)","v":0},null,3,16,20]
[{"$f":"A1798+TIME(0,15,0)","v":"1900-01-19T17:15:00"},{"$f":"B1798","v":0},null,3,16,21]
[{"$f":"A1799+TIME(0,15,0)","v":"1900-01-19T17:30:00"},{"$f":"B1798","v":0},null,3,16,22]
[{"$f":"A1800+TIME(0,15,0)","v":"1900-01-19T17:45:00"},{"$f":"B1798","v":0},null,3,16,23]
[{"$f":"DATE($C$452,$D$452,$E$452) + TIME($F$452,0,0)","v":"1900-01-19T18:00:00"},{"$f":"IF(A1802<'PV Data'!$H$10,0,SUMIFS('PV Data'!D:D,'PV Data'!A:A,MONTH(Conversions!A1802),'PV Data'!B:B,DAY(Conversions!A1802),'PV Data'!C:C,HOUR(Conversions!A1802))/1000)","v":0},null,3,17,0]
[{"$f":"A1802+TIME(0,15,0)","v":"1900-01-19T18:15:00"},{"$f":"B1802","v":0},null,3,17,1]
[{"$f":"A1803+TIME(0,15,0)","v":"1900-01-19T18:30:00"},{"$f":"B1802","v":0},null,3,17,2]
[{"$f":"A1804+TIME(0,15,0)","v":"1900-01-19T18:45:00"},{"$f":"B1802","v":0},null,3,17,3]
[{"$f":"DATE($C$453,$D$453,$E$453) + TIME($F$453,0,0)","v":"1900-01-19T19:00:00"},{"$f":"IF(A1806<'PV Data'!$H$10,0,SUMIFS('PV Data'!D:D,'PV Data'!A:A,MONTH(Conversions!A1806),'PV Data'!B:B,DAY(Conversions!A1806),'PV Data'!C:C,HOUR(Conversions!A1806))/1000)","v":0},null,3,17,4]
[{"$f":"A1806+TIME(0,15,0)","v":"1900-01-19T19:15:00"},{"$f":"B1806","v":0},null,3,17,5]
[{"$f":"A1807+TIME(0,15,0)","v":"1900-01-19T19:30:00"},{"$f":"B1806","v":0},null,3,17,6]
[{"$f":"A1808+TIME(0,15,0)","v":"1900-01-19T19:45:00"},{"$f":"B1806","v":0},null,3,17,7]
[{"$f":"DATE($C$454,$D$454,$E$454) + TIME($F$454,0,0)","v":"1900-01-19T20:00:00"},{"$f":"IF(A1810<'PV Data'!$H$10,0,SUMIFS('PV Data'!D:D,'PV Data'!A:A,MONTH(Conversions!A1810),'PV Data'!B:B,DAY(Conversions!A1810),'PV Data'!C:C,HOUR(Conversions!A1810))/1000)","v":0},null,3,17,8]
[{"$f":"A1810+TIME(0,15,0)","v":"1900-01-19T20:15:00"},{"$f":"B1810","v":0},null,3,17,9]
[{"$f":"A1811+TIME(0,15,0)","v":"1900-01-19T20:30:00"},{"$f":"B1810","v":0},null,3,17,10]
[{"$f":"A1812+TIME(0,15,0)","v":"1900-01-19T20:45:00"},{"$f":"B1810","v":0},null,3,17,11]
[{"$f":"DATE($C$455,$D$455,$E$455) + TIME($F$455,0,0)","v":"1900-01-19T21:00:00"},{"$f":"IF(A1814<'PV Data'!$H$10,0,SUMIFS('PV Data'!D:D,'PV Data'!A:A,MONTH(Conversions!A1814),'PV Data'!B:B,DAY(Conversions!A1814),'PV Data'!C:C,HOUR(Conversions!A1814))/1000)","v":0},null,3,17,12]
[{"$f":"A1814+TIME(0,15,0)","v":"1900-01-19T21:15:00"},{"$f":"B1814","v":0},null,3,17,13]
[{"$f":"A1815+TIME(0,15,0)","v":"1900-01-19T21:30:00"},{"$f":"B1814","v":0},null,3,17,14]
[{"$f":"A1816+TIME(0,15,0)","v":"1900-01-19T21:45:00"},{"$f":"B1814","v":0},null,3,17,15]
[{"$f":"DATE($C$456,$D$456,$E$456) + TIME($F$456,0,0)","v":"1900-01-19T22:00:00"},{"$f":"IF(A1818<'PV Data'!$H$10,0,SUMIFS('PV Data'!D:D,'PV Data'!A:A,MONTH(Conversions!A1818),'PV Data'!B:B,DAY(Conversions!A1818),'PV Data'!C:C,HOUR(Conversions!A1818))/1000)","v":0},null,3,17,16]
[{"$f":"A1818+TIME(0,15,0)","v":"1900-01-19T22:15:00"},{"$f":"B1818","v":0},null,3,17,17]
[{"$f":"A1819+TIME(0,15,0)","v":"1900-01-19T22:30:00"},{"$f":"B1818","v":0},null,3,17,18]
[{"$f":"A1820+TIME(0,15,0)","v":"1900-01-19T22:45:00"},{"$f":"B1818","v":0},null,3,17,19]
[{"$f":"DATE($C$457,$D$457,$E$457) + TIME($F$457,0,0)","v":"1900-01-19T23:00:00"},{"$f":"IF(A1822<'PV Data'!$H$10,0,SUMIFS('PV Data'!D:D,'PV Data'!A:A,MONTH(Conversions!A1822),'PV Data'!B:B,DAY(Conversions!A1822),'PV Data'!C:C,HOUR(Conversions!A1822))/1000)","v":0},null,3,17,20]
[{"$f":"A1822+TIME(0,15,0)","v":"1900-01-19T23:15:00"},{"$f":"B1822","v":0},null,3,17,21]
[{"$f":"A1823+TIME(0,15,0)","v":"1900-01-19T23:30:00"},{"$f":"B1822","v":0},null,3,17,22]
[{"$f":"A1824+TIME(0,15,0)","v":"1900-01-19T23:45:00"},{"$f":"B1822","v":0},null,3,17,23]
[{"$f":"DATE($C$458,$D$458,$E$458) + TIME($F$458,0,0)","v":"1900-01-20"},{"$f":"IF(A1826<'PV Data'!$H$10,0,SUMIFS('PV Data'!D:D,'PV Data'!A:A,MONTH(Conversions!A1826),'PV Data'!B:B,DAY(Conversions!A1826),'PV Data'!C:C,HOUR(Conversions!A1826))/1000)","v":0},null,3,18,0]
[{"$f":"A1826+TIME(0,15,0)","v":"1900-01-20T00:15:00"},{"$f":"B1826","v":0},null,3,18,1]
[{"$f":"A1827+TIME(0,15,0)","v":"1900-01-20T00:30:00"},{"$f":"B1826","v":0},null,3,18,2]
[{"$f":"A1828+TIME(0,15,0)","v":"1900-01-20T00:45:00"},{"$f":"B1826","v":0},null,3,18,3]
[{"$f":"DATE($C$459,$D$459,$E$459) + TIME($F$459,0,0)","v":"1900-01-20T01:00:00"},{"$f":"IF(A1830<'PV Data'!$H$10,0,SUMIFS('PV Data'!D:D,'PV Data'!A:A,MONTH(Conversions!A1830),'PV Data'!B:B,DAY(Conversions!A1830),'PV Data'!C:C,HOUR(Conversions!A1830))/1000)","v":0},null,3,18,4]
[{"$f":"A1830+TIME(0,15,0)","v":"1900-01-20T01:15:00"},{"$f":"B1830","v":0},null,3,18,5]
[{"$f":"A1831+TIME(0,15,0)","v":"1900-01-20T01:30:00"},{"$f":"B1830","v":0},null,3,18,6]
[{"$f":"A1832+TIME(0,15,0)","v":"1900-01-20T01:45:00"},{"$f":"B1830","v":0},null,3,18,7]
[{"$f":"DATE($C$460,$D$460,$E$460) + TIME($F$460,0,0)","v":"1900-01-20T02:00:00"},{"$f":"IF(A1834<'PV Data'!$H$10,0,SUMIFS('PV Data'!D:D,'PV Data'!A:A,MONTH(Conversions!A1834),'PV Data'!B:B,DAY(Conversions!A1834),'PV Data'!C:C,HOUR(Conversions!A1834))/1000)","v":0},null,3,18,8]
[{"$f":"A1834+TIME(0,15,0)","v":"1900-01-20T02:15:00"},{"$f":"B1834","v":0},null,3,18,9]
[{"$f":"A1835+TIME(0,15,0)","v":"1900-01-20T02:30:00"},{"$f":"B1834","v":0},null,3,18,10]
[{"$f":"A1836+TIME(0,15,0)","v":"1900-01-20T02:45:00"},{"$f":"B1834","v":0},null,3,18,11]
[{"$f":"DATE($C$461,$D$461,$E$461) + TIME($F$461,0,0)","v":"1900-01-20T03:00:00"},{"$f":"IF(A1838<'PV Data'!$H$10,0,SUMIFS('PV Data'!D:D,'PV Data'!A:A,MONTH(Conversions!A1838),'PV Data'!B:B,DAY(Conversions!A1838),'PV Data'!C:C,HOUR(Conversions!A1838))/1000)","v":0},null,3,18,12]
[{"$f":"A1838+TIME(0,15,0)","v":"1900-01-20T03:15:00"},{"$f":"B1838","v":0},null,3,18,13]
[{"$f":"A1839+TIME(0,15,0)","v":"1900-01-20T03:30:00"},{"$f":"B1838","v":0},null,3,18,14]
[{"$f":"A1840+TIME(0,15,0)","v":"1900-01-20T03:45:00"},{"$f":"B1838","v":0},null,3,18,15]
[{"$f":"DATE($C$462,$D$462,$E$462) + TIME($F$462,0,0)","v":"1900-01-20T04:00:00"},{"$f":"IF(A1842<'PV Data'!$H$10,0,SUMIFS('PV Data'!D:D,'PV Data'!A:A,MONTH(Conversions!A1842),'PV Data'!B:B,DAY(Conversions!A1842),'PV Data'!C:C,HOUR(Conversions!A1842))/1000)","v":0},null,3,18,16]
[{"$f":"A1842+TIME(0,15,0)","v":"1900-01-20T04:15:00"},{"$f":"B1842","v":0},null,3,18,17]
[{"$f":"A1843+TIME(0,15,0)","v":"1900-01-20T04:30:00"},{"$f":"B1842","v":0},null,3,18,18]
[{"$f":"A1844+TIME(0,15,0)","v":"1900-01-20T04:45:00"},{"$f":"B1842","v":0},null,3,18,19]
[{"$f":"DATE($C$463,$D$463,$E$463) + TIME($F$463,0,0)","v":"1900-01-20T05:00:00"},{"$f":"IF(A1846<'PV Data'!$H$10,0,SUMIFS('PV Data'!D:D,'PV Data'!A:A,MONTH(Conversions!A1846),'PV Data'!B:B,DAY(Conversions!A1846),'PV Data'!C:C,HOUR(Conversions!A1846))/1000)","v":0},null,3,18,20]
[{"$f":"A1846+TIME(0,15,0)","v":"1900-01-20T05:15:00"},{"$f":"B1846","v":0},null,3,18,21]
[{"$f":"A1847+TIME(0,15,0)","v":"1900-01-20T05:30:00"},{"$f":"B1846","v":0},null,3,18,22]
[{"$f":"A1848+TIME(0,15,0)","v":"1900-01-20T05:45:00"},{"$f":"B1846","v":0},null,3,18,23]
[{"$f":"DATE($C$464,$D$464,$E$464) + TIME($F$464,0,0)","v":"1900-01-20T06:00:00"},{"$f":"IF(A1850<'PV Data'!$H$10,0,SUMIFS('PV Data'!D:D,'PV Data'!A:A,MONTH(Conversions!A1850),'PV Data'!B:B,DAY(Conversions!A1850),'PV Data'!C:C,HOUR(Conversions!A1850))/1000)","v":0},null,3,19,0]
[{"$f":"A1850+TIME(0,15,0)","v":"1900-01-20T06:15:00"},{"$f":"B1850","v":0},null,3,19,1]
[{"$f":"A1851+TIME(0,15,0)","v":"1900-01-20T06:30:00"},{"$f":"B1850","v":0},null,3,19,2]
[{"$f":"A1852+TIME(0,15,0)","v":"1900-01-20T06:45:00"},{"$f":"B1850","v":0},null,3,19,3]
[{"$f":"DATE($C$465,$D$465,$E$465) + TIME($F$465,0,0)","v":"1900-01-20T07:00:00"},{"$f":"IF(A1854<'PV Data'!$H$10,0,SUMIFS('PV Data'!D:D,'PV Data'!A:A,MONTH(Conversions!A1854),'PV Data'!B:B,DAY(Conversions!A1854),'PV Data'!C:C,HOUR(Conversions!A1854))/1000)","v":0},null,3,19,4]
[{"$f":"A1854+TIME(0,15,0)","v":"1900-01-20T07:15:00"},{"$f":"B1854","v":0},null,3,19,5]
[{"$f":"A1855+TIME(0,15,0)","v":"1900-01-20T07:30:00"},{"$f":"B1854","v":0},null,3,19,6]
[{"$f":"A1856+TIME(0,15,0)","v":"1900-01-20T07:45:00"},{"$f":"B1854","v":0},null,3,19,7]
[{"$f":"DATE($C$466,$D$466,$E$466) + TIME($F$466,0,0)","v":"1900-01-20T08:00:00"},{"$f":"IF(A1858<'PV Data'!$H$10,0,SUMIFS('PV Data'!D:D,'PV Data'!A:A,MONTH(Conversions!A1858),'PV Data'!B:B,DAY(Conversions!A1858),'PV Data'!C:C,HOUR(Conversions!A1858))/1000)","v":0},null,3,19,8]
[{"$f":"A1858+TIME(0,15,0)","v":"1900-01-20T08:15:00"},{"$f":"B1858","v":0},null,3,19,9]
[{"$f":"A1859+TIME(0,15,0)","v":"1900-01-20T08:30:00"},{"$f":"B1858","v":0},null,3,19,10]
[{"$f":"A1860+TIME(0,15,0)","v":"1900-01-20T08:45:00"},{"$f":"B1858","v":0},null,3,19,11]
[{"$f":"DATE($C$467,$D$467,$E$467) + TIME($F$467,0,0)","v":"1900-01-20T09:00:00"},{"$f":"IF(A1862<'PV Data'!$H$10,0,SUMIFS('PV Data'!D:D,'PV Data'!A:A,MONTH(Conversions!A1862),'PV Data'!B:B,DAY(Conversions!A1862),'PV Data'!C:C,HOUR(Conversions!A1862))/1000)","v":0},null,3,19,12]
[{"$f":"A1862+TIME(0,15,0)","v":"1900-01-20T09:15:00"},{"$f":"B1862","v":0},null,3,19,13]
[{"$f":"A1863+TIME(0,15,0)","v":"1900-01-20T09:30:00"},{"$f":"B1862","v":0},null,3,19,14]
[{"$f":"A1864+TIME(0,15,0)","v":"1900-01-20T09:45:00"},{"$f":"B1862","v":0},null,3,19,15]
[{"$f":"DATE($C$468,$D$468,$E$468) + TIME($F$468,0,0)","v":"1900-01-20T10:00:00"},{"$f":"IF(A1866<'PV Data'!$H$10,0,SUMIFS('PV Data'!D:D,'PV Data'!A:A,MONTH(Conversions!A1866),'PV Data'!B:B,DAY(Conversions!A1866),'PV Data'!C:C,HOUR(Conversions!A1866))/1000)","v":0},null,3,19,16]
[{"$f":"A1866+TIME(0,15,0)","v":"1900-01-20T10:15:00"},{"$f":"B1866","v":0},null,3,19,17]
[{"$f":"A1867+TIME(0,15,0)","v":"1900-01-20T10:30:00"},{"$f":"B1866","v":0},null,3,19,18]
[{"$f":"A1868+TIME(0,15,0)","v":"1900-01-20T10:45:00"},{"$f":"B1866","v":0},null,3,19,19]
[{"$f":"DATE($C$469,$D$469,$E$469) + TIME($F$469,0,0)","v":"1900-01-20T11:00:00"},{"$f":"IF(A1870<'PV Data'!$H$10,0,SUMIFS('PV Data'!D:D,'PV Data'!A:A,MONTH(Conversions!A1870),'PV Data'!B:B,DAY(Conversions!A1870),'PV Data'!C:C,HOUR(Conversions!A1870))/1000)","v":0},null,3,19,20]
[{"$f":"A1870+TIME(0,15,0)","v":"1900-01-20T11:15:00"},{"$f":"B1870","v":0},null,3,19,21]
[{"$f":"A1871+TIME(0,15,0)","v":"1900-01-20T11:30:00"},{"$f":"B1870","v":0},null,3,19,22]
[{"$f":"A1872+TIME(0,15,0)","v":"1900-01-20T11:45:00"},{"$f":"B1870","v":0},null,3,19,23]
[{"$f":"DATE($C$470,$D$470,$E$470) + TIME($F$470,0,0)","v":"1900-01-20T12:00:00"},{"$f":"IF(A1874<'PV Data'!$H$10,0,SUMIFS('PV Data'!D:D,'PV Data'!A:A,MONTH(Conversions!A1874),'PV Data'!B:B,DAY(Conversions!A1874),'PV Data'!C:C,HOUR(Conversions!A1874))/1000)","v":0},null,3,20,0]
[{"$f":"A1874+TIME(0,15,0)","v":"1900-01-20T12:15:00"},{"$f":"B1874","v":0},null,3,20,1]
[{"$f":"A1875+TIME(0,15,0)","v":"1900-01-20T12:30:00"},{"$f":"B1874","v":0},null,3,20,2]
[{"$f":"A1876+TIME(0,15,0)","v":"1900-01-20T12:45:00"},{"$f":"B1874","v":0},null,3,20,3]
[{"$f":"DATE($C$471,$D$471,$E$471) + TIME($F$471,0,0)","v":"1900-01-20T13:00:00"},{"$f":"IF(A1878<'PV Data'!$H$10,0,SUMIFS('PV Data'!D:D,'PV Data'!A:A,MONTH(Conversions!A1878),'PV Data'!B:B,DAY(Conversions!A1878),'PV Data'!C:C,HOUR(Conversions!A1878))/1000)","v":0},null,3,20,4]
[{"$f":"A1878+TIME(0,15,0)","v":"1900-01-20T13:15:00"},{"$f":"B1878","v":0},null,3,20,5]
[{"$f":"A1879+TIME(0,15,0)","v":"1900-01-20T13:30:00"},{"$f":"B1878","v":0},null,3,20,6]
[{"$f":"A1880+TIME(0,15,0)","v":"1900-01-20T13:45:00"},{"$f":"B1878","v":0},null,3,20,7]
[{"$f":"DATE($C$472,$D$472,$E$472) + TIME($F$472,0,0)","v":"1900-01-20T14:00:00"},{"$f":"IF(A1882<'PV Data'!$H$10,0,SUMIFS('PV Data'!D:D,'PV Data'!A:A,MONTH(Conversions!A1882),'PV Data'!B:B,DAY(Conversions!A1882),'PV Data'!C:C,HOUR(Conversions!A1882))/1000)","v":0},null,3,20,8]
[{"$f":"A1882+TIME(0,15,0)","v":"1900-01-20T14:15:00"},{"$f":"B1882","v":0},null,3,20,9]
[{"$f":"A1883+TIME(0,15,0)","v":"1900-01-20T14:30:00"},{"$f":"B1882","v":0},null,3,20,10]
[{"$f":"A1884+TIME(0,15,0)","v":"1900-01-20T14:45:00"},{"$f":"B1882","v":0},null,3,20,11]
[{"$f":"DATE($C$473,$D$473,$E$473) + TIME($F$473,0,0)","v":"1900-01-20T15:00:00"},{"$f":"IF(A1886<'PV Data'!$H$10,0,SUMIFS('PV Data'!D:D,'PV Data'!A:A,MONTH(Conversions!A1886),'PV Data'!B:B,DAY(Conversions!A1886),'PV Data'!C:C,HOUR(Conversions!A1886))/1000)","v":0},null,3,20,12]
[{"$f":"A1886+TIME(0,15,0)","v":"1900-01-20T15:15:00"},{"$f":"B1886","v":0},null,3,20,13]
[{"$f":"A1887+TIME(0,15,0)","v":"1900-01-20T15:30:00"},{"$f":"B1886","v":0},null,3,20,14]
[{"$f":"A1888+TIME(0,15,0)","v":"1900-01-20T15:45:00"},{"$f":"B1886","v":0},null,3,20,15]
[{"$f":"DATE($C$474,$D$474,$E$474) + TIME($F$474,0,0)","v":"1900-01-20T16:00:00"},{"$f":"IF(A1890<'PV Data'!$H$10,0,SUMIFS('PV Data'!D:D,'PV Data'!A:A,MONTH(Conversions!A1890),'PV Data'!B:B,DAY(Conversions!A1890),'PV Data'!C:C,HOUR(Conversions!A1890))/1000)","v":0},null,3,20,16]
[{"$f":"A1890+TIME(0,15,0)","v":"1900-01-20T16:15:00"},{"$f":"B1890","v":0},null,3,20,17]
[{"$f":"A1891+TIME(0,15,0)","v":"1900-01-20T16:30:00"},{"$f":"B1890","v":0},null,3,20,18]
[{"$f":"A1892+TIME(0,15,0)","v":"1900-01-20T16:45:00"},{"$f":"B1890","v":0},null,3,20,19]
[{"$f":"DATE($C$475,$D$475,$E$475) + TIME($F$475,0,0)","v":"1900-01-20T17:00:00"},{"$f":"IF(A1894<'PV Data'!$H$10,0,SUMIFS('PV Data'!D:D,'PV Data'!A:A,MONTH(Conversions!A1894),'PV Data'!B:B,DAY(Conversions!A1894),'PV Data'!C:C,HOUR(Conversions!A1894))/1000)","v":0},null,3,20,20]
[{"$f":"A1894+TIME(0,15,0)","v":"1900-01-20T17:15:00"},{"$f":"B1894","v":0},null,3,20,21]
[{"$f":"A1895+TIME(0,15,0)","v":"1900-01-20T17:30:00"},{"$f":"B1894","v":0},null,3,20,22]
[{"$f":"A1896+TIME(0,15,0)","v":"1900-01-20T17:45:00"},{"$f":"B1894","v":0},null,3,20,23]
[{"$f":"DATE($C$476,$D$476,$E$476) + TIME($F$476,0,0)","v":"1900-01-20T18:00:00"},{"$f":"IF(A1898<'PV Data'!$H$10,0,SUMIFS('PV Data'!D:D,'PV Data'!A:A,MONTH(Conversions!A1898),'PV Data'!B:B,DAY(Conversions!A1898),'PV Data'!C:C,HOUR(Conversions!A1898))/1000)","v":0},null,3,21,0]
[{"$f":"A1898+TIME(0,15,0)","v":"1900-01-20T18:15:00"},{"$f":"B1898","v":0},null,3,21,1]
[{"$f":"A1899+TIME(0,15,0)","v":"1900-01-20T18:30:00"},{"$f":"B1898","v":0},null,3,21,2]
[{"$f":"A1900+TIME(0,15,0)","v":"1900-01-20T18:45:00"},{"$f":"B1898","v":0},null,3,21,3]
[{"$f":"DATE($C$477,$D$477,$E$477) + TIME($F$477,0,0)","v":"1900-01-20T19:00:00"},{"$f":"IF(A1902<'PV Data'!$H$10,0,SUMIFS('PV Data'!D:D,'PV Data'!A:A,MONTH(Conversions!A1902),'PV Data'!B:B,DAY(Conversions!A1902),'PV Data'!C:C,HOUR(Conversions!A1902))/1000)","v":0},null,3,21,4]
[{"$f":"A1902+TIME(0,15,0)","v":"1900-01-20T19:15:00"},{"$f":"B1902","v":0},null,3,21,5]
[{"$f":"A1903+TIME(0,15,0)","v":"1900-01-20T19:30:00"},{"$f":"B1902","v":0},null,3,21,6]
[{"$f":"A1904+TIME(0,15,0)","v":"1900-01-20T19:45:00"},{"$f":"B1902","v":0},null,3,21,7]
[{"$f":"DATE($C$478,$D$478,$E$478) + TIME($F$478,0,0)","v":"1900-01-20T20:00:00"},{"$f":"IF(A1906<'PV Data'!$H$10,0,SUMIFS('PV Data'!D:D,'PV Data'!A:A,MONTH(Conversions!A1906),'PV Data'!B:B,DAY(Conversions!A1906),'PV Data'!C:C,HOUR(Conversions!A1906))/1000)","v":0},null,3,21,8]
[{"$f":"A1906+TIME(0,15,0)","v":"1900-01-20T20:15:00"},{"$f":"B1906","v":0},null,3,21,9]
[{"$f":"A1907+TIME(0,15,0)","v":"1900-01-20T20:30:00"},{"$f":"B1906","v":0},null,3,21,10]
[{"$f":"A1908+TIME(0,15,0)","v":"1900-01-20T20:45:00"},{"$f":"B1906","v":0},null,3,21,11]
[{"$f":"DATE($C$479,$D$479,$E$479) + TIME($F$479,0,0)","v":"1900-01-20T21:00:00"},{"$f":"IF(A1910<'PV Data'!$H$10,0,SUMIFS('PV Data'!D:D,'PV Data'!A:A,MONTH(Conversions!A1910),'PV Data'!B:B,DAY(Conversions!A1910),'PV Data'!C:C,HOUR(Conversions!A1910))/1000)","v":0},null,3,21,12]
[{"$f":"A1910+TIME(0,15,0)","v":"1900-01-20T21:15:00"},{"$f":"B1910","v":0},null,3,21,13]
[{"$f":"A1911+TIME(0,15,0)","v":"1900-01-20T21:30:00"},{"$f":"B1910","v":0},null,3,21,14]
[{"$f":"A1912+TIME(0,15,0)","v":"1900-01-20T21:45:00"},{"$f":"B1910","v":0},null,3,21,15]
[{"$f":"DATE($C$480,$D$480,$E$480) + TIME($F$480,0,0)","v":"1900-01-20T22:00:00"},{"$f":"IF(A1914<'PV Data'!$H$10,0,SUMIFS('PV Data'!D:D,'PV Data'!A:A,MONTH(Conversions!A1914),'PV Data'!B:B,DAY(Conversions!A1914),'PV Data'!C:C,HOUR(Conversions!A1914))/1000)","v":0},null,3,21,16]
[{"$f":"A1914+TIME(0,15,0)","v":"1900-01-20T22:15:00"},{"$f":"B1914","v":0},null,3,21,17]
[{"$f":"A1915+TIME(0,15,0)","v":"1900-01-20T22:30:00"},{"$f":"B1914","v":0},null,3,21,18]
[{"$f":"A1916+TIME(0,15,0)","v":"1900-01-20T22:45:00"},{"$f":"B1914","v":0},null,3,21,19]
[{"$f":"DATE($C$481,$D$481,$E$481) + TIME($F$481,0,0)","v":"1900-01-20T23:00:00"},{"$f":"IF(A1918<'PV Data'!$H$10,0,SUMIFS('PV Data'!D:D,'PV Data'!A:A,MONTH(Conversions!A1918),'PV Data'!B:B,DAY(Conversions!A1918),'PV Data'!C:C,HOUR(Conversions!A1918))/1000)","v":0},null,3,21,20]
[{"$f":"A1918+TIME(0,15,0)","v":"1900-01-20T23:15:00"},{"$f":"B1918","v":0},null,3,21,21]
[{"$f":"A1919+TIME(0,15,0)","v":"1900-01-20T23:30:00"},{"$f":"B1918","v":0},null,3,21,22]
[{"$f":"A1920+TIME(0,15,0)","v":"1900-01-20T23:45:00"},{"$f":"B1918","v":0},null,3,21,23]
[{"$f":"DATE($C$482,$D$482,$E$482) + TIME($F$482,0,0)","v":"1900-01-21"},{"$f":"IF(A1922<'PV Data'!$H$10,0,SUMIFS('PV Data'!D:D,'PV Data'!A:A,MONTH(Conversions!A1922),'PV Data'!B:B,DAY(Conversions!A1922),'PV Data'!C:C,HOUR(Conversions!A1922))/1000)","v":0},null,3,22,0]
[{"$f":"A1922+TIME(0,15,0)","v":"1900-01-21T00:15:00"},{"$f":"B1922","v":0},null,3,22,1]
[{"$f":"A1923+TIME(0,15,0)","v":"1900-01-21T00:30:00"},{"$f":"B1922","v":0},null,3,22,2]
[{"$f":"A1924+TIME(0,15,0)","v":"1900-01-21T00:45:00"},{"$f":"B1922","v":0},null,3,22,3]
[{"$f":"DATE($C$483,$D$483,$E$483) + TIME($F$483,0,0)","v":"1900-01-21T01:00:00"},{"$f":"IF(A1926<'PV Data'!$H$10,0,SUMIFS('PV Data'!D:D,'PV Data'!A:A,MONTH(Conversions!A1926),'PV Data'!B:B,DAY(Conversions!A1926),'PV Data'!C:C,HOUR(Conversions!A1926))/1000)","v":0},null,3,22,4]
[{"$f":"A1926+TIME(0,15,0)","v":"1900-01-21T01:15:00"},{"$f":"B1926","v":0},null,3,22,5]
[{"$f":"A1927+TIME(0,15,0)","v":"1900-01-21T01:30:00"},{"$f":"B1926","v":0},null,3,22,6]
[{"$f":"A1928+TIME(0,15,0)","v":"1900-01-21T01:45:00"},{"$f":"B1926","v":0},null,3,22,7]
[{"$f":"DATE($C$484,$D$484,$E$484) + TIME($F$484,0,0)","v":"1900-01-21T02:00:00"},{"$f":"IF(A1930<'PV Data'!$H$10,0,SUMIFS('PV Data'!D:D,'PV Data'!A:A,MONTH(Conversions!A1930),'PV Data'!B:B,DAY(Conversions!A1930),'PV Data'!C:C,HOUR(Conversions!A1930))/1000)","v":0},null,3,22,8]
[{"$f":"A1930+TIME(0,15,0)","v":"1900-01-21T02:15:00"},{"$f":"B1930","v":0},null,3,22,9]
[{"$f":"A1931+TIME(0,15,0)","v":"1900-01-21T02:30:00"},{"$f":"B1930","v":0},null,3,22,10]
[{"$f":"A1932+TIME(0,15,0)","v":"1900-01-21T02:45:00"},{"$f":"B1930","v":0},null,3,22,11]
[{"$f":"DATE($C$485,$D$485,$E$485) + TIME($F$485,0,0)","v":"1900-01-21T03:00:00"},{"$f":"IF(A1934<'PV Data'!$H$10,0,SUMIFS('PV Data'!D:D,'PV Data'!A:A,MONTH(Conversions!A1934),'PV Data'!B:B,DAY(Conversions!A1934),'PV Data'!C:C,HOUR(Conversions!A1934))/1000)","v":0},null,3,22,12]
[{"$f":"A1934+TIME(0,15,0)","v":"1900-01-21T03:15:00"},{"$f":"B1934","v":0},null,3,22,13]
[{"$f":"A1935+TIME(0,15,0)","v":"1900-01-21T03:30:00"},{"$f":"B1934","v":0},null,3,22,14]
[{"$f":"A1936+TIME(0,15,0)","v":"1900-01-21T03:45:00"},{"$f":"B1934","v":0},null,3,22,15]
[{"$f":"DATE($C$486,$D$486,$E$486) + TIME($F$486,0,0)","v":"1900-01-21T04:00:00"},{"$f":"IF(A1938<'PV Data'!$H$10,0,SUMIFS('PV Data'!D:D,'PV Data'!A:A,MONTH(Conversions!A1938),'PV Data'!B:B,DAY(Conversions!A1938),'PV Data'!C:C,HOUR(Conversions!A1938))/1000)","v":0},null,3,22,16]
[{"$f":"A1938+TIME(0,15,0)","v":"1900-01-21T04:15:00"},{"$f":"B1938","v":0},null,3,22,17]
[{"$f":"A1939+TIME(0,15,0)","v":"1900-01-21T04:30:00"},{"$f":"B1938","v":0},null,3,22,18]
[{"$f":"A1940+TIME(0,15,0)","v":"1900-01-21T04:45:00"},{"$f":"B1938","v":0},null,3,22,19]
[{"$f":"DATE($C$487,$D$487,$E$487) + TIME($F$487,0,0)","v":"1900-01-21T05:00:00"},{"$f":"IF(A1942<'PV Data'!$H$10,0,SUMIFS('PV Data'!D:D,'PV Data'!A:A,MONTH(Conversions!A1942),'PV Data'!B:B,DAY(Conversions!A1942),'PV Data'!C:C,HOUR(Conversions!A1942))/1000)","v":0},null,3,22,20]
[{"$f":"A1942+TIME(0,15,0)","v":"1900-01-21T05:15:00"},{"$f":"B1942","v":0},null,3,22,21]
[{"$f":"A1943+TIME(0,15,0)","v":"1900-01-21T05:30:00"},{"$f":"B1942","v":0},null,3,22,22]
[{"$f":"A1944+TIME(0,15,0)","v":"1900-01-21T05:45:00"},{"$f":"B1942","v":0},null,3,22,23]
[{"$f":"DATE($C$488,$D$488,$E$488) + TIME($F$488,0,0)","v":"1900-01-21T06:00:00"},{"$f":"IF(A1946<'PV Data'!$H$10,0,SUMIFS('PV Data'!D:D,'PV Data'!A:A,MONTH(Conversions!A1946),'PV Data'!B:B,DAY(Conversions!A1946),'PV Data'!C:C,HOUR(Conversions!A1946))/1000)","v":0},null,3,23,0]
[{"$f":"A1946+TIME(0,15,0)","v":"1900-01-21T06:15:00"},{"$f":"B1946","v":0},null,3,23,1]
[{"$f":"A1947+TIME(0,15,0)","v":"1900-01-21T06:30:00"},{"$f":"B1946","v":0},null,3,23,2]
[{"$f":"A1948+TIME(0,15,0)","v":"1900-01-21T06:45:00"},{"$f":"B1946","v":0},null,3,23,3]
[{"$f":"DATE($C$489,$D$489,$E$489) + TIME($F$489,0,0)","v":"1900-01-21T07:00:00"},{"$f":"IF(A1950<'PV Data'!$H$10,0,SUMIFS('PV Data'!D:D,'PV Data'!A:A,MONTH(Conversions!A1950),'PV Data'!B:B,DAY(Conversions!A1950),'PV Data'!C:C,HOUR(Conversions!A1950))/1000)","v":0},null,3,23,4]
[{"$f":"A1950+TIME(0,15,0)","v":"1900-01-21T07:15:00"},{"$f":"B1950","v":0},null,3,23,5]
[{"$f":"A1951+TIME(0,15,0)","v":"1900-01-21T07:30:00"},{"$f":"B1950","v":0},null,3,23,6]
[{"$f":"A1952+TIME(0,15,0)","v":"1900-01-21T07:45:00"},{"$f":"B1950","v":0},null,3,23,7]
[{"$f":"DATE($C$490,$D$490,$E$490) + TIME($F$490,0,0)","v":"1900-01-21T08:00:00"},{"$f":"IF(A1954<'PV Data'!$H$10,0,SUMIFS('PV Data'!D:D,'PV Data'!A:A,MONTH(Conversions!A1954),'PV Data'!B:B,DAY(Conversions!A1954),'PV Data'!C:C,HOUR(Conversions!A1954))/1000)","v":0},null,3,23,8]
[{"$f":"A1954+TIME(0,15,0)","v":"1900-01-21T08:15:00"},{"$f":"B1954","v":0},null,3,23,9]
[{"$f":"A1955+TIME(0,15,0)","v":"1900-01-21T08:30:00"},{"$f":"B1954","v":0},null,3,23,10]
[{"$f":"A1956+TIME(0,15,0)","v":"1900-01-21T08:45:00"},{"$f":"B1954","v":0},null,3,23,11]
[{"$f":"DATE($C$491,$D$491,$E$491) + TIME($F$491,0,0)","v":"1900-01-21T09:00:00"},{"$f":"IF(A1958<'PV Data'!$H$10,0,SUMIFS('PV Data'!D:D,'PV Data'!A:A,MONTH(Conversions!A1958),'PV Data'!B:B,DAY(Conversions!A1958),'PV Data'!C:C,HOUR(Conversions!A1958))/1000)","v":0},null,3,23,12]
[{"$f":"A1958+TIME(0,15,0)","v":"1900-01-21T09:15:00"},{"$f":"B1958","v":0},null,3,23,13]
[{"$f":"A1959+TIME(0,15,0)","v":"1900-01-21T09:30:00"},{"$f":"B1958","v":0},null,3,23,14]
[{"$f":"A1960+TIME(0,15,0)","v":"1900-01-21T09:45:00"},{"$f":"B1958","v":0},null,3,23,15]
[{"$f":"DATE($C$492,$D$492,$E$492) + TIME($F$492,0,0)","v":"1900-01-21T10:00:00"},{"$f":"IF(A1962<'PV Data'!$H$10,0,SUMIFS('PV Data'!D:D,'PV Data'!A:A,MONTH(Conversions!A1962),'PV Data'!B:B,DAY(Conversions!A1962),'PV Data'!C:C,HOUR(Conversions!A1962))/1000)","v":0},null,3,23,16]
[{"$f":"A1962+TIME(0,15,0)","v":"1900-01-21T10:15:00"},{"$f":"B1962","v":0},null,3,23,17]
[{"$f":"A1963+TIME(0,15,0)","v":"1900-01-21T10:30:00"},{"$f":"B1962","v":0},null,3,23,18]
[{"$f":"A1964+TIME(0,15,0)","v":"1900-01-21T10:45:00"},{"$f":"B1962","v":0},null,3,23,19]
[{"$f":"DATE($C$493,$D$493,$E$493) + TIME($F$493,0,0)","v":"1900-01-21T11:00:00"},{"$f":"IF(A1966<'PV Data'!$H$10,0,SUMIFS('PV Data'!D:D,'PV Data'!A:A,MONTH(Conversions!A1966),'PV Data'!B:B,DAY(Conversions!A1966),'PV Data'!C:C,HOUR(Conversions!A1966))/1000)","v":0},null,3,23,20]
[{"$f":"A1966+TIME(0,15,0)","v":"1900-01-21T11:15:00"},{"$f":"B1966","v":0},null,3,23,21]
[{"$f":"A1967+TIME(0,15,0)","v":"1900-01-21T11:30:00"},{"$f":"B1966","v":0},null,3,23,22]
[{"$f":"A1968+TIME(0,15,0)","v":"1900-01-21T11:45:00"},{"$f":"B1966","v":0},null,3,23,23]
[{"$f":"DATE($C$494,$D$494,$E$494) + TIME($F$494,0,0)","v":"1900-01-21T12:00:00"},{"$f":"IF(A1970<'PV Data'!$H$10,0,SUMIFS('PV Data'!D:D,'PV Data'!A:A,MONTH(Conversions!A1970),'PV Data'!B:B,DAY(Conversions!A1970),'PV Data'!C:C,HOUR(Conversions!A1970))/1000)","v":0},null,3,24,0]
[{"$f":"A1970+TIME(0,15,0)","v":"1900-01-21T12:15:00"},{"$f":"B1970","v":0},null,3,24,1]
[{"$f":"A1971+TIME(0,15,0)","v":"1900-01-21T12:30:00"},{"$f":"B1970","v":0},null,3,24,2]
[{"$f":"A1972+TIME(0,15,0)","v":"1900-01-21T12:45:00"},{"$f":"B1970","v":0},null,3,24,3]
[{"$f":"DATE($C$495,$D$495,$E$495) + TIME($F$495,0,0)","v":"1900-01-21T13:00:00"},{"$f":"IF(A1974<'PV Data'!$H$10,0,SUMIFS('PV Data'!D:D,'PV Data'!A:A,MONTH(Conversions!A1974),'PV Data'!B:B,DAY(Conversions!A1974),'PV Data'!C:C,HOUR(Conversions!A1974))/1000)","v":0},null,3,24,4]
[{"$f":"A1974+TIME(0,15,0)","v":"1900-01-21T13:15:00"},{"$f":"B1974","v":0},null,3,24,5]
[{"$f":"A1975+TIME(0,15,0)","v":"1900-01-21T13:30:00"},{"$f":"B1974","v":0},null,3,24,6]
[{"$f":"A1976+TIME(0,15,0)","v":"1900-01-21T13:45:00"},{"$f":"B1974","v":0},null,3,24,7]
[{"$f":"DATE($C$496,$D$496,$E$496) + TIME($F$496,0,0)","v":"1900-01-21T14:00:00"},{"$f":"IF(A1978<'PV Data'!$H$10,0,SUMIFS('PV Data'!D:D,'PV Data'!A:A,MONTH(Conversions!A1978),'PV Data'!B:B,DAY(Conversions!A1978),'PV Data'!C:C,HOUR(Conversions!A1978))/1000)","v":0},null,3,24,8]
[{"$f":"A1978+TIME(0,15,0)","v":"1900-01-21T14:15:00"},{"$f":"B1978","v":0},null,3,24,9]
[{"$f":"A1979+TIME(0,15,0)","v":"1900-01-21T14:30:00"},{"$f":"B1978","v":0},null,3,24,10]
[{"$f":"A1980+TIME(0,15,0)","v":"1900-01-21T14:45:00"},{"$f":"B1978","v":0},null,3,24,11]
[{"$f":"DATE($C$497,$D$497,$E$497) + TIME($F$497,0,0)","v":"1900-01-21T15:00:00"},{"$f":"IF(A1982<'PV Data'!$H$10,0,SUMIFS('PV Data'!D:D,'PV Data'!A:A,MONTH(Conversions!A1982),'PV Data'!B:B,DAY(Conversions!A1982),'PV Data'!C:C,HOUR(Conversions!A1982))/1000)","v":0},null,3,24,12]
[{"$f":"A1982+TIME(0,15,0)","v":"1900-01-21T15:15:00"},{"$f":"B1982","v":0},null,3,24,13]
[{"$f":"A1983+TIME(0,15,0)","v":"1900-01-21T15:30:00"},{"$f":"B1982","v":0},null,3,24,14]
[{"$f":"A1984+TIME(0,15,0)","v":"1900-01-21T15:45:00"},{"$f":"B1982","v":0},null,3,24,15]
[{"$f":"DATE($C$498,$D$498,$E$498) + TIME($F$498,0,0)","v":"1900-01-21T16:00:00"},{"$f":"IF(A1986<'PV Data'!$H$10,0,SUMIFS('PV Data'!D:D,'PV Data'!A:A,MONTH(Conversions!A1986),'PV Data'!B:B,DAY(Conversions!A1986),'PV Data'!C:C,HOUR(Conversions!A1986))/1000)","v":0},null,3,24,16]
[{"$f":"A1986+TIME(0,15,0)","v":"1900-01-21T16:15:00"},{"$f":"B1986","v":0},null,3,24,17]
[{"$f":"A1987+TIME(0,15,0)","v":"1900-01-21T16:30:00"},{"$f":"B1986","v":0},null,3,24,18]
[{"$f":"A1988+TIME(0,15,0)","v":"1900-01-21T16:45:00"},{"$f":"B1986","v":0},null,3,24,19]
[{"$f":"DATE($C$499,$D$499,$E$499) + TIME($F$499,0,0)","v":"1900-01-21T17:00:00"},{"$f":"IF(A1990<'PV Data'!$H$10,0,SUMIFS('PV Data'!D:D,'PV Data'!A:A,MONTH(Conversions!A1990),'PV Data'!B:B,DAY(Conversions!A1990),'PV Data'!C:C,HOUR(Conversions!A1990))/1000)","v":0},null,3,24,20]
[{"$f":"A1990+TIME(0,15,0)","v":"1900-01-21T17:15:00"},{"$f":"B1990","v":0},null,3,24,21]
[{"$f":"A1991+TIME(0,15,0)","v":"1900-01-21T17:30:00"},{"$f":"B1990","v":0},null,3,24,22]
[{"$f":"A1992+TIME(0,15,0)","v":"1900-01-21T17:45:00"},{"$f":"B1990","v":0},null,3,24,23]
[{"$f":"DATE($C$500,$D$500,$E$500) + TIME($F$500,0,0)","v":"1900-01-21T18:00:00"},{"$f":"IF(A1994<'PV Data'!$H$10,0,SUMIFS('PV Data'!D:D,'PV Data'!A:A,MONTH(Conversions!A1994),'PV Data'!B:B,DAY(Conversions!A1994),'PV Data'!C:C,HOUR(Conversions!A1994))/1000)","v":0},null,3,25,0]
[{"$f":"A1994+TIME(0,15,0)","v":"1900-01-21T18:15:00"},{"$f":"B1994","v":0},null,3,25,1]
[{"$f":"A1995+TIME(0,15,0)","v":"1900-01-21T18:30:00"},{"$f":"B1994","v":0},null,3,25,2]
[{"$f":"A1996+TIME(0,15,0)","v":"1900-01-21T18:45:00"},{"$f":"B1994","v":0},null,3,25,3]
[{"$f":"DATE($C$501,$D$501,$E$501) + TIME($F$501,0,0)","v":"1900-01-21T19:00:00"},{"$f":"IF(A1998<'PV Data'!$H$10,0,SUMIFS('PV Data'!D:D,'PV Data'!A:A,MONTH(Conversions!A1998),'PV Data'!B:B,DAY(Conversions!A1998),'PV Data'!C:C,HOUR(Conversions!A1998))/1000)","v":0},null,3,25,4]
[{"$f":"A1998+TIME(0,15,0)","v":"1900-01-21T19:15:00"},{"$f":"B1998","v":0},null,3,25,5]
[{"$f":"A1999+TIME(0,15,0)","v":"1900-01-21T19:30:00"},{"$f":"B1998","v":0},null,3,25,6]
[{"$f":"DATE($C$504,$D$504,$E$504) + TIME($F$504,0,0)","v":"1900-01-21T22:00:00"},{"$f":"IF(A2010<'PV Data'!$H$10,0,SUMIFS('PV Data'!D:D,'PV Data'!A:A,MONTH(Conversions!A2010),'PV Data'!B:B,DAY(Conversions!A2010),'PV Data'!C:C,HOUR(Conversions!A2010))/1000)","v":0},null,3,25,16]
[{"$f":"A2026+TIME(0,15,0)","v":"1900-01-22T02:15:00"},{"$f":"B2026","v":0},null,3,26,9]
[{"$f":"A2043+TIME(0,15,0)","v":"1900-01-22T06:30:00"},{"$f":"B2042","v":0},null,3,27,2]
[{"$f":"DATE($C$515,$D$515,$E$515) + TIME($F$515,0,0)","v":"1900-01-22T09:00:00"},{"$f":"IF(A2054<'PV Data'!$H$10,0,SUMIFS('PV Data'!D:D,'PV Data'!A:A,MONTH(Conversions!A2054),'PV Data'!B:B,DAY(Conversions!A2054),'PV Data'!C:C,HOUR(Conversions!A2054))/1000)","v":0},null,3,27,12]
[{"$f":"A2078+TIME(0,15,0)","v":"1900-01-22T15:15:00"},{"$f":"B2078","v":0},null,3,28,13]
[{"$f":"A2095+TIME(0,15,0)","v":"1900-01-22T19:30:00"},{"$f":"B2094","v":0},null,3,29,6]
[{"$f":"A2112+TIME(0,15,0)","v":"1900-01-22T23:45:00"},{"$f":"B2110","v":0},null,3,29,23]
[{"$f":"A2119+TIME(0,15,0)","v":"1900-01-23T01:30:00"},{"$f":"B2118","v":0},null,3,30,6]
[{"$f":"A2131+TIME(0,15,0)","v":"1900-01-23T04:30:00"},{"$f":"B2130","v":0},null,3,30,18]
[{"$f":"A2148+TIME(0,15,0)","v":"1900-01-23T08:45:00"},{"$f":"B2146","v":0},null,3,31,11]
[{"$f":"DATE($C$543,$D$543,$E$543) + TIME($F$543,0,0)","v":"1900-01-23T13:00:00"},{"$f":"IF(A2166<'PV Data'!$H$10,0,SUMIFS('PV Data'!D:D,'PV Data'!A:A,MONTH(Conversions!A2166),'PV Data'!B:B,DAY(Conversions!A2166),'PV Data'!C:C,HOUR(Conversions!A2166))/1000)","v":0},null,4,1,4]
[{"$f":"A2186+TIME(0,15,0)","v":"1900-01-23T18:15:00"},{"$f":"B2186","v":0},null,4,2,1]
[{"$f":"A2200+TIME(0,15,0)","v":"1900-01-23T21:45:00"},{"$f":"B2198","v":0},null,4,2,15]
[{"$f":"DATE($C$556,$D$556,$E$556) + TIME($F$556,0,0)","v":"1900-01-24T02:00:00"},{"$f":"IF(A2218<'PV Data'!$H$10,0,SUMIFS('PV Data'!D:D,'PV Data'!A:A,MONTH(Conversions!A2218),'PV Data'!B:B,DAY(Conversions!A2218),'PV Data'!C:C,HOUR(Conversions!A2218))/1000)","v":0},null,4,3,8]
[{"$f":"A2236+TIME(0,15,0)","v":"1900-01-24T06:45:00"},{"$f":"B2234","v":0},null,4,4,3]
[{"$f":"A2252+TIME(0,15,0)","v":"1900-01-24T10:45:00"},{"$f":"B2250","v":0},null,4,4,19]
[{"$f":"DATE($C$569,$D$569,$E$569) + TIME($F$569,0,0)","v":"1900-01-24T15:00:00"},{"$f":"IF(A2270<'PV Data'!$H$10,0,SUMIFS('PV Data'!D:D,'PV Data'!A:A,MONTH(Conversions!A2270),'PV Data'!B:B,DAY(Conversions!A2270),'PV Data'!C:C,HOUR(Conversions!A2270))/1000)","v":0},null,4,5,12]
[{"$f":"A2286+TIME(0,15,0)","v":"1900-01-24T19:15:00"},{"$f":"B2286","v":0},null,4,6,5]
[{"$f":"A2302+TIME(0,15,0)","v":"1900-01-24T23:15:00"},{"$f":"B2302","v":0},null,4,6,21]
[{"$f":"DATE($C$582,$D$582,$E$582) + TIME($F$582,0,0)","v":"1900-01-25T04:00:00"},{"$f":"IF(A2322<'PV Data'!$H$10,0,SUMIFS('PV Data'!D:D,'PV Data'!A:A,MONTH(Conversions!A2322),'PV Data'!B:B,DAY(Conversions!A2322),'PV Data'!C:C,HOUR(Conversions!A2322))/1000)","v":0},null,4,7,16]
[{"$f":"A2338+TIME(0,15,0)","v":"1900-01-25T08:15:00"},{"$f":"B2338","v":0},null,4,8,9]
[{"$f":"A2355+TIME(0,15,0)","v":"1900-01-25T12:30:00"},{"$f":"B2354","v":0},null,4,9,2]
[{"$f":"DATE($C$594,$D$594,$E$594) + TIME($F$594,0,0)","v":"1900-01-25T16:00:00"},{"$f":"IF(A2370<'PV Data'!$H$10,0,SUMIFS('PV Data'!D:D,'PV Data'!A:A,MONTH(Conversions!A2370),'PV Data'!B:B,DAY(Conversions!A2370),'PV Data'!C:C,HOUR(Conversions!A2370))/1000)","v":0},null,4,9,16]
[{"$f":"A2374+TIME(0,15,0)","v":"1900-01-25T17:15:00"},{"$f":"B2374","v":0},null,4,9,21]
[{"$f":"A2391+TIME(0,15,0)","v":"1900-01-25T21:30:00"},{"$f":"B2390","v":0},null,4,10,14]
[{"$f":"A2419+TIME(0,15,0)","v":"1900-01-26T04:30:00"},{"$f":"B2418","v":0},null,4,11,18]
[{"$f":"A2426+TIME(0,15,0)","v":"1900-01-26T06:15:00"},{"$f":"B2426","v":0},null,4,12,1]
[{"$f":"A2443+TIME(0,15,0)","v":"1900-01-26T10:30:00"},{"$f":"B2442","v":0},null,4,12,18]
[{"$f":"A2460+TIME(0,15,0)","v":"1900-01-26T14:45:00"},{"$f":"B2458","v":0},null,4,13,11]
[{"$f":"A2486+TIME(0,15,0)","v":"1900-01-26T21:15:00"},{"$f":"B2486","v":0},null,4,14,13]
[{"$f":"A2495+TIME(0,15,0)","v":"1900-01-26T23:30:00"},{"$f":"B2494","v":0},null,4,14,22]
[{"$f":"A2512+TIME(0,15,0)","v":"1900-01-27T03:45:00"},{"$f":"B2510","v":0},null,4,15,15]
[{"$f":"DATE($C$634,$D$634,$E$634) + TIME($F$634,0,0)","v":"1900-01-27T08:00:00"},{"$f":"IF(A2530<'PV Data'!$H$10,0,SUMIFS('PV Data'!D:D,'PV Data'!A:A,MONTH(Conversions!A2530),'PV Data'!B:B,DAY(Conversions!A2530),'PV Data'!C:C,HOUR(Conversions!A2530))/1000)","v":0},null,4,16,8]
[{"$f":"A2552+TIME(0,15,0)","v":"1900-01-27T13:45:00"},{"$f":"B2550","v":0},null,4,17,7]
[{"$f":"A2564+TIME(0,15,0)","v":"1900-01-27T16:45:00"},{"$f":"B2562","v":0},null,4,17,19]
[{"$f":"DATE($C$647,$D$647,$E$647) + TIME($F$647,0,0)","v":"1900-01-27T21:00:00"},{"$f":"IF(A2582<'PV Data'!$H$10,0,SUMIFS('PV Data'!D:D,'PV Data'!A:A,MONTH(Conversions!A2582),'PV Data'!B:B,DAY(Conversions!A2582),'PV Data'!C:C,HOUR(Conversions!A2582))/1000)","v":0},null,4,18,12]
[{"$f":"DATE($C$648,$D$648,$E$648) + TIME($F$648,0,0)","v":"1900-01-27T22:00:00"},{"$f":"IF(A2586<'PV Data'!$H$10,0,SUMIFS('PV Data'!D:D,'PV Data'!A:A,MONTH(Conversions!A2586),'PV Data'!B:B,DAY(Conversions!A2586),'PV Data'!C:C,HOUR(Conversions!A2586))/1000)","v":0},null,4,18,16]
[{"$f":"A2616+TIME(0,15,0)","v":"1900-01-28T05:45:00"},{"$f":"B2614","v":0},null,4,19,23]
[{"$f":"DATE($C$660,$D$660,$E$660) + TIME($F$660,0,0)","v":"1900-01-28T10:00:00"},{"$f":"IF(A2634<'PV Data'!$H$10,0,SUMIFS('PV Data'!D:D,'PV Data'!A:A,MONTH(Conversions!A2634),'PV Data'!B:B,DAY(Conversions!A2634),'PV Data'!C:C,HOUR(Conversions!A2634))/1000)","v":0},null,4,20,16]
[{"$f":"A2634+TIME(0,15,0)","v":"1900-01-28T10:15:00"},{"$f":"B2634","v":0},null,4,20,17]
[{"$f":"A2652+TIME(0,15,0)","v":"1900-01-28T14:45:00"},{"$f":"B2650","v":0},null,4,21,11]
[{"$f":"DATE($C$669,$D$669,$E$669) + TIME($F$669,0,0)","v":"1900-01-28T19:00:00"},{"$f":"IF(A2670<'PV Data'!$H$10,0,SUMIFS('PV Data'!D:D,'PV Data'!A:A,MONTH(Conversions!A2670),'PV Data'!B:B,DAY(Conversions!A2670),'PV Data'!C:C,HOUR(Conversions!A2670))/1000)","v":0},null,4,22,4]
[{"$f":"A2686+TIME(0,15,0)","v":"1900-01-28T23:15:00"},{"$f":"B2686","v":0},null,4,22,21]
[{"$f":"A2703+TIME(0,15,0)","v":"1900-01-29T03:30:00"},{"$f":"B2702","v":0},null,4,23,14]
[{"$f":"A2718+TIME(0,15,0)","v":"1900-01-29T07:15:00"},{"$f":"B2718","v":0},null,4,24,5]
[{"$f":"A2738+TIME(0,15,0)","v":"1900-01-29T12:15:00"},{"$f":"B2738","v":0},null,4,25,1]
[{"$f":"A2755+TIME(0,15,0)","v":"1900-01-29T16:30:00"},{"$f":"B2754","v":0},null,4,25,18]
[{"$f":"A2772+TIME(0,15,0)","v":"1900-01-29T20:45:00"},{"$f":"B2770","v":0},null,4,26,11]
[{"$f":"DATE($C$698,$D$698,$E$698) + TIME($F$698,0,0)","v":"1900-01-30"},{"$f":"IF(A2786<'PV Data'!$H$10,0,SUMIFS('PV Data'!D:D,'PV Data'!A:A,MONTH(Conversions!A2786),'PV Data'!B:B,DAY(Conversions!A2786),'PV Data'!C:C,HOUR(Conversions!A2786))/1000)","v":0},null,4,27,0]
[{"$f":"A2807+TIME(0,15,0)","v":"1900-01-30T05:30:00"},{"$f":"B2806","v":0},null,4,27,22]
[{"$f":"A2824+TIME(0,15,0)","v":"1900-01-30T09:45:00"},{"$f":"B2822","v":0},null,4,28,15]
[{"$f":"A2835+TIME(0,15,0)","v":"1900-01-30T12:30:00"},{"$f":"B2834","v":0},null,4,29,2]
[{"$f":"A2859+TIME(0,15,0)","v":"1900-01-30T18:30:00"},{"$f":"B2858","v":0},null,4,30,2]
[{"$f":"A2876+TIME(0,15,0)","v":"1900-01-30T22:45:00"},{"$f":"B2874","v":0},null,4,30,19]
[{"$f":"DATE($C$725,$D$725,$E$725) + TIME($F$725,0,0)","v":"1900-01-31T03:00:00"},{"$f":"IF(A2894<'PV Data'!$H$10,0,SUMIFS('PV Data'!D:D,'PV Data'!A:A,MONTH(Conversions!A2894),'PV Data'!B:B,DAY(Conversions!A2894),'PV Data'!C:C,HOUR(Conversions!A2894))/1000)","v":0},null,5,1,12]
[{"$f":"A2902+TIME(0,15,0)","v":"1900-01-31T05:15:00"},{"$f":"B2902","v":0},null,5,1,21]
[{"$f":"A2912+TIME(0,15,0)","v":"1900-01-31T07:45:00"},{"$f":"B2910","v":0},null,5,2,7]
[{"$f":"DATE($C$734,$D$734,$E$734) + TIME($F$734,0,0)","v":"1900-01-31T12:00:00"},{"$f":"IF(A2930<'PV Data'!$H$10,0,SUMIFS('PV Data'!D:D,'PV Data'!A:A,MONTH(Conversions!A2930),'PV Data'!B:B,DAY(Conversions!A2930),'PV Data'!C:C,HOUR(Conversions!A2930))/1000)","v":0},null,5,3,0]
[{"$f":"A2946+TIME(0,15,0)","v":"1900-01-31T16:15:00"},{"$f":"B2946","v":0},null,5,3,17]
[{"$f":"A2968+TIME(0,15,0)","v":"1900-01-31T21:45:00"},{"$f":"B2966","v":0},null,5,4,15]
[{"$f":"DATE($C$747,$D$747,$E$747) + TIME($F$747,0,0)","v":"1900-02-01T01:00:00"},{"$f":"IF(A2982<'PV Data'!$H$10,0,SUMIFS('PV Data'!D:D,'PV Data'!A:A,MONTH(Conversions!A2982),'PV Data'!B:B,DAY(Conversions!A2982),'PV Data'!C:C,HOUR(Conversions!A2982))/1000)","v":0},null,5,5,4]
[{"$f":"A2998+TIME(0,15,0)","v":"1900-02-01T05:15:00"},{"$f":"B2998","v":0},null,5,5,21]
[{"$f":"A3018+TIME(0,15,0)","v":"1900-02-01T10:15:00"},{"$f":"B3018","v":0},null,5,6,17]
[{"$f":"DATE($C$760,$D$760,$E$760) + TIME($F$760,0,0)","v":"1900-02-01T14:00:00"},{"$f":"IF(A3034<'PV Data'!$H$10,0,SUMIFS('PV Data'!D:D,'PV Data'!A:A,MONTH(Conversions!A3034),'PV Data'!B:B,DAY(Conversions!A3034),'PV Data'!C:C,HOUR(Conversions!A3034))/1000)","v":0},null,5,7,8]
[{"$f":"A3050+TIME(0,15,0)","v":"1900-02-01T18:15:00"},{"$f":"B3050","v":0},null,5,8,1]
[{"$f":"A3067+TIME(0,15,0)","v":"1900-02-01T22:30:00"},{"$f":"B3066","v":0},null,5,8,18]
[{"$f":"DATE($C$773,$D$773,$E$773) + TIME($F$773,0,0)","v":"1900-02-02T03:00:00"},{"$f":"IF(A3086<'PV Data'!$H$10,0,SUMIFS('PV Data'!D:D,'PV Data'!A:A,MONTH(Conversions!A3086),'PV Data'!B:B,DAY(Conversions!A3086),'PV Data'!C:C,HOUR(Conversions!A3086))/1000)","v":0},null,5,9,12]
[{"$f":"A3102+TIME(0,15,0)","v":"1900-02-02T07:15:00"},{"$f":"B3102","v":0},null,5,10,5]
[{"$f":"A3119+TIME(0,15,0)","v":"1900-02-02T11:30:00"},{"$f":"B3118","v":0},null,5,10,22]
[{"$f":"A3136+TIME(0,15,0)","v":"1900-02-02T15:45:00"},{"$f":"B3134","v":0},null,5,11,15]
[{"$f":"A3151+TIME(0,15,0)","v":"1900-02-02T19:30:00"},{"$f":"B3150","v":0},null,5,12,6]
[{"$f":"A3155+TIME(0,15,0)","v":"1900-02-02T20:30:00"},{"$f":"B3154","v":0},null,5,12,10]
[{"$f":"A3172+TIME(0,15,0)","v":"1900-02-03T00:45:00"},{"$f":"B3170","v":0},null,5,13,3]
[{"$f":"DATE($C$802,$D$802,$E$802) + TIME($F$802,0,0)","v":"1900-02-03T08:00:00"},{"$f":"IF(A3202<'PV Data'!$H$10,0,SUMIFS('PV Data'!D:D,'PV Data'!A:A,MONTH(Conversions!A3202),'PV Data'!B:B,DAY(Conversions!A3202),'PV Data'!C:C,HOUR(Conversions!A3202))/1000)","v":0},null,5,14,8]
[{"$f":"A3207+TIME(0,15,0)","v":"1900-02-03T09:30:00"},{"$f":"B3206","v":0},null,5,14,14]
[{"$f":"A3224+TIME(0,15,0)","v":"1900-02-03T13:45:00"},{"$f":"B3222","v":0},null,5,15,7]
[{"$f":"DATE($C$812,$D$812,$E$812) + TIME($F$812,0,0)","v":"1900-02-03T18:00:00"},{"$f":"IF(A3242<'PV Data'!$H$10,0,SUMIFS('PV Data'!D:D,'PV Data'!A:A,MONTH(Conversions!A3242),'PV Data'!B:B,DAY(Conversions!A3242),'PV Data'!C:C,HOUR(Conversions!A3242))/1000)","v":0},null,5,16,0]
[{"$f":"A3268+TIME(0,15,0)","v":"1900-02-04T00:45:00"},{"$f":"B3266","v":0},null,5,17,3]
[{"$f":"A3276+TIME(0,15,0)","v":"1900-02-04T02:45:00"},{"$f":"B3274","v":0},null,5,17,11]
[{"$f":"DATE($C$825,$D$825,$E$825) + TIME($F$825,0,0)","v":"1900-02-04T07:00:00"},{"$f":"IF(A3294<'PV Data'!$H$10,0,SUMIFS('PV Data'!D:D,'PV Data'!A:A,MONTH(Conversions!A3294),'PV Data'!B:B,DAY(Conversions!A3294),'PV Data'!C:C,HOUR(Conversions!A3294))/1000)","v":0},null,5,18,4]
[{"$f":"A3310+TIME(0,15,0)","v":"1900-02-04T11:15:00"},{"$f":"B3310","v":0},null,5,18,21]
[{"$f":"DATE($C$831,$D$831,$E$831) + TIME($F$831,0,0)","v":"1900-02-04T13:00:00"},{"$f":"IF(A3318<'PV Data'!$H$10,0,SUMIFS('PV Data'!D:D,'PV Data'!A:A,MONTH(Conversions!A3318),'PV Data'!B:B,DAY(Conversions!A3318),'PV Data'!C:C,HOUR(Conversions!A3318))/1000)","v":0},null,5,19,4]
[{"$f":"DATE($C$838,$D$838,$E$838) + TIME($F$838,0,0)","v":"1900-02-04T20:00:00"},{"$f":"IF(A3346<'PV Data'!$H$10,0,SUMIFS('PV Data'!D:D,'PV Data'!A:A,MONTH(Conversions!A3346),'PV Data'!B:B,DAY(Conversions!A3346),'PV Data'!C:C,HOUR(Conversions!A3346))/1000)","v":0},null,5,20,8]
[{"$f":"A3362+TIME(0,15,0)","v":"1900-02-05T00:15:00"},{"$f":"B3362","v":0},null,5,21,1]
[{"$f":"A3379+TIME(0,15,0)","v":"1900-02-05T04:30:00"},{"$f":"B3378","v":0},null,5,21,18]
[{"$f":"A3384+TIME(0,15,0)","v":"1900-02-05T05:45:00"},{"$f":"B3382","v":0},null,5,21,23]
[{"$f":"A3414+TIME(0,15,0)","v":"1900-02-05T13:15:00"},{"$f":"B3414","v":0},null,5,23,5]
[{"$f":"A3415+TIME(0,15,0)","v":"1900-02-05T13:30:00"},{"$f":"B3414","v":0},null,5,23,6]
[{"$f":"A3434+TIME(0,15,0)","v":"1900-02-05T18:15:00"},{"$f":"B3434","v":0},null,5,24,1]
[{"$f":"A3450+TIME(0,15,0)","v":"1900-02-05T22:15:00"},{"$f":"B3450","v":0},null,5,24,17]
[{"$f":"A3467+TIME(0,15,0)","v":"1900-02-06T02:30:00"},{"$f":"B3466","v":0},null,5,25,10]
[{"$f":"A3484+TIME(0,15,0)","v":"1900-02-06T06:45:00"},{"$f":"B3482","v":0},null,5,26,3]
[{"$f":"DATE($C$877,$D$877,$E$877) + TIME($F$877,0,0)","v":"1900-02-06T11:00:00"},{"$f":"IF(A3502<'PV Data'!$H$10,0,SUMIFS('PV Data'!D:D,'PV Data'!A:A,MONTH(Conversions!A3502),'PV Data'!B:B,DAY(Conversions!A3502),'PV Data'!C:C,HOUR(Conversions!A3502))/1000)","v":0},null,5,26,20]
[{"$f":"A3519+TIME(0,15,0)","v":"1900-02-06T15:30:00"},{"$f":"B3518","v":0},null,5,27,14]
[{"$f":"A3536+TIME(0,15,0)","v":"1900-02-06T19:45:00"},{"$f":"B3534","v":0},null,5,28,7]
[{"$f":"DATE($C$890,$D$890,$E$890) + TIME($F$890,0,0)","v":"1900-02-07"},{"$f":"IF(A3554<'PV Data'!$H$10,0,SUMIFS('PV Data'!D:D,'PV Data'!A:A,MONTH(Conversions!A3554),'PV Data'!B:B,DAY(Conversions!A3554),'PV Data'!C:C,HOUR(Conversions!A3554))/1000)","v":0},null,5,29,0]
[{"$f":"A3567+TIME(0,15,0)","v":"1900-02-07T03:30:00"},{"$f":"B3566","v":0},null,5,29,14]
[{"$f":"A3588+TIME(0,15,0)","v":"1900-02-07T08:45:00"},{"$f":"B3586","v":0},null,5,30,11]
[{"$f":"DATE($C$903,$D$903,$E$903) + TIME($F$903,0,0)","v":"1900-02-07T13:00:00"},{"$f":"IF(A3606<'PV Data'!$H$10,0,SUMIFS('PV Data'!D:D,'PV Data'!A:A,MONTH(Conversions!A3606),'PV Data'!B:B,DAY(Conversions!A3606),'PV Data'!C:C,HOUR(Conversions!A3606))/1000)","v":0},null,5,31,4]
[{"$f":"DATE($C$906,$D$906,$E$906) + TIME($F$906,0,0)","v":"1900-02-07T16:00:00"},{"$f":"IF(A3618<'PV Data'!$H$10,0,SUMIFS('PV Data'!D:D,'PV Data'!A:A,MONTH(Conversions!A3618),'PV Data'!B:B,DAY(Conversions!A3618),'PV Data'!C:C,HOUR(Conversions!A3618))/1000)","v":0},null,5,31,16]
[{"$f":"A3640+TIME(0,15,0)","v":"1900-02-07T21:45:00"},{"$f":"B3638","v":0},null,6,1,15]
[{"$f":"DATE($C$916,$D$916,$E$916) + TIME($F$916,0,0)","v":"1900-02-08T02:00:00"},{"$f":"IF(A3658<'PV Data'!$H$10,0,SUMIFS('PV Data'!D:D,'PV Data'!A:A,MONTH(Conversions!A3658),'PV Data'!B:B,DAY(Conversions!A3658),'PV Data'!C:C,HOUR(Conversions!A3658))/1000)","v":0},null,6,2,8]
[{"$f":"A3674+TIME(0,15,0)","v":"1900-02-08T06:15:00"},{"$f":"B3674","v":0},null,6,3,1]
[{"$f":"A3684+TIME(0,15,0)","v":"1900-02-08T08:45:00"},{"$f":"B3682","v":0},null,6,3,11]
[{"$f":"DATE($C$925,$D$925,$E$925) + TIME($F$925,0,0)","v":"1900-02-08T11:00:00"},{"$f":"IF(A3694<'PV Data'!$H$10,0,SUMIFS('PV Data'!D:D,'PV Data'!A:A,MONTH(Conversions!A3694),'PV Data'!B:B,DAY(Conversions!A3694),'PV Data'!C:C,HOUR(Conversions!A3694))/1000)","v":0},null,6,3,20]
[{"$f":"A3710+TIME(0,15,0)","v":"1900-02-08T15:15:00"},{"$f":"B3710","v":0},null,6,4,13]
[{"$f":"A3727+TIME(0,15,0)","v":"1900-02-08T19:30:00"},{"$f":"B3726","v":0},null,6,5,6]
[{"$f":"A3750+TIME(0,15,0)","v":"1900-02-09T01:15:00"},{"$f":"B3750","v":0},null,6,6,5]
[{"$f":"A3762+TIME(0,15,0)","v":"1900-02-09T04:15:00"},{"$f":"B3762","v":0},null,6,6,17]
[{"$f":"A3779+TIME(0,15,0)","v":"1900-02-09T08:30:00"},{"$f":"B3778","v":0},null,6,7,10]
[{"$f":"DATE($C$952,$D$952,$E$952) + TIME($F$952,0,0)","v":"1900-02-09T14:00:00"},{"$f":"IF(A3802<'PV Data'!$H$10,0,SUMIFS('PV Data'!D:D,'PV Data'!A:A,MONTH(Conversions!A3802),'PV Data'!B:B,DAY(Conversions!A3802),'PV Data'!C:C,HOUR(Conversions!A3802))/1000)","v":0},null,6,8,8]
[{"$f":"A3814+TIME(0,15,0)","v":"1900-02-09T17:15:00"},{"$f":"B3814","v":0},null,6,8,21]
[{"$f":"A3831+TIME(0,15,0)","v":"1900-02-09T21:30:00"},{"$f":"B3830","v":0},null,6,9,14]
[{"$f":"A3848+TIME(0,15,0)","v":"1900-02-10T01:45:00"},{"$f":"B3846","v":0},null,6,10,7]
[{"$f":"A3867+TIME(0,15,0)","v":"1900-02-10T06:30:00"},{"$f":"B3866","v":0},null,6,11,2]
[{"$f":"A3883+TIME(0,15,0)","v":"1900-02-10T10:30:00"},{"$f":"B3882","v":0},null,6,11,18]
[{"$f":"A3900+TIME(0,15,0)","v":"1900-02-10T14:45:00"},{"$f":"B3898","v":0},null,6,12,11]
[{"$f":"DATE($C$981,$D$981,$E$981) + TIME($F$981,0,0)","v":"1900-02-10T19:00:00"},{"$f":"IF(A3918<'PV Data'!$H$10,0,SUMIFS('PV Data'!D:D,'PV Data'!A:A,MONTH(Conversions!A3918),'PV Data'!B:B,DAY(Conversions!A3918),'PV Data'!C:C,HOUR(Conversions!A3918))/1000)","v":0},null,6,13,4]
[{"$f":"A3934+TIME(0,15,0)","v":"1900-02-10T23:15:00"},{"$f":"B3934","v":0},null,6,13,21]
[{"$f":"A3936+TIME(0,15,0)","v":"1900-02-10T23:45:00"},{"$f":"B3934","v":0},null,6,13,23]
[{"$f":"DATE($C$990,$D$990,$E$990) + TIME($F$990,0,0)","v":"1900-02-11T04:00:00"},{"$f":"IF(A3954<'PV Data'!$H$10,0,SUMIFS('PV Data'!D:D,'PV Data'!A:A,MONTH(Conversions!A3954),'PV Data'!B:B,DAY(Conversions!A3954),'PV Data'!C:C,HOUR(Conversions!A3954))/1000)","v":0},null,6,14,16]
[{"$f":"A3984+TIME(0,15,0)","v":"1900-02-11T11:45:00"},{"$f":"B3982","v":0},null,6,15,23]
[{"$f":"A3988+TIME(0,15,0)","v":"1900-02-11T12:45:00"},{"$f":"B3986","v":0},null,6,16,3]
[{"$f":"DATE($C$1003,$D$1003,$E$1003) + TIME($F$1003,0,0)","v":"1900-02-11T17:00:00"},{"$f":"IF(A4006<'PV Data'!$H$10,0,SUMIFS('PV Data'!D:D,'PV Data'!A:A,MONTH(Conversions!A4006),'PV Data'!B:B,DAY(Conversions!A4006),'PV Data'!C:C,HOUR(Conversions!A4006))/1000)","v":0},null,6,16,20]
[{"$f":"A4022+TIME(0,15,0)","v":"1900-02-11T21:15:00"},{"$f":"B4022","v":0},null,6,17,13]
[{"$f":"DATE($C$1010,$D$1010,$E$1010) + TIME($F$1010,0,0)","v":"1900-02-12"},{"$f":"IF(A4034<'PV Data'!$H$10,0,SUMIFS('PV Data'!D:D,'PV Data'!A:A,MONTH(Conversions!A4034),'PV Data'!B:B,DAY(Conversions!A4034),'PV Data'!C:C,HOUR(Conversions!A4034))/1000)","v":0},null,6,18,0]
[{"$f":"DATE($C$1016,$D$1016,$E$1016) + TIME($F$1016,0,0)","v":"1900-02-12T06:00:00"},{"$f":"IF(A4058<'PV Data'!$H$10,0,SUMIFS('PV Data'!D:D,'PV Data'!A:A,MONTH(Conversions!A4058),'PV Data'!B:B,DAY(Conversions!A4058),'PV Data'!C:C,HOUR(Conversions!A4058))/1000)","v":0},null,6,19,0]
[{"$f":"A4074+TIME(0,15,0)","v":"1900-02-12T10:15:00"},{"$f":"B4074","v":0},null,6,19,17]
[{"$f":"A4091+TIME(0,15,0)","v":"1900-02-12T14:30:00"},{"$f":"B4090","v":0},null,6,20,10]
[{"$f":"A4100+TIME(0,15,0)","v":"1900-02-12T16:45:00"},{"$f":"B4098","v":0},null,6,20,19]
[{"$f":"A4126+TIME(0,15,0)","v":"1900-02-12T23:15:00"},{"$f":"B4126","v":0},null,6,21,21]
[{"$f":"A4143+TIME(0,15,0)","v":"1900-02-13T03:30:00"},{"$f":"B4142","v":0},null,6,22,14]
[{"$f":"A4160+TIME(0,15,0)","v":"1900-02-13T07:45:00"},{"$f":"B4158","v":0},null,6,23,7]
[{"$f":"A4166+TIME(0,15,0)","v":"1900-02-13T09:15:00"},{"$f":"B4166","v":0},null,6,23,13]
[{"$f":"A4195+TIME(0,15,0)","v":"1900-02-13T16:30:00"},{"$f":"B4194","v":0},null,6,24,18]
[{"$f":"A4196+TIME(0,15,0)","v":"1900-02-13T16:45:00"},{"$f":"B4194","v":0},null,6,24,19]
[{"$f":"A4216+TIME(0,15,0)","v":"1900-02-13T21:45:00"},{"$f":"B4214","v":0},null,6,25,15]
[{"$f":"A4231+TIME(0,15,0)","v":"1900-02-14T01:30:00"},{"$f":"B4230","v":0},null,6,26,6]
[{"$f":"A4248+TIME(0,15,0)","v":"1900-02-14T05:45:00"},{"$f":"B4246","v":0},null,6,26,23]
[{"$f":"DATE($C$1068,$D$1068,$E$1068) + TIME($F$1068,0,0)","v":"1900-02-14T10:00:00"},{"$f":"IF(A4266<'PV Data'!$H$10,0,SUMIFS('PV Data'!D:D,'PV Data'!A:A,MONTH(Conversions!A4266),'PV Data'!B:B,DAY(Conversions!A4266),'PV Data'!C:C,HOUR(Conversions!A4266))/1000)","v":0},null,6,27,16]
[{"$f":"A4283+TIME(0,15,0)","v":"1900-02-14T14:30:00"},{"$f":"B4282","v":0},null,6,28,10]
[{"$f":"A4300+TIME(0,15,0)","v":"1900-02-14T18:45:00"},{"$f":"B4298","v":0},null,6,29,3]
[{"$f":"DATE($C$1081,$D$1081,$E$1081) + TIME($F$1081,0,0)","v":"1900-02-14T23:00:00"},{"$f":"IF(A4318<'PV Data'!$H$10,0,SUMIFS('PV Data'!D:D,'PV Data'!A:A,MONTH(Conversions!A4318),'PV Data'!B:B,DAY(Conversions!A4318),'PV Data'!C:C,HOUR(Conversions!A4318))/1000)","v":0},null,6,29,20]
[{"$f":"A4334+TIME(0,15,0)","v":"1900-02-15T03:15:00"},{"$f":"B4334","v":0},null,6,30,13]
[{"$f":"A4350+TIME(0,15,0)","v":"1900-02-15T07:15:00"},{"$f":"B4350","v":0},null,7,1,5]
[{"$f":"DATE($C$1094,$D$1094,$E$1094) + TIME($F$1094,0,0)","v":"1900-02-15T12:00:00"},{"$f":"IF(A4370<'PV Data'!$H$10,0,SUMIFS('PV Data'!D:D,'PV Data'!A:A,MONTH(Conversions!A4370),'PV Data'!B:B,DAY(Conversions!A4370),'PV Data'!C:C,HOUR(Conversions!A4370))/1000)","v":0},null,7,2,0]
[{"$f":"A4386+TIME(0,15,0)","v":"1900-02-15T16:15:00"},{"$f":"B4386","v":0},null,7,2,17]
[{"$f":"A4400+TIME(0,15,0)","v":"1900-02-15T19:45:00"},{"$f":"B4398","v":0},null,7,3,7]
[{"$f":"DATE($C$1107,$D$1107,$E$1107) + TIME($F$1107,0,0)","v":"1900-02-16T01:00:00"},{"$f":"IF(A4422<'PV Data'!$H$10,0,SUMIFS('PV Data'!D:D,'PV Data'!A:A,MONTH(Conversions!A4422),'PV Data'!B:B,DAY(Conversions!A4422),'PV Data'!C:C,HOUR(Conversions!A4422))/1000)","v":0},null,7,4,4]
[{"$f":"A4438+TIME(0,15,0)","v":"1900-02-16T05:15:00"},{"$f":"B4438","v":0},null,7,4,21]
[{"$f":"A4455+TIME(0,15,0)","v":"1900-02-16T09:30:00"},{"$f":"B4454","v":0},null,7,5,14]
[{"$f":"A4466+TIME(0,15,0)","v":"1900-02-16T12:15:00"},{"$f":"B4466","v":0},null,7,6,1]
[{"$f":"A4474+TIME(0,15,0)","v":"1900-02-16T14:15:00"},{"$f":"B4474","v":0},null,7,6,9]
[{"$f":"A4491+TIME(0,15,0)","v":"1900-02-16T18:30:00"},{"$f":"B4490","v":0},null,7,7,2]
[{"$f":"A4508+TIME(0,15,0)","v":"1900-02-16T22:45:00"},{"$f":"B4506","v":0},null,7,7,19]
[{"$f":"DATE($C$1135,$D$1135,$E$1135) + TIME($F$1135,0,0)","v":"1900-02-17T05:00:00"},{"$f":"IF(A4534<'PV Data'!$H$10,0,SUMIFS('PV Data'!D:D,'PV Data'!A:A,MONTH(Conversions!A4534),'PV Data'!B:B,DAY(Conversions!A4534),'PV Data'!C:C,HOUR(Conversions!A4534))/1000)","v":0},null,7,8,20]
[{"$f":"A4543+TIME(0,15,0)","v":"1900-02-17T07:30:00"},{"$f":"B4542","v":0},null,7,9,6]
[{"$f":"A4560+TIME(0,15,0)","v":"1900-02-17T11:45:00"},{"$f":"B4558","v":0},null,7,9,23]
[{"$f":"A4583+TIME(0,15,0)","v":"1900-02-17T17:30:00"},{"$f":"B4582","v":0},null,7,10,22]
[{"$f":"A4595+TIME(0,15,0)","v":"1900-02-17T20:30:00"},{"$f":"B4594","v":0},null,7,11,10]
[{"$f":"A4612+TIME(0,15,0)","v":"1900-02-18T00:45:00"},{"$f":"B4610","v":0},null,7,12,3]
[{"$f":"DATE($C$1159,$D$1159,$E$1159) + TIME($F$1159,0,0)","v":"1900-02-18T05:00:00"},{"$f":"IF(A4630<'PV Data'!$H$10,0,SUMIFS('PV Data'!D:D,'PV Data'!A:A,MONTH(Conversions!A4630),'PV Data'!B:B,DAY(Conversions!A4630),'PV Data'!C:C,HOUR(Conversions!A4630))/1000)","v":0},null,7,12,20]
[{"$f":"DATE($C$1164,$D$1164,$E$1164) + TIME($F$1164,0,0)","v":"1900-02-18T10:00:00"},{"$f":"IF(A4650<'PV Data'!$H$10,0,SUMIFS('PV Data'!D:D,'PV Data'!A:A,MONTH(Conversions!A4650),'PV Data'!B:B,DAY(Conversions!A4650),'PV Data'!C:C,HOUR(Conversions!A4650))/1000)","v":0},null,7,13,16]
[{"$f":"A4664+TIME(0,15,0)","v":"1900-02-18T13:45:00"},{"$f":"B4662","v":0},null,7,14,7]
[{"$f":"DATE($C$1172,$D$1172,$E$1172) + TIME($F$1172,0,0)","v":"1900-02-18T18:00:00"},{"$f":"IF(A4682<'PV Data'!$H$10,0,SUMIFS('PV Data'!D:D,'PV Data'!A:A,MONTH(Conversions!A4682),'PV Data'!B:B,DAY(Conversions!A4682),'PV Data'!C:C,HOUR(Conversions!A4682))/1000)","v":0},null,7,15,0]
[{"$f":"A4698+TIME(0,15,0)","v":"1900-02-18T22:15:00"},{"$f":"B4698","v":0},null,7,15,17]
[{"$f":"A4716+TIME(0,15,0)","v":"1900-02-19T02:45:00"},{"$f":"B4714","v":0},null,7,16,11]
[{"$f":"DATE($C$1181,$D$1181,$E$1181) + TIME($F$1181,0,0)","v":"1900-02-19T03:00:00"},{"$f":"IF(A4718<'PV Data'!$H$10,0,SUMIFS('PV Data'!D:D,'PV Data'!A:A,MONTH(Conversions!A4718),'PV Data'!B:B,DAY(Conversions!A4718),'PV Data'!C:C,HOUR(Conversions!A4718))/1000)","v":0},null,7,16,12]
[{"$f":"A4734+TIME(0,15,0)","v":"1900-02-19T07:15:00"},{"$f":"B4734","v":0},null,7,17,5]
[{"$f":"A4751+TIME(0,15,0)","v":"1900-02-19T11:30:00"},{"$f":"B4750","v":0},null,7,17,22]
[{"$f":"DATE($C$1193,$D$1193,$E$1193) + TIME($F$1193,0,0)","v":"1900-02-19T15:00:00"},{"$f":"IF(A4766<'PV Data'!$H$10,0,SUMIFS('PV Data'!D:D,'PV Data'!A:A,MONTH(Conversions!A4766),'PV Data'!B:B,DAY(Conversions!A4766),'PV Data'!C:C,HOUR(Conversions!A4766))/1000)","v":0},null,7,18,12]
[{"$f":"A4786+TIME(0,15,0)","v":"1900-02-19T20:15:00"},{"$f":"B4786","v":0},null,7,19,9]
[{"$f":"A4803+TIME(0,15,0)","v":"1900-02-20T00:30:00"},{"$f":"B4802","v":0},null,7,20,2]
[{"$f":"A4816+TIME(0,15,0)","v":"1900-02-20T03:45:00"},{"$f":"B4814","v":0},null,7,20,15]
[{"$f":"A4838+TIME(0,15,0)","v":"1900-02-20T09:15:00"},{"$f":"B4838","v":0},null,7,21,13]
[{"$f":"A4855+TIME(0,15,0)","v":"1900-02-20T13:30:00"},{"$f":"B4854","v":0},null,7,22,6]
[{"$f":"A4872+TIME(0,15,0)","v":"1900-02-20T17:45:00"},{"$f":"B4870","v":0},null,7,22,23]
[{"$f":"A4882+TIME(0,15,0)","v":"1900-02-20T20:15:00"},{"$f":"B4882","v":0},null,7,23,9]
[{"$f":"A4907+TIME(0,15,0)","v":"1900-02-21T02:30:00"},{"$f":"B4906","v":0},null,7,24,10]
[{"$f":"A4924+TIME(0,15,0)","v":"1900-02-21T06:45:00"},{"$f":"B4922","v":0},null,7,25,3]
[{"$f":"DATE($C$1237,$D$1237,$E$1237) + TIME($F$1237,0,0)","v":"1900-02-21T11:00:00"},{"$f":"IF(A4942<'PV Data'!$H$10,0,SUMIFS('PV Data'!D:D,'PV Data'!A:A,MONTH(Conversions!A4942),'PV Data'!B:B,DAY(Conversions!A4942),'PV Data'!C:C,HOUR(Conversions!A4942))/1000)","v":0},null,7,25,20]
[{"$f":"DATE($C$1239,$D$1239,$E$1239) + TIME($F$1239,0,0)","v":"1900-02-21T13:00:00"},{"$f":"IF(A4950<'PV Data'!$H$10,0,SUMIFS('PV Data'!D:D,'PV Data'!A:A,MONTH(Conversions!A4950),'PV Data'!B:B,DAY(Conversions!A4950),'PV Data'!C:C,HOUR(Conversions!A4950))/1000)","v":0},null,7,26,4]
[{"$f":"A4976+TIME(0,15,0)","v":"1900-02-21T19:45:00"},{"$f":"B4974","v":0},null,7,27,7]
[{"$f":"DATE($C$1246,$D$1246,$E$1246) + TIME($F$1246,0,0)","v":"1900-02-21T20:00:00"},{"$f":"IF(A4978<'PV Data'!$H$10,0,SUMIFS('PV Data'!D:D,'PV Data'!A:A,MONTH(Conversions!A4978),'PV Data'!B:B,DAY(Conversions!A4978),'PV Data'!C:C,HOUR(Conversions!A4978))/1000)","v":0},null,7,27,8]
[{"$f":"A4999+TIME(0,15,0)","v":"1900-02-22T01:30:00"},{"$f":"B4998","v":0},null,7,28,6]
[{"$f":"A5012+TIME(0,15,0)","v":"1900-02-22T04:45:00"},{"$f":"B5010","v":0},null,7,28,19]
[{"$f":"DATE($C$1259,$D$1259,$E$1259) + TIME($F$1259,0,0)","v":"1900-02-22T09:00:00"},{"$f":"IF(A5030<'PV Data'!$H$10,0,SUMIFS('PV Data'!D:D,'PV Data'!A:A,MONTH(Conversions!A5030),'PV Data'!B:B,DAY(Conversions!A5030),'PV Data'!C:C,HOUR(Conversions!A5030))/1000)","v":0},null,7,29,12]
[{"$f":"A5046+TIME(0,15,0)","v":"1900-02-22T13:15:00"},{"$f":"B5046","v":0},null,7,30,5]
[{"$f":"DATE($C$1268,$D$1268,$E$1268) + TIME($F$1268,0,0)","v":"1900-02-22T18:00:00"},{"$f":"IF(A5066<'PV Data'!$H$10,0,SUMIFS('PV Data'!D:D,'PV Data'!A:A,MONTH(Conversions!A5066),'PV Data'!B:B,DAY(Conversions!A5066),'PV Data'!C:C,HOUR(Conversions!A5066))/1000)","v":0},null,7,31,0]
[{"$f":"DATE($C$1272,$D$1272,$E$1272) + TIME($F$1272,0,0)","v":"1900-02-22T22:00:00"},{"$f":"IF(A5082<'PV Data'!$H$10,0,SUMIFS('PV Data'!D:D,'PV Data'!A:A,MONTH(Conversions!A5082),'PV Data'!B:B,DAY(Conversions!A5082),'PV Data'!C:C,HOUR(Conversions!A5082))/1000)","v":0},null,7,31,16]
[{"$f":"A5098+TIME(0,15,0)","v":"1900-02-23T02:15:00"},{"$f":"B5098","v":0},null,8,1,9]
[{"$f":"A5115+TIME(0,15,0)","v":"1900-02-23T06:30:00"},{"$f":"B5114","v":0},null,8,2,2]
[{"$f":"A5132+TIME(0,15,0)","v":"1900-02-23T10:45:00"},{"$f":"B5130","v":0},null,8,2,19]
[{"$f":"A5150+TIME(0,15,0)","v":"1900-02-23T15:15:00"},{"$f":"B5150","v":0},null,8,3,13]
[{"$f":"A5167+TIME(0,15,0)","v":"1900-02-23T19:30:00"},{"$f":"B5166","v":0},null,8,4,6]
[{"$f":"A5182+TIME(0,15,0)","v":"1900-02-23T23:15:00"},{"$f":"B5182","v":0},null,8,4,21]
[{"$f":"A5202+TIME(0,15,0)","v":"1900-02-24T04:15:00"},{"$f":"B5202","v":0},null,8,5,17]
[{"$f":"A5219+TIME(0,15,0)","v":"1900-02-24T08:30:00"},{"$f":"B5218","v":0},null,8,6,10]
[{"$f":"A5236+TIME(0,15,0)","v":"1900-02-24T12:45:00"},{"$f":"B5234","v":0},null,8,7,3]
[{"$f":"DATE($C$1314,$D$1314,$E$1314) + TIME($F$1314,0,0)","v":"1900-02-24T16:00:00"},{"$f":"IF(A5250<'PV Data'!$H$10,0,SUMIFS('PV Data'!D:D,'PV Data'!A:A,MONTH(Conversions!A5250),'PV Data'!B:B,DAY(Conversions!A5250),'PV Data'!C:C,HOUR(Conversions!A5250))/1000)","v":0},null,8,7,16]
[{"$f":"A5255+TIME(0,15,0)","v":"1900-02-24T17:30:00"},{"$f":"B5254","v":0},null,8,7,22]
[{"$f":"A5272+TIME(0,15,0)","v":"1900-02-24T21:45:00"},{"$f":"B5270","v":0},null,8,8,15]
[{"$f":"DATE($C$1324,$D$1324,$E$1324) + TIME($F$1324,0,0)","v":"1900-02-25T02:00:00"},{"$f":"IF(A5290<'PV Data'!$H$10,0,SUMIFS('PV Data'!D:D,'PV Data'!A:A,MONTH(Conversions!A5290),'PV Data'!B:B,DAY(Conversions!A5290),'PV Data'!C:C,HOUR(Conversions!A5290))/1000)","v":0},null,8,9,8]
[{"$f":"A5315+TIME(0,15,0)","v":"1900-02-25T08:30:00"},{"$f":"B5314","v":0},null,8,10,10]
[{"$f":"A5324+TIME(0,15,0)","v":"1900-02-25T10:45:00"},{"$f":"B5322","v":0},null,8,10,19]
[{"$f":"DATE($C$1337,$D$1337,$E$1337) + TIME($F$1337,0,0)","v":"1900-02-25T15:00:00"},{"$f":"IF(A5342<'PV Data'!$H$10,0,SUMIFS('PV Data'!D:D,'PV Data'!A:A,MONTH(Conversions!A5342),'PV Data'!B:B,DAY(Conversions!A5342),'PV Data'!C:C,HOUR(Conversions!A5342))/1000)","v":0},null,8,11,12]
[{"$f":"A5358+TIME(0,15,0)","v":"1900-02-25T19:15:00"},{"$f":"B5358","v":0},null,8,12,5]
[{"$f":"A5382+TIME(0,15,0)","v":"1900-02-26T01:15:00"},{"$f":"B5382","v":0},null,8,13,5]
[{"$f":"DATE($C$1350,$D$1350,$E$1350) + TIME($F$1350,0,0)","v":"1900-02-26T04:00:00"},{"$f":"IF(A5394<'PV Data'!$H$10,0,SUMIFS('PV Data'!D:D,'PV Data'!A:A,MONTH(Conversions!A5394),'PV Data'!B:B,DAY(Conversions!A5394),'PV Data'!C:C,HOUR(Conversions!A5394))/1000)","v":0},null,8,13,16]
[{"$f":"A5410+TIME(0,15,0)","v":"1900-02-26T08:15:00"},{"$f":"B5410","v":0},null,8,14,9]
[{"$f":"A5432+TIME(0,15,0)","v":"1900-02-26T13:45:00"},{"$f":"B5430","v":0},null,8,15,7]
[{"$f":"DATE($C$1363,$D$1363,$E$1363) + TIME($F$1363,0,0)","v":"1900-02-26T17:00:00"},{"$f":"IF(A5446<'PV Data'!$H$10,0,SUMIFS('PV Data'!D:D,'PV Data'!A:A,MONTH(Conversions!A5446),'PV Data'!B:B,DAY(Conversions!A5446),'PV Data'!C:C,HOUR(Conversions!A5446))/1000)","v":0},null,8,15,20]
[{"$f":"A5462+TIME(0,15,0)","v":"1900-02-26T21:15:00"},{"$f":"B5462","v":0},null,8,16,13]
[{"$f":"A5479+TIME(0,15,0)","v":"1900-02-27T01:30:00"},{"$f":"B5478","v":0},null,8,17,6]
[{"$f":"DATE($C$1372,$D$1372,$E$1372) + TIME($F$1372,0,0)","v":"1900-02-27T02:00:00"},{"$f":"IF(A5482<'PV Data'!$H$10,0,SUMIFS('PV Data'!D:D,'PV Data'!A:A,MONTH(Conversions!A5482),'PV Data'!B:B,DAY(Conversions!A5482),'PV Data'!C:C,HOUR(Conversions!A5482))/1000)","v":0},null,8,17,8]
[{"$f":"A5498+TIME(0,15,0)","v":"1900-02-27T06:15:00"},{"$f":"B5498","v":0},null,8,18,1]
[{"$f":"A5515+TIME(0,15,0)","v":"1900-02-27T10:30:00"},{"$f":"B5514","v":0},null,8,18,18]
[{"$f":"A5532+TIME(0,15,0)","v":"1900-02-27T14:45:00"},{"$f":"B5530","v":0},null,8,19,11]
[{"$f":"A5548+TIME(0,15,0)","v":"1900-02-27T18:45:00"},{"$f":"B5546","v":0},null,8,20,3]
[{"$f":"A5567+TIME(0,15,0)","v":"1900-02-27T23:30:00"},{"$f":"B5566","v":0},null,8,20,22]
[{"$f":"A5584+TIME(0,15,0)","v":"1900-02-28T03:45:00"},{"$f":"B5582","v":0},null,8,21,15]
[{"$f":"A5598+TIME(0,15,0)","v":"1900-02-28T07:15:00"},{"$f":"B5598","v":0},null,8,22,5]
[{"$f":"A5619+TIME(0,15,0)","v":"1900-02-28T12:30:00"},{"$f":"B5618","v":0},null,8,23,2]
[{"$f":"A5636+TIME(0,15,0)","v":"1900-02-28T16:45:00"},{"$f":"B5634","v":0},null,8,23,19]
[{"$f":"DATE($C$1415,$D$1415,$E$1415) + TIME($F$1415,0,0)","v":"1900-02-28T21:00:00"},{"$f":"IF(A5654<'PV Data'!$H$10,0,SUMIFS('PV Data'!D:D,'PV Data'!A:A,MONTH(Conversions!A5654),'PV Data'!B:B,DAY(Conversions!A5654),'PV Data'!C:C,HOUR(Conversions!A5654))/1000)","v":0},null,8,24,12]
[{"$f":"A5664+TIME(0,15,0)","v":"1900-02-28T23:45:00"},{"$f":"B5662","v":0},null,8,24,23]
[{"$f":"A5688+TIME(0,15,0)","v":"1900-03-01T05:45:00"},{"$f":"B5686","v":0},null,8,25,23]
[{"$f":"DATE($C$1428,$D$1428,$E$1428) + TIME($F$1428,0,0)","v":"1900-03-01T10:00:00"},{"$f":"IF(A5706<'PV Data'!$H$10,0,SUMIFS('PV Data'!D:D,'PV Data'!A:A,MONTH(Conversions!A5706),'PV Data'!B:B,DAY(Conversions!A5706),'PV Data'!C:C,HOUR(Conversions!A5706))/1000)","v":0},null,8,26,16]
[{"$f":"A5722+TIME(0,15,0)","v":"1900-03-01T14:15:00"},{"$f":"B5722","v":0},null,8,27,9]
[{"$f":"A5731+TIME(0,15,0)","v":"1900-03-01T16:30:00"},{"$f":"B5730","v":0},null,8,27,18]
[{"$f":"DATE($C$1441,$D$1441,$E$1441) + TIME($F$1441,0,0)","v":"1900-03-01T23:00:00"},{"$f":"IF(A5758<'PV Data'!$H$10,0,SUMIFS('PV Data'!D:D,'PV Data'!A:A,MONTH(Conversions!A5758),'PV Data'!B:B,DAY(Conversions!A5758),'PV Data'!C:C,HOUR(Conversions!A5758))/1000)","v":0},null,8,28,20]
[{"$f":"A5758+TIME(0,15,0)","v":"1900-03-01T23:15:00"},{"$f":"B5758","v":0},null,8,28,21]
[{"$f":"DATE($C$1447,$D$1447,$E$1447) + TIME($F$1447,0,0)","v":"1900-03-02T05:00:00"},{"$f":"IF(A5782<'PV Data'!$H$10,0,SUMIFS('PV Data'!D:D,'PV Data'!A:A,MONTH(Conversions!A5782),'PV Data'!B:B,DAY(Conversions!A5782),'PV Data'!C:C,HOUR(Conversions!A5782))/1000)","v":0},null,8,29,20]
[{"$f":"DATE($C$1450,$D$1450,$E$1450) + TIME($F$1450,0,0)","v":"1900-03-02T08:00:00"},{"$f":"IF(A5794<'PV Data'!$H$10,0,SUMIFS('PV Data'!D:D,'PV Data'!A:A,MONTH(Conversions!A5794),'PV Data'!B:B,DAY(Conversions!A5794),'PV Data'!C:C,HOUR(Conversions!A5794))/1000)","v":0},null,8,30,8]
[{"$f":"A5810+TIME(0,15,0)","v":"1900-03-02T12:15:00"},{"$f":"B5810","v":0},null,8,31,1]
[{"$f":"A5827+TIME(0,15,0)","v":"1900-03-02T16:30:00"},{"$f":"B5826","v":0},null,8,31,18]
[{"$f":"A5848+TIME(0,15,0)","v":"1900-03-02T21:45:00"},{"$f":"B5846","v":0},null,9,1,15]
[{"$f":"A5862+TIME(0,15,0)","v":"1900-03-03T01:15:00"},{"$f":"B5862","v":0},null,9,2,5]
[{"$f":"A5879+TIME(0,15,0)","v":"1900-03-03T05:30:00"},{"$f":"B5878","v":0},null,9,2,22]
[{"$f":"A5896+TIME(0,15,0)","v":"1900-03-03T09:45:00"},{"$f":"B5894","v":0},null,9,3,15]
[{"$f":"A5914+TIME(0,15,0)","v":"1900-03-03T14:15:00"},{"$f":"B5914","v":0},null,9,4,9]
[{"$f":"A5931+TIME(0,15,0)","v":"1900-03-03T18:30:00"},{"$f":"B5930","v":0},null,9,5,2]
[{"$f":"A5948+TIME(0,15,0)","v":"1900-03-03T22:45:00"},{"$f":"B5946","v":0},null,9,5,19]
[{"$f":"A5964+TIME(0,15,0)","v":"1900-03-04T02:45:00"},{"$f":"B5962","v":0},null,9,6,11]
[{"$f":"A5983+TIME(0,15,0)","v":"1900-03-04T07:30:00"},{"$f":"B5982","v":0},null,9,7,6]
[{"$f":"A6000+TIME(0,15,0)","v":"1900-03-04T11:45:00"},{"$f":"B5998","v":0},null,9,7,23]
[{"$f":"DATE($C$1506,$D$1506,$E$1506) + TIME($F$1506,0,0)","v":"1900-03-04T16:00:00"},{"$f":"IF(A6018<'PV Data'!$H$10,0,SUMIFS('PV Data'!D:D,'PV Data'!A:A,MONTH(Conversions!A6018),'PV Data'!B:B,DAY(Conversions!A6018),'PV Data'!C:C,HOUR(Conversions!A6018))/1000)","v":0},null,9,8,16]
[{"$f":"A6031+TIME(0,15,0)","v":"1900-03-04T19:30:00"},{"$f":"B6030","v":0},null,9,9,6]
[{"$f":"A6036+TIME(0,15,0)","v":"1900-03-04T20:45:00"},{"$f":"B6034","v":0},null,9,9,11]
[{"$f":"DATE($C$1515,$D$1515,$E$1515) + TIME($F$1515,0,0)","v":"1900-03-05T01:00:00"},{"$f":"IF(A6054<'PV Data'!$H$10,0,SUMIFS('PV Data'!D:D,'PV Data'!A:A,MONTH(Conversions!A6054),'PV Data'!B:B,DAY(Conversions!A6054),'PV Data'!C:C,HOUR(Conversions!A6054))/1000)","v":0},null,9,10,4]
[{"$f":"A6070+TIME(0,15,0)","v":"1900-03-05T05:15:00"},{"$f":"B6070","v":0},null,9,10,21]
[{"$f":"DATE($C$1526,$D$1526,$E$1526) + TIME($F$1526,0,0)","v":"1900-03-05T12:00:00"},{"$f":"IF(A6098<'PV Data'!$H$10,0,SUMIFS('PV Data'!D:D,'PV Data'!A:A,MONTH(Conversions!A6098),'PV Data'!B:B,DAY(Conversions!A6098),'PV Data'!C:C,HOUR(Conversions!A6098))/1000)","v":0},null,9,12,0]
[{"$f":"DATE($C$1528,$D$1528,$E$1528) + TIME($F$1528,0,0)","v":"1900-03-05T14:00:00"},{"$f":"IF(A6106<'PV Data'!$H$10,0,SUMIFS('PV Data'!D:D,'PV Data'!A:A,MONTH(Conversions!A6106),'PV Data'!B:B,DAY(Conversions!A6106),'PV Data'!C:C,HOUR(Conversions!A6106))/1000)","v":0},null,9,12,8]
[{"$f":"A6122+TIME(0,15,0)","v":"1900-03-05T18:15:00"},{"$f":"B6122","v":0},null,9,13,1]
[{"$f":"A6139+TIME(0,15,0)","v":"1900-03-05T22:30:00"},{"$f":"B6138","v":0},null,9,13,18]
[{"$f":"A6164+TIME(0,15,0)","v":"1900-03-06T04:45:00"},{"$f":"B6162","v":0},null,9,14,19]
[{"$f":"A6174+TIME(0,15,0)","v":"1900-03-06T07:15:00"},{"$f":"B6174","v":0},null,9,15,5]
[{"$f":"A6191+TIME(0,15,0)","v":"1900-03-06T11:30:00"},{"$f":"B6190","v":0},null,9,15,22]
[{"$f":"DATE($C$1551,$D$1551,$E$1551) + TIME($F$1551,0,0)","v":"1900-03-06T13:00:00"},{"$f":"IF(A6198<'PV Data'!$H$10,0,SUMIFS('PV Data'!D:D,'PV Data'!A:A,MONTH(Conversions!A6198),'PV Data'!B:B,DAY(Conversions!A6198),'PV Data'!C:C,HOUR(Conversions!A6198))/1000)","v":0},null,9,16,4]
[{"$f":"A6226+TIME(0,15,0)","v":"1900-03-06T20:15:00"},{"$f":"B6226","v":0},null,9,17,9]
[{"$f":"A6243+TIME(0,15,0)","v":"1900-03-07T00:30:00"},{"$f":"B6242","v":0},null,9,18,2]
[{"$f":"A6260+TIME(0,15,0)","v":"1900-03-07T04:45:00"},{"$f":"B6258","v":0},null,9,18,19]
[{"$f":"A6264+TIME(0,15,0)","v":"1900-03-07T05:45:00"},{"$f":"B6262","v":0},null,9,18,23]
[{"$f":"A6279+TIME(0,15,0)","v":"1900-03-07T09:30:00"},{"$f":"B6278","v":0},null,9,19,14]
[{"$f":"A6296+TIME(0,15,0)","v":"1900-03-07T13:45:00"},{"$f":"B6294","v":0},null,9,20,7]
[{"$f":"DATE($C$1580,$D$1580,$E$1580) + TIME($F$1580,0,0)","v":"1900-03-07T18:00:00"},{"$f":"IF(A6314<'PV Data'!$H$10,0,SUMIFS('PV Data'!D:D,'PV Data'!A:A,MONTH(Conversions!A6314),'PV Data'!B:B,DAY(Conversions!A6314),'PV Data'!C:C,HOUR(Conversions!A6314))/1000)","v":0},null,9,21,0]
[{"$f":"A6330+TIME(0,15,0)","v":"1900-03-07T22:15:00"},{"$f":"B6330","v":0},null,9,21,17]
[{"$f":"A6348+TIME(0,15,0)","v":"1900-03-08T02:45:00"},{"$f":"B6346","v":0},null,9,22,11]
[{"$f":"DATE($C$1593,$D$1593,$E$1593) + TIME($F$1593,0,0)","v":"1900-03-08T07:00:00"},{"$f":"IF(A6366<'PV Data'!$H$10,0,SUMIFS('PV Data'!D:D,'PV Data'!A:A,MONTH(Conversions!A6366),'PV Data'!B:B,DAY(Conversions!A6366),'PV Data'!C:C,HOUR(Conversions!A6366))/1000)","v":0},null,9,23,4]
[{"$f":"A6380+TIME(0,15,0)","v":"1900-03-08T10:45:00"},{"$f":"B6378","v":0},null,9,23,19]
[{"$f":"A6400+TIME(0,15,0)","v":"1900-03-08T15:45:00"},{"$f":"B6398","v":0},null,9,24,15]
[{"$f":"DATE($C$1606,$D$1606,$E$1606) + TIME($F$1606,0,0)","v":"1900-03-08T20:00:00"},{"$f":"IF(A6418<'PV Data'!$H$10,0,SUMIFS('PV Data'!D:D,'PV Data'!A:A,MONTH(Conversions!A6418),'PV Data'!B:B,DAY(Conversions!A6418),'PV Data'!C:C,HOUR(Conversions!A6418))/1000)","v":0},null,9,25,8]
[{"$f":"A6434+TIME(0,15,0)","v":"1900-03-09T00:15:00"},{"$f":"B6434","v":0},null,9,26,1]
[{"$f":"A6447+TIME(0,15,0)","v":"1900-03-09T03:30:00"},{"$f":"B6446","v":0},null,9,26,14]
[{"$f":"DATE($C$1619,$D$1619,$E$1619) + TIME($F$1619,0,0)","v":"1900-03-09T09:00:00"},{"$f":"IF(A6470<'PV Data'!$H$10,0,SUMIFS('PV Data'!D:D,'PV Data'!A:A,MONTH(Conversions!A6470),'PV Data'!B:B,DAY(Conversions!A6470),'PV Data'!C:C,HOUR(Conversions!A6470))/1000)","v":0},null,9,27,12]
[{"$f":"A6486+TIME(0,15,0)","v":"1900-03-09T13:15:00"},{"$f":"B6486","v":0},null,9,28,5]
[{"$f":"A6503+TIME(0,15,0)","v":"1900-03-09T17:30:00"},{"$f":"B6502","v":0},null,9,28,22]
[{"$f":"DATE($C$1630,$D$1630,$E$1630) + TIME($F$1630,0,0)","v":"1900-03-09T20:00:00"},{"$f":"IF(A6514<'PV Data'!$H$10,0,SUMIFS('PV Data'!D:D,'PV Data'!A:A,MONTH(Conversions!A6514),'PV Data'!B:B,DAY(Conversions!A6514),'PV Data'!C:C,HOUR(Conversions!A6514))/1000)","v":0},null,9,29,8]
[{"$f":"A6538+TIME(0,15,0)","v":"1900-03-10T02:15:00"},{"$f":"B6538","v":0},null,9,30,9]
[{"$f":"A6539+TIME(0,15,0)","v":"1900-03-10T02:30:00"},{"$f":"B6538","v":0},null,9,30,10]
[{"$f":"A6563+TIME(0,15,0)","v":"1900-03-10T08:30:00"},{"$f":"B6562","v":0},null,10,1,10]
[{"$f":"A6574+TIME(0,15,0)","v":"1900-03-10T11:15:00"},{"$f":"B6574","v":0},null,10,1,21]
[{"$f":"A6591+TIME(0,15,0)","v":"1900-03-10T15:30:00"},{"$f":"B6590","v":0},null,10,2,14]
[{"$f":"A6608+TIME(0,15,0)","v":"1900-03-10T19:45:00"},{"$f":"B6606","v":0},null,10,3,7]
[{"$f":"A6630+TIME(0,15,0)","v":"1900-03-11T01:15:00"},{"$f":"B6630","v":0},null,10,4,5]
[{"$f":"A6643+TIME(0,15,0)","v":"1900-03-11T04:30:00"},{"$f":"B6642","v":0},null,10,4,18]
[{"$f":"A6660+TIME(0,15,0)","v":"1900-03-11T08:45:00"},{"$f":"B6658","v":0},null,10,5,11]
[{"$f":"DATE($C$1671,$D$1671,$E$1671) + TIME($F$1671,0,0)","v":"1900-03-11T13:00:00"},{"$f":"IF(A6678<'PV Data'!$H$10,0,SUMIFS('PV Data'!D:D,'PV Data'!A:A,MONTH(Conversions!A6678),'PV Data'!B:B,DAY(Conversions!A6678),'PV Data'!C:C,HOUR(Conversions!A6678))/1000)","v":0},null,10,6,4]
[{"$f":"DATE($C$1676,$D$1676,$E$1676) + TIME($F$1676,0,0)","v":"1900-03-11T18:00:00"},{"$f":"IF(A6698<'PV Data'!$H$10,0,SUMIFS('PV Data'!D:D,'PV Data'!A:A,MONTH(Conversions!A6698),'PV Data'!B:B,DAY(Conversions!A6698),'PV Data'!C:C,HOUR(Conversions!A6698))/1000)","v":0},null,10,7,0]
[{"$f":"A6712+TIME(0,15,0)","v":"1900-03-11T21:45:00"},{"$f":"B6710","v":0},null,10,7,15]
[{"$f":"DATE($C$1684,$D$1684,$E$1684) + TIME($F$1684,0,0)","v":"1900-03-12T02:00:00"},{"$f":"IF(A6730<'PV Data'!$H$10,0,SUMIFS('PV Data'!D:D,'PV Data'!A:A,MONTH(Conversions!A6730),'PV Data'!B:B,DAY(Conversions!A6730),'PV Data'!C:C,HOUR(Conversions!A6730))/1000)","v":0},null,10,8,8]
[{"$f":"A6746+TIME(0,15,0)","v":"1900-03-12T06:15:00"},{"$f":"B6746","v":0},null,10,9,1]
[{"$f":"A6763+TIME(0,15,0)","v":"1900-03-12T10:30:00"},{"$f":"B6762","v":0},null,10,9,18]
[{"$f":"DATE($C$1697,$D$1697,$E$1697) + TIME($F$1697,0,0)","v":"1900-03-12T15:00:00"},{"$f":"IF(A6782<'PV Data'!$H$10,0,SUMIFS('PV Data'!D:D,'PV Data'!A:A,MONTH(Conversions!A6782),'PV Data'!B:B,DAY(Conversions!A6782),'PV Data'!C:C,HOUR(Conversions!A6782))/1000)","v":0},null,10,10,12]
[{"$f":"A6798+TIME(0,15,0)","v":"1900-03-12T19:15:00"},{"$f":"B6798","v":0},null,10,11,5]
[{"$f":"DATE($C$1705,$D$1705,$E$1705) + TIME($F$1705,0,0)","v":"1900-03-12T23:00:00"},{"$f":"IF(A6814<'PV Data'!$H$10,0,SUMIFS('PV Data'!D:D,'PV Data'!A:A,MONTH(Conversions!A6814),'PV Data'!B:B,DAY(Conversions!A6814),'PV Data'!C:C,HOUR(Conversions!A6814))/1000)","v":0},null,10,11,20]
[{"$f":"DATE($C$1706,$D$1706,$E$1706) + TIME($F$1706,0,0)","v":"1900-03-13"},{"$f":"IF(A6818<'PV Data'!$H$10,0,SUMIFS('PV Data'!D:D,'PV Data'!A:A,MONTH(Conversions!A6818),'PV Data'!B:B,DAY(Conversions!A6818),'PV Data'!C:C,HOUR(Conversions!A6818))/1000)","v":0},null,10,12,0]
[{"$f":"A6834+TIME(0,15,0)","v":"1900-03-13T04:15:00"},{"$f":"B6834","v":0},null,10,12,17]
[{"$f":"A6851+TIME(0,15,0)","v":"1900-03-13T08:30:00"},{"$f":"B6850","v":0},null,10,13,10]
[{"$f":"A6880+TIME(0,15,0)","v":"1900-03-13T15:45:00"},{"$f":"B6878","v":0},null,10,14,15]
[{"$f":"A6886+TIME(0,15,0)","v":"1900-03-13T17:15:00"},{"$f":"B6886","v":0},null,10,14,21]
[{"$f":"A6903+TIME(0,15,0)","v":"1900-03-13T21:30:00"},{"$f":"B6902","v":0},null,10,15,14]
[{"$f":"A6920+TIME(0,15,0)","v":"1900-03-14T01:45:00"},{"$f":"B6918","v":0},null,10,16,7]
[{"$f":"DATE($C$1734,$D$1734,$E$1734) + TIME($F$1734,0,0)","v":"1900-03-14T04:00:00"},{"$f":"IF(A6930<'PV Data'!$H$10,0,SUMIFS('PV Data'!D:D,'PV Data'!A:A,MONTH(Conversions!A6930),'PV Data'!B:B,DAY(Conversions!A6930),'PV Data'!C:C,HOUR(Conversions!A6930))/1000)","v":0},null,10,16,16]
[{"$f":"A6955+TIME(0,15,0)","v":"1900-03-14T10:30:00"},{"$f":"B6954","v":0},null,10,17,18]
[{"$f":"A6972+TIME(0,15,0)","v":"1900-03-14T14:45:00"},{"$f":"B6970","v":0},null,10,18,11]
[{"$f":"A6979+TIME(0,15,0)","v":"1900-03-14T16:30:00"},{"$f":"B6978","v":0},null,10,18,18]
[{"$f":"A7007+TIME(0,15,0)","v":"1900-03-14T23:30:00"},{"$f":"B7006","v":0},null,10,19,22]
[{"$f":"A7024+TIME(0,15,0)","v":"1900-03-15T03:45:00"},{"$f":"B7022","v":0},null,10,20,15]
[{"$f":"DATE($C$1762,$D$1762,$E$1762) + TIME($F$1762,0,0)","v":"1900-03-15T08:00:00"},{"$f":"IF(A7042<'PV Data'!$H$10,0,SUMIFS('PV Data'!D:D,'PV Data'!A:A,MONTH(Conversions!A7042),'PV Data'!B:B,DAY(Conversions!A7042),'PV Data'!C:C,HOUR(Conversions!A7042))/1000)","v":0},null,10,21,8]
[{"$f":"A7046+TIME(0,15,0)","v":"1900-03-15T09:15:00"},{"$f":"B7046","v":0},null,10,21,13]
[{"$f":"A7060+TIME(0,15,0)","v":"1900-03-15T12:45:00"},{"$f":"B7058","v":0},null,10,22,3]
[{"$f":"DATE($C$1771,$D$1771,$E$1771) + TIME($F$1771,0,0)","v":"1900-03-15T17:00:00"},{"$f":"IF(A7078<'PV Data'!$H$10,0,SUMIFS('PV Data'!D:D,'PV Data'!A:A,MONTH(Conversions!A7078),'PV Data'!B:B,DAY(Conversions!A7078),'PV Data'!C:C,HOUR(Conversions!A7078))/1000)","v":0},null,10,22,20]
[{"$f":"A7094+TIME(0,15,0)","v":"1900-03-15T21:15:00"},{"$f":"B7094","v":0},null,10,23,13]
[{"$f":"A7112+TIME(0,15,0)","v":"1900-03-16T01:45:00"},{"$f":"B7110","v":0},null,10,24,7]
[{"$f":"DATE($C$1784,$D$1784,$E$1784) + TIME($F$1784,0,0)","v":"1900-03-16T06:00:00"},{"$f":"IF(A7130<'PV Data'!$H$10,0,SUMIFS('PV Data'!D:D,'PV Data'!A:A,MONTH(Conversions!A7130),'PV Data'!B:B,DAY(Conversions!A7130),'PV Data'!C:C,HOUR(Conversions!A7130))/1000)","v":0},null,10,25,0]
[{"$f":"A7146+TIME(0,15,0)","v":"1900-03-16T10:15:00"},{"$f":"B7146","v":0},null,10,25,17]
[{"$f":"A7163+TIME(0,15,0)","v":"1900-03-16T14:30:00"},{"$f":"B7162","v":0},null,10,26,10]
[{"$f":"DATE($C$1797,$D$1797,$E$1797) + TIME($F$1797,0,0)","v":"1900-03-16T19:00:00"},{"$f":"IF(A7182<'PV Data'!$H$10,0,SUMIFS('PV Data'!D:D,'PV Data'!A:A,MONTH(Conversions!A7182),'PV Data'!B:B,DAY(Conversions!A7182),'PV Data'!C:C,HOUR(Conversions!A7182))/1000)","v":0},null,10,27,4]
[{"$f":"A7198+TIME(0,15,0)","v":"1900-03-16T23:15:00"},{"$f":"B7198","v":0},null,10,27,21]
[{"$f":"A7215+TIME(0,15,0)","v":"1900-03-17T03:30:00"},{"$f":"B7214","v":0},null,10,28,14]
[{"$f":"DATE($C$1809,$D$1809,$E$1809) + TIME($F$1809,0,0)","v":"1900-03-17T07:00:00"},{"$f":"IF(A7230<'PV Data'!$H$10,0,SUMIFS('PV Data'!D:D,'PV Data'!A:A,MONTH(Conversions!A7230),'PV Data'!B:B,DAY(Conversions!A7230),'PV Data'!C:C,HOUR(Conversions!A7230))/1000)","v":0},null,10,29,4]
[{"$f":"A7250+TIME(0,15,0)","v":"1900-03-17T12:15:00"},{"$f":"B7250","v":0},null,10,30,1]
[{"$f":"A7267+TIME(0,15,0)","v":"1900-03-17T16:30:00"},{"$f":"B7266","v":0},null,10,30,18]
[{"$f":"A7284+TIME(0,15,0)","v":"1900-03-17T20:45:00"},{"$f":"B7282","v":0},null,10,31,11]
[{"$f":"A7296+TIME(0,15,0)","v":"1900-03-17T23:45:00"},{"$f":"B7294","v":0},null,10,31,23]
[{"$f":"A7319+TIME(0,15,0)","v":"1900-03-18T05:30:00"},{"$f":"B7318","v":0},null,11,1,22]
[{"$f":"A7320+TIME(0,15,0)","v":"1900-03-18T05:45:00"},{"$f":"B7318","v":0},null,11,1,23]
[{"$f":"DATE($C$1836,$D$1836,$E$1836) + TIME($F$1836,0,0)","v":"1900-03-18T10:00:00"},{"$f":"IF(A7338<'PV Data'!$H$10,0,SUMIFS('PV Data'!D:D,'PV Data'!A:A,MONTH(Conversions!A7338),'PV Data'!B:B,DAY(Conversions!A7338),'PV Data'!C:C,HOUR(Conversions!A7338))/1000)","v":0},null,11,2,16]
[{"$f":"A7362+TIME(0,15,0)","v":"1900-03-18T16:15:00"},{"$f":"B7362","v":0},null,11,3,17]
[{"$f":"A7372+TIME(0,15,0)","v":"1900-03-18T18:45:00"},{"$f":"B7370","v":0},null,11,4,3]
[{"$f":"DATE($C$1849,$D$1849,$E$1849) + TIME($F$1849,0,0)","v":"1900-03-18T23:00:00"},{"$f":"IF(A7390<'PV Data'!$H$10,0,SUMIFS('PV Data'!D:D,'PV Data'!A:A,MONTH(Conversions!A7390),'PV Data'!B:B,DAY(Conversions!A7390),'PV Data'!C:C,HOUR(Conversions!A7390))/1000)","v":0},null,11,4,20]
[{"$f":"A7412+TIME(0,15,0)","v":"1900-03-19T04:45:00"},{"$f":"B7410","v":0},null,11,5,19]
[{"$f":"A7424+TIME(0,15,0)","v":"1900-03-19T07:45:00"},{"$f":"B7422","v":0},null,11,6,7]
[{"$f":"DATE($C$1862,$D$1862,$E$1862) + TIME($F$1862,0,0)","v":"1900-03-19T12:00:00"},{"$f":"IF(A7442<'PV Data'!$H$10,0,SUMIFS('PV Data'!D:D,'PV Data'!A:A,MONTH(Conversions!A7442),'PV Data'!B:B,DAY(Conversions!A7442),'PV Data'!C:C,HOUR(Conversions!A7442))/1000)","v":0},null,11,7,0]
[{"$f":"A7458+TIME(0,15,0)","v":"1900-03-19T16:15:00"},{"$f":"B7458","v":0},null,11,7,17]
[{"$f":"A7479+TIME(0,15,0)","v":"1900-03-19T21:30:00"},{"$f":"B7478","v":0},null,11,8,14]
[{"$f":"DATE($C$1875,$D$1875,$E$1875) + TIME($F$1875,0,0)","v":"1900-03-20T01:00:00"},{"$f":"IF(A7494<'PV Data'!$H$10,0,SUMIFS('PV Data'!D:D,'PV Data'!A:A,MONTH(Conversions!A7494),'PV Data'!B:B,DAY(Conversions!A7494),'PV Data'!C:C,HOUR(Conversions!A7494))/1000)","v":0},null,11,9,4]
[{"$f":"A7510+TIME(0,15,0)","v":"1900-03-20T05:15:00"},{"$f":"B7510","v":0},null,11,9,21]
[{"$f":"A7527+TIME(0,15,0)","v":"1900-03-20T09:30:00"},{"$f":"B7526","v":0},null,11,10,14]
[{"$f":"DATE($C$1888,$D$1888,$E$1888) + TIME($F$1888,0,0)","v":"1900-03-20T14:00:00"},{"$f":"IF(A7546<'PV Data'!$H$10,0,SUMIFS('PV Data'!D:D,'PV Data'!A:A,MONTH(Conversions!A7546),'PV Data'!B:B,DAY(Conversions!A7546),'PV Data'!C:C,HOUR(Conversions!A7546))/1000)","v":0},null,11,11,8]
[{"$f":"A7562+TIME(0,15,0)","v":"1900-03-20T18:15:00"},{"$f":"B7562","v":0},null,11,12,1]
[{"$f":"A7579+TIME(0,15,0)","v":"1900-03-20T22:30:00"},{"$f":"B7578","v":0},null,11,12,18]
[{"$f":"A7596+TIME(0,15,0)","v":"1900-03-21T02:45:00"},{"$f":"B7594","v":0},null,11,13,11]
[{"$f":"A7598+TIME(0,15,0)","v":"1900-03-21T03:15:00"},{"$f":"B7598","v":0},null,11,13,13]
[{"$f":"A7615+TIME(0,15,0)","v":"1900-03-21T07:30:00"},{"$f":"B7614","v":0},null,11,14,6]
[{"$f":"A7632+TIME(0,15,0)","v":"1900-03-21T11:45:00"},{"$f":"B7630","v":0},null,11,14,23]
[{"$f":"DATE($C$1913,$D$1913,$E$1913) + TIME($F$1913,0,0)","v":"1900-03-21T15:00:00"},{"$f":"IF(A7646<'PV Data'!$H$10,0,SUMIFS('PV Data'!D:D,'PV Data'!A:A,MONTH(Conversions!A7646),'PV Data'!B:B,DAY(Conversions!A7646),'PV Data'!C:C,HOUR(Conversions!A7646))/1000)","v":0},null,11,15,12]
[{"$f":"A7667+TIME(0,15,0)","v":"1900-03-21T20:30:00"},{"$f":"B7666","v":0},null,11,16,10]
[{"$f":"A7684+TIME(0,15,0)","v":"1900-03-22T00:45:00"},{"$f":"B7682","v":0},null,11,17,3]
[{"$f":"DATE($C$1927,$D$1927,$E$1927) + TIME($F$1927,0,0)","v":"1900-03-22T05:00:00"},{"$f":"IF(A7702<'PV Data'!$H$10,0,SUMIFS('PV Data'!D:D,'PV Data'!A:A,MONTH(Conversions!A7702),'PV Data'!B:B,DAY(Conversions!A7702),'PV Data'!C:C,HOUR(Conversions!A7702))/1000)","v":0},null,11,17,20]
[{"$f":"A7712+TIME(0,15,0)","v":"1900-03-22T07:45:00"},{"$f":"B7710","v":0},null,11,18,7]
[{"$f":"A7736+TIME(0,15,0)","v":"1900-03-22T13:45:00"},{"$f":"B7734","v":0},null,11,19,7]
[{"$f":"DATE($C$1940,$D$1940,$E$1940) + TIME($F$1940,0,0)","v":"1900-03-22T18:00:00"},{"$f":"IF(A7754<'PV Data'!$H$10,0,SUMIFS('PV Data'!D:D,'PV Data'!A:A,MONTH(Conversions!A7754),'PV Data'!B:B,DAY(Conversions!A7754),'PV Data'!C:C,HOUR(Conversions!A7754))/1000)","v":0},null,11,20,0]
[{"$f":"A7762+TIME(0,15,0)","v":"1900-03-22T20:15:00"},{"$f":"B7762","v":0},null,11,20,9]
[{"$f":"A7788+TIME(0,15,0)","v":"1900-03-23T02:45:00"},{"$f":"B7786","v":0},null,11,21,11]
[{"$f":"DATE($C$1953,$D$1953,$E$1953) + TIME($F$1953,0,0)","v":"1900-03-23T07:00:00"},{"$f":"IF(A7806<'PV Data'!$H$10,0,SUMIFS('PV Data'!D:D,'PV Data'!A:A,MONTH(Conversions!A7806),'PV Data'!B:B,DAY(Conversions!A7806),'PV Data'!C:C,HOUR(Conversions!A7806))/1000)","v":0},null,11,22,4]
[{"$f":"A7822+TIME(0,15,0)","v":"1900-03-23T11:15:00"},{"$f":"B7822","v":0},null,11,22,21]
[{"$f":"A7828+TIME(0,15,0)","v":"1900-03-23T12:45:00"},{"$f":"B7826","v":0},null,11,23,3]
[{"$f":"DATE($C$1962,$D$1962,$E$1962) + TIME($F$1962,0,0)","v":"1900-03-23T16:00:00"},{"$f":"IF(A7842<'PV Data'!$H$10,0,SUMIFS('PV Data'!D:D,'PV Data'!A:A,MONTH(Conversions!A7842),'PV Data'!B:B,DAY(Conversions!A7842),'PV Data'!C:C,HOUR(Conversions!A7842))/1000)","v":0},null,11,23,16]
[{"$f":"A7858+TIME(0,15,0)","v":"1900-03-23T20:15:00"},{"$f":"B7858","v":0},null,11,24,9]
[{"$f":"A7875+TIME(0,15,0)","v":"1900-03-24T00:30:00"},{"$f":"B7874","v":0},null,11,25,2]
[{"$f":"A7895+TIME(0,15,0)","v":"1900-03-24T05:30:00"},{"$f":"B7894","v":0},null,11,25,22]
[{"$f":"A7910+TIME(0,15,0)","v":"1900-03-24T09:15:00"},{"$f":"B7910","v":0},null,11,26,13]
[{"$f":"A7927+TIME(0,15,0)","v":"1900-03-24T13:30:00"},{"$f":"B7926","v":0},null,11,27,6]
[{"$f":"DATE($C$1988,$D$1988,$E$1988) + TIME($F$1988,0,0)","v":"1900-03-24T18:00:00"},{"$f":"IF(A7946<'PV Data'!$H$10,0,SUMIFS('PV Data'!D:D,'PV Data'!A:A,MONTH(Conversions!A7946),'PV Data'!B:B,DAY(Conversions!A7946),'PV Data'!C:C,HOUR(Conversions!A7946))/1000)","v":0},null,11,28,0]
[{"$f":"A7962+TIME(0,15,0)","v":"1900-03-24T22:15:00"},{"$f":"B7962","v":0},null,11,28,17]
[{"$f":"A7979+TIME(0,15,0)","v":"1900-03-25T02:30:00"},{"$f":"B7978","v":0},null,11,29,10]
[{"$f":"A7996+TIME(0,15,0)","v":"1900-03-25T06:45:00"},{"$f":"B7994","v":0},null,11,30,3]
[{"$f":"A8011+TIME(0,15,0)","v":"1900-03-25T10:30:00"},{"$f":"B8010","v":0},null,11,30,18]
[{"$f":"A8031+TIME(0,15,0)","v":"1900-03-25T15:30:00"},{"$f":"B8030","v":0},null,12,1,14]
[{"$f":"A8048+TIME(0,15,0)","v":"1900-03-25T19:45:00"},{"$f":"B8046","v":0},null,12,2,7]
[{"$f":"DATE($C$2018,$D$2018,$E$2018) + TIME($F$2018,0,0)","v":"1900-03-26"},{"$f":"IF(A8066<'PV Data'!$H$10,0,SUMIFS('PV Data'!D:D,'PV Data'!A:A,MONTH(Conversions!A8066),'PV Data'!B:B,DAY(Conversions!A8066),'PV Data'!C:C,HOUR(Conversions!A8066))/1000)","v":0},null,12,3,0]
[{"$f":"A8078+TIME(0,15,0)","v":"1900-03-26T03:15:00"},{"$f":"B8078","v":0},null,12,3,13]
[{"$f":"A8100+TIME(0,15,0)","v":"1900-03-26T08:45:00"},{"$f":"B8098","v":0},null,12,4,11]
[{"$f":"DATE($C$2027,$D$2027,$E$2027) + TIME($F$2027,0,0)","v":"1900-03-26T09:00:00"},{"$f":"IF(A8102<'PV Data'!$H$10,0,SUMIFS('PV Data'!D:D,'PV Data'!A:A,MONTH(Conversions!A8102),'PV Data'!B:B,DAY(Conversions!A8102),'PV Data'!C:C,HOUR(Conversions!A8102))/1000)","v":0},null,12,4,12]
[{"$f":"A8118+TIME(0,15,0)","v":"1900-03-26T13:15:00"},{"$f":"B8118","v":0},null,12,5,5]
[{"$f":"DATE($C$2038,$D$2038,$E$2038) + TIME($F$2038,0,0)","v":"1900-03-26T20:00:00"},{"$f":"IF(A8146<'PV Data'!$H$10,0,SUMIFS('PV Data'!D:D,'PV Data'!A:A,MONTH(Conversions!A8146),'PV Data'!B:B,DAY(Conversions!A8146),'PV Data'!C:C,HOUR(Conversions!A8146))/1000)","v":0},null,12,6,8]
[{"$f":"DATE($C$2040,$D$2040,$E$2040) + TIME($F$2040,0,0)","v":"1900-03-26T22:00:00"},{"$f":"IF(A8154<'PV Data'!$H$10,0,SUMIFS('PV Data'!D:D,'PV Data'!A:A,MONTH(Conversions!A8154),'PV Data'!B:B,DAY(Conversions!A8154),'PV Data'!C:C,HOUR(Conversions!A8154))/1000)","v":0},null,12,6,16]
[{"$f":"A8170+TIME(0,15,0)","v":"1900-03-27T02:15:00"},{"$f":"B8170","v":0},null,12,7,9]
[{"$f":"A8195+TIME(0,15,0)","v":"1900-03-27T08:30:00"},{"$f":"B8194","v":0},null,12,8,10]
[{"$f":"DATE($C$2053,$D$2053,$E$2053) + TIME($F$2053,0,0)","v":"1900-03-27T11:00:00"},{"$f":"IF(A8206<'PV Data'!$H$10,0,SUMIFS('PV Data'!D:D,'PV Data'!A:A,MONTH(Conversions!A8206),'PV Data'!B:B,DAY(Conversions!A8206),'PV Data'!C:C,HOUR(Conversions!A8206))/1000)","v":0},null,12,8,20]
[{"$f":"A8222+TIME(0,15,0)","v":"1900-03-27T15:15:00"},{"$f":"B8222","v":0},null,12,9,13]
[{"$f":"A8239+TIME(0,15,0)","v":"1900-03-27T19:30:00"},{"$f":"B8238","v":0},null,12,10,6]
[{"$f":"DATE($C$2067,$D$2067,$E$2067) + TIME($F$2067,0,0)","v":"1900-03-28T01:00:00"},{"$f":"IF(A8262<'PV Data'!$H$10,0,SUMIFS('PV Data'!D:D,'PV Data'!A:A,MONTH(Conversions!A8262),'PV Data'!B:B,DAY(Conversions!A8262),'PV Data'!C:C,HOUR(Conversions!A8262))/1000)","v":0},null,12,11,4]
[{"$f":"A8274+TIME(0,15,0)","v":"1900-03-28T04:15:00"},{"$f":"B8274","v":0},null,12,11,17]
[{"$f":"A8291+TIME(0,15,0)","v":"1900-03-28T08:30:00"},{"$f":"B8290","v":0},null,12,12,10]
[{"$f":"A8308+TIME(0,15,0)","v":"1900-03-28T12:45:00"},{"$f":"B8306","v":0},null,12,13,3]
[{"$f":"A8328+TIME(0,15,0)","v":"1900-03-28T17:45:00"},{"$f":"B8326","v":0},null,12,13,23]
[{"$f":"A8343+TIME(0,15,0)","v":"1900-03-28T21:30:00"},{"$f":"B8342","v":0},null,12,14,14]
[{"$f":"A8360+TIME(0,15,0)","v":"1900-03-29T01:45:00"},{"$f":"B8358","v":0},null,12,15,7]
[{"$f":"DATE($C$2092,$D$2092,$E$2092) + TIME($F$2092,0,0)","v":"1900-03-29T02:00:00"},{"$f":"IF(A8362<'PV Data'!$H$10,0,SUMIFS('PV Data'!D:D,'PV Data'!A:A,MONTH(Conversions!A8362),'PV Data'!B:B,DAY(Conversions!A8362),'PV Data'!C:C,HOUR(Conversions!A8362))/1000)","v":0},null,12,15,8]
[{"$f":"A8379+TIME(0,15,0)","v":"1900-03-29T06:30:00"},{"$f":"B8378","v":0},null,12,16,2]
[{"$f":"A8396+TIME(0,15,0)","v":"1900-03-29T10:45:00"},{"$f":"B8394","v":0},null,12,16,19]
[{"$f":"DATE($C$2105,$D$2105,$E$2105) + TIME($F$2105,0,0)","v":"1900-03-29T15:00:00"},{"$f":"IF(A8414<'PV Data'!$H$10,0,SUMIFS('PV Data'!D:D,'PV Data'!A:A,MONTH(Conversions!A8414),'PV Data'!B:B,DAY(Conversions!A8414),'PV Data'!C:C,HOUR(Conversions!A8414))/1000)","v":0},null,12,17,12]
[{"$f":"A8427+TIME(0,15,0)","v":"1900-03-29T18:30:00"},{"$f":"B8426","v":0},null,12,18,2]
[{"$f":"A8448+TIME(0,15,0)","v":"1900-03-29T23:45:00"},{"$f":"B8446","v":0},null,12,18,23]
[{"$f":"DATE($C$2118,$D$2118,$E$2118) + TIME($F$2118,0,0)","v":"1900-03-30T04:00:00"},{"$f":"IF(A8466<'PV Data'!$H$10,0,SUMIFS('PV Data'!D:D,'PV Data'!A:A,MONTH(Conversions!A8466),'PV Data'!B:B,DAY(Conversions!A8466),'PV Data'!C:C,HOUR(Conversions!A8466))/1000)","v":0},null,12,19,16]
[{"$f":"A8482+TIME(0,15,0)","v":"1900-03-30T08:15:00"},{"$f":"B8482","v":0},null,12,20,9]
[{"$f":"A8494+TIME(0,15,0)","v":"1900-03-30T11:15:00"},{"$f":"B8494","v":0},null,12,20,21]
[{"$f":"DATE($C$2131,$D$2131,$E$2131) + TIME($F$2131,0,0)","v":"1900-03-30T17:00:00"},{"$f":"IF(A8518<'PV Data'!$H$10,0,SUMIFS('PV Data'!D:D,'PV Data'!A:A,MONTH(Conversions!A8518),'PV Data'!B:B,DAY(Conversions!A8518),'PV Data'!C:C,HOUR(Conversions!A8518))/1000)","v":0},null,12,21,20]
[{"$f":"A8534+TIME(0,15,0)","v":"1900-03-30T21:15:00"},{"$f":"B8534","v":0},null,12,22,13]
[{"$f":"A8544+TIME(0,15,0)","v":"1900-03-30T23:45:00"},{"$f":"B8542","v":0},null,12,22,23]
[{"$f":"DATE($C$2144,$D$2144,$E$2144) + TIME($F$2144,0,0)","v":"1900-03-31T06:00:00"},{"$f":"IF(A8570<'PV Data'!$H$10,0,SUMIFS('PV Data'!D:D,'PV Data'!A:A,MONTH(Conversions!A8570),'PV Data'!B:B,DAY(Conversions!A8570),'PV Data'!C:C,HOUR(Conversions!A8570))/1000)","v":0},null,12,24,0]
[{"$f":"A8586+TIME(0,15,0)","v":"1900-03-31T10:15:00"},{"$f":"B8586","v":0},null,12,24,17]
[{"$f":"A8603+TIME(0,15,0)","v":"1900-03-31T14:30:00"},{"$f":"B8602","v":0},null,12,25,10]
[{"$f":"A8611+TIME(0,15,0)","v":"1900-03-31T16:30:00"},{"$f":"B8610","v":0},null,12,25,18]
[{"$f":"A8622+TIME(0,15,0)","v":"1900-03-31T19:15:00"},{"$f":"B8622","v":0},null,12,26,5]
[{"$f":"A8639+TIME(0,15,0)","v":"1900-03-31T23:30:00"},{"$f":"B8638","v":0},null,12,26,22]
[{"$f":"A8656+TIME(0,15,0)","v":"1900-04-01T03:45:00"},{"$f":"B8654","v":0},null,12,27,15]
[{"$f":"DATE($C$2171,$D$2171,$E$2171) + TIME($F$2171,0,0)","v":"1900-04-01T09:00:00"},{"$f":"IF(A8678<'PV Data'!$H$10,0,SUMIFS('PV Data'!D:D,'PV Data'!A:A,MONTH(Conversions!A8678),'PV Data'!B:B,DAY(Conversions!A8678),'PV Data'!C:C,HOUR(Conversions!A8678))/1000)","v":0},null,12,28,12]
[{"$f":"A8691+TIME(0,15,0)","v":"1900-04-01T12:30:00"},{"$f":"B8690","v":0},null,12,29,2]
[{"$f":"A8708+TIME(0,15,0)","v":"1900-04-01T16:45:00"},{"$f":"B8706","v":0},null,12,29,19]
[{"$f":"DATE($C$2183,$D$2183,$E$2183) + TIME($F$2183,0,0)","v":"1900-04-01T21:00:00"},{"$f":"IF(A8726<'PV Data'!$H$10,0,SUMIFS('PV Data'!D:D,'PV Data'!A:A,MONTH(Conversions!A8726),'PV Data'!B:B,DAY(Conversions!A8726),'PV Data'!C:C,HOUR(Conversions!A8726))/1000)","v":0},null,12,30,12]
[{"$f":"A8744+TIME(0,15,0)","v":"1900-04-02T01:45:00"},{"$f":"B8742","v":0},null,12,31,7]
[{"$f":"A8760+TIME(0,15,0)","v":"1900-04-02T05:45:00"},{"$f":"B8758","v":0},null,12,31,23]
[{"$f":"DATE($C$2196,$D$2196,$E$2196) + TIME($F$2196,0,0)","v":"1900-04-02T10:00:00"},{"$f":"IF(A8778<'PV Data'!$H$10,0,SUMIFS('PV Data'!D:D,'PV Data'!A:A,MONTH(Conversions!A8778),'PV Data'!B:B,DAY(Conversions!A8778),'PV Data'!C:C,HOUR(Conversions!A8778))/1000)","v":0}]
[{"$f":"A8794+TIME(0,15,0)","v":"1900-04-02T14:15:00"},{"$f":"B8794","v":0}]
[{"$f":"A8812+TIME(0,15,0)","v":"1900-04-02T18:45:00"},{"$f":"B8810","v":0}]
[{"$f":"DATE($C$2209,$D$2209,$E$2209) + TIME($F$2209,0,0)","v":"1900-04-02T23:00:00"},{"$f":"IF(A8830<'PV Data'!$H$10,0,SUMIFS('PV Data'!D:D,'PV Data'!A:A,MONTH(Conversions!A8830),'PV Data'!B:B,DAY(Conversions!A8830),'PV Data'!C:C,HOUR(Conversions!A8830))/1000)","v":0}]
[{"$f":"A8846+TIME(0,15,0)","v":"1900-04-03T03:15:00"},{"$f":"B8846","v":0}]
[{"$f":"A8860+TIME(0,15,0)","v":"1900-04-03T06:45:00"},{"$f":"B8858","v":0}]
[{"$f":"DATE($C$2222,$D$2222,$E$2222) + TIME($F$2222,0,0)","v":"1900-04-03T12:00:00"},{"$f":"IF(A8882<'PV Data'!$H$10,0,SUMIFS('PV Data'!D:D,'PV Data'!A:A,MONTH(Conversions!A8882),'PV Data'!B:B,DAY(Conversions!A8882),'PV Data'!C:C,HOUR(Conversions!A8882))/1000)","v":0}]
[{"$f":"A8882+TIME(0,15,0)","v":"1900-04-03T12:15:00"},{"$f":"B8882","v":0}]
[{"$f":"A8899+TIME(0,15,0)","v":"1900-04-03T16:30:00"},{"$f":"B8898","v":0}]
[{"$f":"A8927+TIME(0,15,0)","v":"1900-04-03T23:30:00"},{"$f":"B8926","v":0}]
[{"$f":"A8934+TIME(0,15,0)","v":"1900-04-04T01:15:00"},{"$f":"B8934","v":0}]
[{"$f":"A8951+TIME(0,15,0)","v":"1900-04-04T05:30:00"},{"$f":"B8950","v":0}]
[{"$f":"DATE($C$2246,$D$2246,$E$2246) + TIME($F$2246,0,0)","v":"1900-04-04T12:00:00"},{"$f":"IF(A8978<'PV Data'!$H$10,0,SUMIFS('PV Data'!D:D,'PV Data'!A:A,MONTH(Conversions!A8978),'PV Data'!B:B,DAY(Conversions!A8978),'PV Data'!C:C,HOUR(Conversions!A8978))/1000)","v":0}]
[{"$f":"A8986+TIME(0,15,0)","v":"1900-04-04T14:15:00"},{"$f":"B8986","v":0}]
[{"$f":"A9003+TIME(0,15,0)","v":"1900-04-04T18:30:00"},{"$f":"B9002","v":0}]
[{"$f":"A9020+TIME(0,15,0)","v":"1900-04-04T22:45:00"},{"$f":"B9018","v":0}]
[{"$f":"A9044+TIME(0,15,0)","v":"1900-04-05T04:45:00"},{"$f":"B9042","v":0}]
[{"$f":"A9055+TIME(0,15,0)","v":"1900-04-05T07:30:00"},{"$f":"B9054","v":0}]
[{"$f":"A9072+TIME(0,15,0)","v":"1900-04-05T11:45:00"},{"$f":"B9070","v":0}]
[{"$f":"DATE($C$2274,$D$2274,$E$2274) + TIME($F$2274,0,0)","v":"1900-04-05T16:00:00"},{"$f":"IF(A9090<'PV Data'!$H$10,0,SUMIFS('PV Data'!D:D,'PV Data'!A:A,MONTH(Conversions!A9090),'PV Data'!B:B,DAY(Conversions!A9090),'PV Data'!C:C,HOUR(Conversions!A9090))/1000)","v":0}]
[{"$f":"DATE($C$2275,$D$2275,$E$2275) + TIME($F$2275,0,0)","v":"1900-04-05T17:00:00"},{"$f":"IF(A9094<'PV Data'!$H$10,0,SUMIFS('PV Data'!D:D,'PV Data'!A:A,MONTH(Conversions!A9094),'PV Data'!B:B,DAY(Conversions!A9094),'PV Data'!C:C,HOUR(Conversions!A9094))/1000)","v":0}]
[{"$f":"A9124+TIME(0,15,0)","v":"1900-04-06T00:45:00"},{"$f":"B9122","v":0}]
[{"$f":"DATE($C$2287,$D$2287,$E$2287) + TIME($F$2287,0,0)","v":"1900-04-06T05:00:00"},{"$f":"IF(A9142<'PV Data'!$H$10,0,SUMIFS('PV Data'!D:D,'PV Data'!A:A,MONTH(Conversions!A9142),'PV Data'!B:B,DAY(Conversions!A9142),'PV Data'!C:C,HOUR(Conversions!A9142))/1000)","v":0}]
[{"$f":"A9143+TIME(0,15,0)","v":"1900-04-06T05:30:00"},{"$f":"B9142","v":0}]
[{"$f":"A9160+TIME(0,15,0)","v":"1900-04-06T09:45:00"},{"$f":"B9158","v":0}]
[{"$f":"DATE($C$2296,$D$2296,$E$2296) + TIME($F$2296,0,0)","v":"1900-04-06T14:00:00"},{"$f":"IF(A9178<'PV Data'!$H$10,0,SUMIFS('PV Data'!D:D,'PV Data'!A:A,MONTH(Conversions!A9178),'PV Data'!B:B,DAY(Conversions!A9178),'PV Data'!C:C,HOUR(Conversions!A9178))/1000)","v":0}]
[{"$f":"A9194+TIME(0,15,0)","v":"1900-04-06T18:15:00"},{"$f":"B9194","v":0}]
[{"$f":"A9210+TIME(0,15,0)","v":"1900-04-06T22:15:00"},{"$f":"B9210","v":0}]
[{"$f":"DATE($C$2309,$D$2309,$E$2309) + TIME($F$2309,0,0)","v":"1900-04-07T03:00:00"},{"$f":"IF(A9230<'PV Data'!$H$10,0,SUMIFS('PV Data'!D:D,'PV Data'!A:A,MONTH(Conversions!A9230),'PV Data'!B:B,DAY(Conversions!A9230),'PV Data'!C:C,HOUR(Conversions!A9230))/1000)","v":0}]
[{"$f":"A9246+TIME(0,15,0)","v":"1900-04-07T07:15:00"},{"$f":"B9246","v":0}]
[{"$f":"A9263+TIME(0,15,0)","v":"1900-04-07T11:30:00"},{"$f":"B9262","v":0}]
[{"$f":"A9276+TIME(0,15,0)","v":"1900-04-07T14:45:00"},{"$f":"B9274","v":0}]
[{"$f":"A9298+TIME(0,15,0)","v":"1900-04-07T20:15:00"},{"$f":"B9298","v":0}]
[{"$f":"A9315+TIME(0,15,0)","v":"1900-04-08T00:30:00"},{"$f":"B9314","v":0}]
[{"$f":"A9332+TIME(0,15,0)","v":"1900-04-08T04:45:00"},{"$f":"B9330","v":0}]
[{"$f":"A9343+TIME(0,15,0)","v":"1900-04-08T07:30:00"},{"$f":"B9342","v":0}]
[{"$f":"A9367+TIME(0,15,0)","v":"1900-04-08T13:30:00"},{"$f":"B9366","v":0}]
[{"$f":"A9384+TIME(0,15,0)","v":"1900-04-08T17:45:00"},{"$f":"B9382","v":0}]
[{"$f":"DATE($C$2350,$D$2350,$E$2350) + TIME($F$2350,0,0)","v":"1900-04-08T20:00:00"},{"$f":"IF(A9394<'PV Data'!$H$10,0,SUMIFS('PV Data'!D:D,'PV Data'!A:A,MONTH(Conversions!A9394),'PV Data'!B:B,DAY(Conversions!A9394),'PV Data'!C:C,HOUR(Conversions!A9394))/1000)","v":0}]
[{"$f":"A9403+TIME(0,15,0)","v":"1900-04-08T22:30:00"},{"$f":"B9402","v":0}]
[{"$f":"A9420+TIME(0,15,0)","v":"1900-04-09T02:45:00"},{"$f":"B9418","v":0}]
[{"$f":"DATE($C$2361,$D$2361,$E$2361) + TIME($F$2361,0,0)","v":"1900-04-09T07:00:00"},{"$f":"IF(A9438<'PV Data'!$H$10,0,SUMIFS('PV Data'!D:D,'PV Data'!A:A,MONTH(Conversions!A9438),'PV Data'!B:B,DAY(Conversions!A9438),'PV Data'!C:C,HOUR(Conversions!A9438))/1000)","v":0}]
[{"$f":"A9459+TIME(0,15,0)","v":"1900-04-09T12:30:00"},{"$f":"B9458","v":0}]
[{"$f":"A9472+TIME(0,15,0)","v":"1900-04-09T15:45:00"},{"$f":"B9470","v":0}]
[{"$f":"DATE($C$2374,$D$2374,$E$2374) + TIME($F$2374,0,0)","v":"1900-04-09T20:00:00"},{"$f":"IF(A9490<'PV Data'!$H$10,0,SUMIFS('PV Data'!D:D,'PV Data'!A:A,MONTH(Conversions!A9490),'PV Data'!B:B,DAY(Conversions!A9490),'PV Data'!C:C,HOUR(Conversions!A9490))/1000)","v":0}]
[{"$f":"A9506+TIME(0,15,0)","v":"1900-04-10T00:15:00"},{"$f":"B9506","v":0}]
[{"$f":"A9526+TIME(0,15,0)","v":"1900-04-10T05:15:00"},{"$f":"B9526","v":0}]
[{"$f":"DATE($C$2387,$D$2387,$E$2387) + TIME($F$2387,0,0)","v":"1900-04-10T09:00:00"},{"$f":"IF(A9542<'PV Data'!$H$10,0,SUMIFS('PV Data'!D:D,'PV Data'!A:A,MONTH(Conversions!A9542),'PV Data'!B:B,DAY(Conversions!A9542),'PV Data'!C:C,HOUR(Conversions!A9542))/1000)","v":0}]
[{"$f":"A9558+TIME(0,15,0)","v":"1900-04-10T13:15:00"},{"$f":"B9558","v":0}]
[{"$f":"A9576+TIME(0,15,0)","v":"1900-04-10T17:45:00"},{"$f":"B9574","v":0}]
[{"$f":"DATE($C$2400,$D$2400,$E$2400) + TIME($F$2400,0,0)","v":"1900-04-10T22:00:00"},{"$f":"IF(A9594<'PV Data'!$H$10,0,SUMIFS('PV Data'!D:D,'PV Data'!A:A,MONTH(Conversions!A9594),'PV Data'!B:B,DAY(Conversions!A9594),'PV Data'!C:C,HOUR(Conversions!A9594))/1000)","v":0}]
[{"$f":"A9610+TIME(0,15,0)","v":"1900-04-11T02:15:00"},{"$f":"B9610","v":0}]
[{"$f":"A9627+TIME(0,15,0)","v":"1900-04-11T06:30:00"},{"$f":"B9626","v":0}]
[{"$f":"A9643+TIME(0,15,0)","v":"1900-04-11T10:30:00"},{"$f":"B9642","v":0}]
[{"$f":"A9662+TIME(0,15,0)","v":"1900-04-11T15:15:00"},{"$f":"B9662","v":0}]
[{"$f":"A9663+TIME(0,15,0)","v":"1900-04-11T15:30:00"},{"$f":"B9662","v":0}]
[{"$f":"A9680+TIME(0,15,0)","v":"1900-04-11T19:45:00"},{"$f":"B9678","v":0}]
[{"$f":"DATE($C$2429,$D$2429,$E$2429) + TIME($F$2429,0,0)","v":"1900-04-12T03:00:00"},{"$f":"IF(A9710<'PV Data'!$H$10,0,SUMIFS('PV Data'!D:D,'PV Data'!A:A,MONTH(Conversions!A9710),'PV Data'!B:B,DAY(Conversions!A9710),'PV Data'!C:C,HOUR(Conversions!A9710))/1000)","v":0}]
[{"$f":"A9715+TIME(0,15,0)","v":"1900-04-12T04:30:00"},{"$f":"B9714","v":0}]
[{"$f":"A9732+TIME(0,15,0)","v":"1900-04-12T08:45:00"},{"$f":"B9730","v":0}]
[{"$f":"A9759+TIME(0,15,0)","v":"1900-04-12T15:30:00"},{"$f":"B9758","v":0}]
[{"$f":"A9767+TIME(0,15,0)","v":"1900-04-12T17:30:00"},{"$f":"B9766","v":0}]
[{"$f":"A9784+TIME(0,15,0)","v":"1900-04-12T21:45:00"},{"$f":"B9782","v":0}]
[{"$f":"DATE($C$2452,$D$2452,$E$2452) + TIME($F$2452,0,0)","v":"1900-04-13T02:00:00"},{"$f":"IF(A9802<'PV Data'!$H$10,0,SUMIFS('PV Data'!D:D,'PV Data'!A:A,MONTH(Conversions!A9802),'PV Data'!B:B,DAY(Conversions!A9802),'PV Data'!C:C,HOUR(Conversions!A9802))/1000)","v":0}]
[{"$f":"DATE($C$2454,$D$2454,$E$2454) + TIME($F$2454,0,0)","v":"1900-04-13T04:00:00"},{"$f":"IF(A9810<'PV Data'!$H$10,0,SUMIFS('PV Data'!D:D,'PV Data'!A:A,MONTH(Conversions!A9810),'PV Data'!B:B,DAY(Conversions!A9810),'PV Data'!C:C,HOUR(Conversions!A9810))/1000)","v":0}]
[{"$f":"A9836+TIME(0,15,0)","v":"1900-04-13T10:45:00"},{"$f":"B9834","v":0}]
[{"$f":"DATE($C$2465,$D$2465,$E$2465) + TIME($F$2465,0,0)","v":"1900-04-13T15:00:00"},{"$f":"IF(A9854<'PV Data'!$H$10,0,SUMIFS('PV Data'!D:D,'PV Data'!A:A,MONTH(Conversions!A9854),'PV Data'!B:B,DAY(Conversions!A9854),'PV Data'!C:C,HOUR(Conversions!A9854))/1000)","v":0}]
[{"$f":"A9870+TIME(0,15,0)","v":"1900-04-13T19:15:00"},{"$f":"B9870","v":0}]
[{"$f":"A9875+TIME(0,15,0)","v":"1900-04-13T20:30:00"},{"$f":"B9874","v":0}]
[{"$f":"DATE($C$2478,$D$2478,$E$2478) + TIME($F$2478,0,0)","v":"1900-04-14T04:00:00"},{"$f":"IF(A9906<'PV Data'!$H$10,0,SUMIFS('PV Data'!D:D,'PV Data'!A:A,MONTH(Conversions!A9906),'PV Data'!B:B,DAY(Conversions!A9906),'PV Data'!C:C,HOUR(Conversions!A9906))/1000)","v":0}]
[{"$f":"A9922+TIME(0,15,0)","v":"1900-04-14T08:15:00"},{"$f":"B9922","v":0}]
[{"$f":"A9926+TIME(0,15,0)","v":"1900-04-14T09:15:00"},{"$f":"B9926","v":0}]
[{"$f":"DATE($C$2487,$D$2487,$E$2487) + TIME($F$2487,0,0)","v":"1900-04-14T13:00:00"},{"$f":"IF(A9942<'PV Data'!$H$10,0,SUMIFS('PV Data'!D:D,'PV Data'!A:A,MONTH(Conversions!A9942),'PV Data'!B:B,DAY(Conversions!A9942),'PV Data'!C:C,HOUR(Conversions!A9942))/1000)","v":0}]
[{"$f":"A9958+TIME(0,15,0)","v":"1900-04-14T17:15:00"},{"$f":"B9958","v":0}]
[{"$f":"A9975+TIME(0,15,0)","v":"1900-04-14T21:30:00"},{"$f":"B9974","v":0}]
[{"$f":"A9992+TIME(0,15,0)","v":"1900-04-15T01:45:00"},{"$f":"B9990","v":0}]
[{"$f":"A10010+TIME(0,15,0)","v":"1900-04-15T06:15:00"},{"$f":"B10010","v":0}]
[{"$f":"A10027+TIME(0,15,0)","v":"1900-04-15T10:30:00"},{"$f":"B10026","v":0}]
[{"$f":"A10044+TIME(0,15,0)","v":"1900-04-15T14:45:00"},{"$f":"B10042","v":0}]
[{"$f":"A10059+TIME(0,15,0)","v":"1900-04-15T18:30:00"},{"$f":"B10058","v":0}]
[{"$f":"A10079+TIME(0,15,0)","v":"1900-04-15T23:30:00"},{"$f":"B10078","v":0}]
[{"$f":"A10096+TIME(0,15,0)","v":"1900-04-16T03:45:00"},{"$f":"B10094","v":0}]
[{"$f":"DATE($C$2530,$D$2530,$E$2530) + TIME($F$2530,0,0)","v":"1900-04-16T08:00:00"},{"$f":"IF(A10114<'PV Data'!$H$10,0,SUMIFS('PV Data'!D:D,'PV Data'!A:A,MONTH(Conversions!A10114),'PV Data'!B:B,DAY(Conversions!A10114),'PV Data'!C:C,HOUR(Conversions!A10114))/1000)","v":0}]
[{"$f":"DATE($C$2533,$D$2533,$E$2533) + TIME($F$2533,0,0)","v":"1900-04-16T11:00:00"},{"$f":"IF(A10126<'PV Data'!$H$10,0,SUMIFS('PV Data'!D:D,'PV Data'!A:A,MONTH(Conversions!A10126),'PV Data'!B:B,DAY(Conversions!A10126),'PV Data'!C:C,HOUR(Conversions!A10126))/1000)","v":0}]
[{"$f":"A10148+TIME(0,15,0)","v":"1900-04-16T16:45:00"},{"$f":"B10146","v":0}]
[{"$f":"DATE($C$2543,$D$2543,$E$2543) + TIME($F$2543,0,0)","v":"1900-04-16T21:00:00"},{"$f":"IF(A10166<'PV Data'!$H$10,0,SUMIFS('PV Data'!D:D,'PV Data'!A:A,MONTH(Conversions!A10166),'PV Data'!B:B,DAY(Conversions!A10166),'PV Data'!C:C,HOUR(Conversions!A10166))/1000)","v":0}]
[{"$f":"A10175+TIME(0,15,0)","v":"1900-04-16T23:30:00"},{"$f":"B10174","v":0}]
[{"$f":"A10184+TIME(0,15,0)","v":"1900-04-17T01:45:00"},{"$f":"B10182","v":0}]
[{"$f":"DATE($C$2552,$D$2552,$E$2552) + TIME($F$2552,0,0)","v":"1900-04-17T06:00:00"},{"$f":"IF(A10202<'PV Data'!$H$10,0,SUMIFS('PV Data'!D:D,'PV Data'!A:A,MONTH(Conversions!A10202),'PV Data'!B:B,DAY(Conversions!A10202),'PV Data'!C:C,HOUR(Conversions!A10202))/1000)","v":0}]
[{"$f":"A10218+TIME(0,15,0)","v":"1900-04-17T10:15:00"},{"$f":"B10218","v":0}]
[{"$f":"A10242+TIME(0,15,0)","v":"1900-04-17T16:15:00"},{"$f":"B10242","v":0}]
[{"$f":"DATE($C$2565,$D$2565,$E$2565) + TIME($F$2565,0,0)","v":"1900-04-17T19:00:00"},{"$f":"IF(A10254<'PV Data'!$H$10,0,SUMIFS('PV Data'!D:D,'PV Data'!A:A,MONTH(Conversions!A10254),'PV Data'!B:B,DAY(Conversions!A10254),'PV Data'!C:C,HOUR(Conversions!A10254))/1000)","v":0}]
[{"$f":"A10270+TIME(0,15,0)","v":"1900-04-17T23:15:00"},{"$f":"B10270","v":0}]
[{"$f":"A10287+TIME(0,15,0)","v":"1900-04-18T03:30:00"},{"$f":"B10286","v":0}]
[{"$f":"A10308+TIME(0,15,0)","v":"1900-04-18T08:45:00"},{"$f":"B10306","v":0}]
[{"$f":"A10322+TIME(0,15,0)","v":"1900-04-18T12:15:00"},{"$f":"B10322","v":0}]
[{"$f":"A10339+TIME(0,15,0)","v":"1900-04-18T16:30:00"},{"$f":"B10338","v":0}]
[{"$f":"A10358+TIME(0,15,0)","v":"1900-04-18T21:15:00"},{"$f":"B10358","v":0}]
[{"$f":"A10374+TIME(0,15,0)","v":"1900-04-19T01:15:00"},{"$f":"B10374","v":0}]
[{"$f":"A10391+TIME(0,15,0)","v":"1900-04-19T05:30:00"},{"$f":"B10390","v":0}]
[{"$f":"A10408+TIME(0,15,0)","v":"1900-04-19T09:45:00"},{"$f":"B10406","v":0}]
[{"$f":"DATE($C$2608,$D$2608,$E$2608) + TIME($F$2608,0,0)","v":"1900-04-19T14:00:00"},{"$f":"IF(A10426<'PV Data'!$H$10,0,SUMIFS('PV Data'!D:D,'PV Data'!A:A,MONTH(Conversions!A10426),'PV Data'!B:B,DAY(Conversions!A10426),'PV Data'!C:C,HOUR(Conversions!A10426))/1000)","v":0}]
[{"$f":"A10443+TIME(0,15,0)","v":"1900-04-19T18:30:00"},{"$f":"B10442","v":0}]
[{"$f":"A10444+TIME(0,15,0)","v":"1900-04-19T18:45:00"},{"$f":"B10442","v":0}]
[{"$f":"DATE($C$2617,$D$2617,$E$2617) + TIME($F$2617,0,0)","v":"1900-04-19T23:00:00"},{"$f":"IF(A10462<'PV Data'!$H$10,0,SUMIFS('PV Data'!D:D,'PV Data'!A:A,MONTH(Conversions!A10462),'PV Data'!B:B,DAY(Conversions!A10462),'PV Data'!C:C,HOUR(Conversions!A10462))/1000)","v":0}]
[{"$f":"A10492+TIME(0,15,0)","v":"1900-04-20T06:45:00"},{"$f":"B10490","v":0}]
[{"$f":"A10496+TIME(0,15,0)","v":"1900-04-20T07:45:00"},{"$f":"B10494","v":0}]
[{"$f":"DATE($C$2630,$D$2630,$E$2630) + TIME($F$2630,0,0)","v":"1900-04-20T12:00:00"},{"$f":"IF(A10514<'PV Data'!$H$10,0,SUMIFS('PV Data'!D:D,'PV Data'!A:A,MONTH(Conversions!A10514),'PV Data'!B:B,DAY(Conversions!A10514),'PV Data'!C:C,HOUR(Conversions!A10514))/1000)","v":0}]
[{"$f":"DATE($C$2633,$D$2633,$E$2633) + TIME($F$2633,0,0)","v":"1900-04-20T15:00:00"},{"$f":"IF(A10526<'PV Data'!$H$10,0,SUMIFS('PV Data'!D:D,'PV Data'!A:A,MONTH(Conversions!A10526),'PV Data'!B:B,DAY(Conversions!A10526),'PV Data'!C:C,HOUR(Conversions!A10526))/1000)","v":0}]
[{"$f":"A10548+TIME(0,15,0)","v":"1900-04-20T20:45:00"},{"$f":"B10546","v":0}]
[{"$f":"DATE($C$2643,$D$2643,$E$2643) + TIME($F$2643,0,0)","v":"1900-04-21T01:00:00"},{"$f":"IF(A10566<'PV Data'!$H$10,0,SUMIFS('PV Data'!D:D,'PV Data'!A:A,MONTH(Conversions!A10566),'PV Data'!B:B,DAY(Conversions!A10566),'PV Data'!C:C,HOUR(Conversions!A10566))/1000)","v":0}]
[{"$f":"A10582+TIME(0,15,0)","v":"1900-04-21T05:15:00"},{"$f":"B10582","v":0}]
[{"$f":"A10591+TIME(0,15,0)","v":"1900-04-21T07:30:00"},{"$f":"B10590","v":0}]
[{"$f":"DATE($C$2656,$D$2656,$E$2656) + TIME($F$2656,0,0)","v":"1900-04-21T14:00:00"},{"$f":"IF(A10618<'PV Data'!$H$10,0,SUMIFS('PV Data'!D:D,'PV Data'!A:A,MONTH(Conversions!A10618),'PV Data'!B:B,DAY(Conversions!A10618),'PV Data'!C:C,HOUR(Conversions!A10618))/1000)","v":0}]
[{"$f":"A10634+TIME(0,15,0)","v":"1900-04-21T18:15:00"},{"$f":"B10634","v":0}]
[{"$f":"A10651+TIME(0,15,0)","v":"1900-04-21T22:30:00"},{"$f":"B10650","v":0}]
[{"$f":"A10658+TIME(0,15,0)","v":"1900-04-22T00:15:00"},{"$f":"B10658","v":0}]
[{"$f":"A10686+TIME(0,15,0)","v":"1900-04-22T07:15:00"},{"$f":"B10686","v":0}]
[{"$f":"A10703+TIME(0,15,0)","v":"1900-04-22T11:30:00"},{"$f":"B10702","v":0}]
[{"$f":"A10704+TIME(0,15,0)","v":"1900-04-22T11:45:00"},{"$f":"B10702","v":0}]
[{"$f":"A10724+TIME(0,15,0)","v":"1900-04-22T16:45:00"},{"$f":"B10722","v":0}]
[{"$f":"A10739+TIME(0,15,0)","v":"1900-04-22T20:30:00"},{"$f":"B10738","v":0}]
[{"$f":"A10756+TIME(0,15,0)","v":"1900-04-23T00:45:00"},{"$f":"B10754","v":0}]
[{"$f":"A10774+TIME(0,15,0)","v":"1900-04-23T05:15:00"},{"$f":"B10774","v":0}]
[{"$f":"A10791+TIME(0,15,0)","v":"1900-04-23T09:30:00"},{"$f":"B10790","v":0}]
[{"$f":"A10808+TIME(0,15,0)","v":"1900-04-23T13:45:00"},{"$f":"B10806","v":0}]
[{"$f":"DATE($C$2708,$D$2708,$E$2708) + TIME($F$2708,0,0)","v":"1900-04-23T18:00:00"},{"$f":"IF(A10826<'PV Data'!$H$10,0,SUMIFS('PV Data'!D:D,'PV Data'!A:A,MONTH(Conversions!A10826),'PV Data'!B:B,DAY(Conversions!A10826),'PV Data'!C:C,HOUR(Conversions!A10826))/1000)","v":0}]
[{"$f":"DATE($C$2712,$D$2712,$E$2712) + TIME($F$2712,0,0)","v":"1900-04-23T22:00:00"},{"$f":"IF(A10842<'PV Data'!$H$10,0,SUMIFS('PV Data'!D:D,'PV Data'!A:A,MONTH(Conversions!A10842),'PV Data'!B:B,DAY(Conversions!A10842),'PV Data'!C:C,HOUR(Conversions!A10842))/1000)","v":0}]
[{"$f":"A10860+TIME(0,15,0)","v":"1900-04-24T02:45:00"},{"$f":"B10858","v":0}]
[{"$f":"DATE($C$2721,$D$2721,$E$2721) + TIME($F$2721,0,0)","v":"1900-04-24T07:00:00"},{"$f":"IF(A10878<'PV Data'!$H$10,0,SUMIFS('PV Data'!D:D,'PV Data'!A:A,MONTH(Conversions!A10878),'PV Data'!B:B,DAY(Conversions!A10878),'PV Data'!C:C,HOUR(Conversions!A10878))/1000)","v":0}]
[{"$f":"A10894+TIME(0,15,0)","v":"1900-04-24T11:15:00"},{"$f":"B10894","v":0}]
[{"$f":"A10907+TIME(0,15,0)","v":"1900-04-24T14:30:00"},{"$f":"B10906","v":0}]
[{"$f":"DATE($C$2734,$D$2734,$E$2734) + TIME($F$2734,0,0)","v":"1900-04-24T20:00:00"},{"$f":"IF(A10930<'PV Data'!$H$10,0,SUMIFS('PV Data'!D:D,'PV Data'!A:A,MONTH(Conversions!A10930),'PV Data'!B:B,DAY(Conversions!A10930),'PV Data'!C:C,HOUR(Conversions!A10930))/1000)","v":0}]
[{"$f":"A10946+TIME(0,15,0)","v":"1900-04-25T00:15:00"},{"$f":"B10946","v":0}]
[{"$f":"A10958+TIME(0,15,0)","v":"1900-04-25T03:15:00"},{"$f":"B10958","v":0}]
[{"$f":"DATE($C$2743,$D$2743,$E$2743) + TIME($F$2743,0,0)","v":"1900-04-25T05:00:00"},{"$f":"IF(A10966<'PV Data'!$H$10,0,SUMIFS('PV Data'!D:D,'PV Data'!A:A,MONTH(Conversions!A10966),'PV Data'!B:B,DAY(Conversions!A10966),'PV Data'!C:C,HOUR(Conversions!A10966))/1000)","v":0}]
[{"$f":"A10982+TIME(0,15,0)","v":"1900-04-25T09:15:00"},{"$f":"B10982","v":0}]
[{"$f":"A10999+TIME(0,15,0)","v":"1900-04-25T13:30:00"},{"$f":"B10998","v":0}]
[{"$f":"A11024+TIME(0,15,0)","v":"1900-04-25T19:45:00"},{"$f":"B11022","v":0}]
[{"$f":"A11034+TIME(0,15,0)","v":"1900-04-25T22:15:00"},{"$f":"B11034","v":0}]
[{"$f":"A11051+TIME(0,15,0)","v":"1900-04-26T02:30:00"},{"$f":"B11050","v":0}]
[{"$f":"A11068+TIME(0,15,0)","v":"1900-04-26T06:45:00"},{"$f":"B11066","v":0}]
[{"$f":"A11091+TIME(0,15,0)","v":"1900-04-26T12:30:00"},{"$f":"B11090","v":0}]
[{"$f":"A11103+TIME(0,15,0)","v":"1900-04-26T15:30:00"},{"$f":"B11102","v":0}]
[{"$f":"A11120+TIME(0,15,0)","v":"1900-04-26T19:45:00"},{"$f":"B11118","v":0}]
[{"$f":"DATE($C$2787,$D$2787,$E$2787) + TIME($F$2787,0,0)","v":"1900-04-27T01:00:00"},{"$f":"IF(A11142<'PV Data'!$H$10,0,SUMIFS('PV Data'!D:D,'PV Data'!A:A,MONTH(Conversions!A11142),'PV Data'!B:B,DAY(Conversions!A11142),'PV Data'!C:C,HOUR(Conversions!A11142))/1000)","v":0}]
[{"$f":"A11155+TIME(0,15,0)","v":"1900-04-27T04:30:00"},{"$f":"B11154","v":0}]
[{"$f":"A11172+TIME(0,15,0)","v":"1900-04-27T08:45:00"},{"$f":"B11170","v":0}]
[{"$f":"DATE($C$2799,$D$2799,$E$2799) + TIME($F$2799,0,0)","v":"1900-04-27T13:00:00"},{"$f":"IF(A11190<'PV Data'!$H$10,0,SUMIFS('PV Data'!D:D,'PV Data'!A:A,MONTH(Conversions!A11190),'PV Data'!B:B,DAY(Conversions!A11190),'PV Data'!C:C,HOUR(Conversions!A11190))/1000)","v":0}]
[{"$f":"A11207+TIME(0,15,0)","v":"1900-04-27T17:30:00"},{"$f":"B11206","v":0}]
[{"$f":"A11224+TIME(0,15,0)","v":"1900-04-27T21:45:00"},{"$f":"B11222","v":0}]
[{"$f":"DATE($C$2808,$D$2808,$E$2808) + TIME($F$2808,0,0)","v":"1900-04-27T22:00:00"},{"$f":"IF(A11226<'PV Data'!$H$10,0,SUMIFS('PV Data'!D:D,'PV Data'!A:A,MONTH(Conversions!A11226),'PV Data'!B:B,DAY(Conversions!A11226),'PV Data'!C:C,HOUR(Conversions!A11226))/1000)","v":0}]
[{"$f":"A11242+TIME(0,15,0)","v":"1900-04-28T02:15:00"},{"$f":"B11242","v":0}]
[{"$f":"DATE($C$2816,$D$2816,$E$2816) + TIME($F$2816,0,0)","v":"1900-04-28T06:00:00"},{"$f":"IF(A11258<'PV Data'!$H$10,0,SUMIFS('PV Data'!D:D,'PV Data'!A:A,MONTH(Conversions!A11258),'PV Data'!B:B,DAY(Conversions!A11258),'PV Data'!C:C,HOUR(Conversions!A11258))/1000)","v":0}]
[{"$f":"DATE($C$2821,$D$2821,$E$2821) + TIME($F$2821,0,0)","v":"1900-04-28T11:00:00"},{"$f":"IF(A11278<'PV Data'!$H$10,0,SUMIFS('PV Data'!D:D,'PV Data'!A:A,MONTH(Conversions!A11278),'PV Data'!B:B,DAY(Conversions!A11278),'PV Data'!C:C,HOUR(Conversions!A11278))/1000)","v":0}]
[{"$f":"A11294+TIME(0,15,0)","v":"1900-04-28T15:15:00"},{"$f":"B11294","v":0}]
[{"$f":"A11311+TIME(0,15,0)","v":"1900-04-28T19:30:00"},{"$f":"B11310","v":0}]
[{"$f":"A11323+TIME(0,15,0)","v":"1900-04-28T22:30:00"},{"$f":"B11322","v":0}]
[{"$f":"A11346+TIME(0,15,0)","v":"1900-04-29T04:15:00"},{"$f":"B11346","v":0}]
[{"$f":"A11363+TIME(0,15,0)","v":"1900-04-29T08:30:00"},{"$f":"B11362","v":0}]
[{"$f":"A11374+TIME(0,15,0)","v":"1900-04-29T11:15:00"},{"$f":"B11374","v":0}]
[{"$f":"A11398+TIME(0,15,0)","v":"1900-04-29T17:15:00"},{"$f":"B11398","v":0}]
[{"$f":"A11415+TIME(0,15,0)","v":"1900-04-29T21:30:00"},{"$f":"B11414","v":0}]
[{"$f":"A11432+TIME(0,15,0)","v":"1900-04-30T01:45:00"},{"$f":"B11430","v":0}]
[{"$f":"A11440+TIME(0,15,0)","v":"1900-04-30T03:45:00"},{"$f":"B11438","v":0}]
[{"$f":"A11467+TIME(0,15,0)","v":"1900-04-30T10:30:00"},{"$f":"B11466","v":0}]
[{"$f":"A11484+TIME(0,15,0)","v":"1900-04-30T14:45:00"},{"$f":"B11482","v":0}]
[{"$f":"DATE($C$2873,$D$2873,$E$2873) + TIME($F$2873,0,0)","v":"1900-04-30T15:00:00"},{"$f":"IF(A11486<'PV Data'!$H$10,0,SUMIFS('PV Data'!D:D,'PV Data'!A:A,MONTH(Conversions!A11486),'PV Data'!B:B,DAY(Conversions!A11486),'PV Data'!C:C,HOUR(Conversions!A11486))/1000)","v":0}]
[{"$f":"A11507+TIME(0,15,0)","v":"1900-04-30T20:30:00"},{"$f":"B11506","v":0}]
[{"$f":"A11520+TIME(0,15,0)","v":"1900-04-30T23:45:00"},{"$f":"B11518","v":0}]
[{"$f":"DATE($C$2886,$D$2886,$E$2886) + TIME($F$2886,0,0)","v":"1900-05-01T04:00:00"},{"$f":"IF(A11538<'PV Data'!$H$10,0,SUMIFS('PV Data'!D:D,'PV Data'!A:A,MONTH(Conversions!A11538),'PV Data'!B:B,DAY(Conversions!A11538),'PV Data'!C:C,HOUR(Conversions!A11538))/1000)","v":0}]
[{"$f":"DATE($C$2891,$D$2891,$E$2891) + TIME($F$2891,0,0)","v":"1900-05-01T09:00:00"},{"$f":"IF(A11558<'PV Data'!$H$10,0,SUMIFS('PV Data'!D:D,'PV Data'!A:A,MONTH(Conversions!A11558),'PV Data'!B:B,DAY(Conversions!A11558),'PV Data'!C:C,HOUR(Conversions!A11558))/1000)","v":0}]
[{"$f":"A11572+TIME(0,15,0)","v":"1900-05-01T12:45:00"},{"$f":"B11570","v":0}]
[{"$f":"DATE($C$2899,$D$2899,$E$2899) + TIME($F$2899,0,0)","v":"1900-05-01T17:00:00"},{"$f":"IF(A11590<'PV Data'!$H$10,0,SUMIFS('PV Data'!D:D,'PV Data'!A:A,MONTH(Conversions!A11590),'PV Data'!B:B,DAY(Conversions!A11590),'PV Data'!C:C,HOUR(Conversions!A11590))/1000)","v":0}]
[{"$f":"A11606+TIME(0,15,0)","v":"1900-05-01T21:15:00"},{"$f":"B11606","v":0}]
[{"$f":"A11623+TIME(0,15,0)","v":"1900-05-02T01:30:00"},{"$f":"B11622","v":0}]
[{"$f":"DATE($C$2912,$D$2912,$E$2912) + TIME($F$2912,0,0)","v":"1900-05-02T06:00:00"},{"$f":"IF(A11642<'PV Data'!$H$10,0,SUMIFS('PV Data'!D:D,'PV Data'!A:A,MONTH(Conversions!A11642),'PV Data'!B:B,DAY(Conversions!A11642),'PV Data'!C:C,HOUR(Conversions!A11642))/1000)","v":0}]
[{"$f":"A11658+TIME(0,15,0)","v":"1900-05-02T10:15:00"},{"$f":"B11658","v":0}]
[{"$f":"A11675+TIME(0,15,0)","v":"1900-05-02T14:30:00"},{"$f":"B11674","v":0}]
[{"$f":"A11690+TIME(0,15,0)","v":"1900-05-02T18:15:00"},{"$f":"B11690","v":0}]
[{"$f":"A11710+TIME(0,15,0)","v":"1900-05-02T23:15:00"},{"$f":"B11710","v":0}]
[{"$f":"A11727+TIME(0,15,0)","v":"1900-05-03T03:30:00"},{"$f":"B11726","v":0}]
[{"$f":"A11740+TIME(0,15,0)","v":"1900-05-03T06:45:00"},{"$f":"B11738","v":0}]
[{"$f":"A11746+TIME(0,15,0)","v":"1900-05-03T08:15:00"},{"$f":"B11746","v":0}]
[{"$f":"A11763+TIME(0,15,0)","v":"1900-05-03T12:30:00"},{"$f":"B11762","v":0}]
[{"$f":"A11780+TIME(0,15,0)","v":"1900-05-03T16:45:00"},{"$f":"B11778","v":0}]
[{"$f":"A11806+TIME(0,15,0)","v":"1900-05-03T23:15:00"},{"$f":"B11806","v":0}]
[{"$f":"A11815+TIME(0,15,0)","v":"1900-05-04T01:30:00"},{"$f":"B11814","v":0}]
[{"$f":"A11832+TIME(0,15,0)","v":"1900-05-04T05:45:00"},{"$f":"B11830","v":0}]
[{"$f":"DATE($C$2964,$D$2964,$E$2964) + TIME($F$2964,0,0)","v":"1900-05-04T10:00:00"},{"$f":"IF(A11850<'PV Data'!$H$10,0,SUMIFS('PV Data'!D:D,'PV Data'!A:A,MONTH(Conversions!A11850),'PV Data'!B:B,DAY(Conversions!A11850),'PV Data'!C:C,HOUR(Conversions!A11850))/1000)","v":0}]
[{"$f":"DATE($C$2970,$D$2970,$E$2970) + TIME($F$2970,0,0)","v":"1900-05-04T16:00:00"},{"$f":"IF(A11874<'PV Data'!$H$10,0,SUMIFS('PV Data'!D:D,'PV Data'!A:A,MONTH(Conversions!A11874),'PV Data'!B:B,DAY(Conversions!A11874),'PV Data'!C:C,HOUR(Conversions!A11874))/1000)","v":0}]
[{"$f":"A11884+TIME(0,15,0)","v":"1900-05-04T18:45:00"},{"$f":"B11882","v":0}]
[{"$f":"DATE($C$2977,$D$2977,$E$2977) + TIME($F$2977,0,0)","v":"1900-05-04T23:00:00"},{"$f":"IF(A11902<'PV Data'!$H$10,0,SUMIFS('PV Data'!D:D,'PV Data'!A:A,MONTH(Conversions!A11902),'PV Data'!B:B,DAY(Conversions!A11902),'PV Data'!C:C,HOUR(Conversions!A11902))/1000)","v":0}]
[{"$f":"A11923+TIME(0,15,0)","v":"1900-05-05T04:30:00"},{"$f":"B11922","v":0}]
[{"$f":"A11936+TIME(0,15,0)","v":"1900-05-05T07:45:00"},{"$f":"B11934","v":0}]
[{"$f":"DATE($C$2990,$D$2990,$E$2990) + TIME($F$2990,0,0)","v":"1900-05-05T12:00:00"},{"$f":"IF(A11954<'PV Data'!$H$10,0,SUMIFS('PV Data'!D:D,'PV Data'!A:A,MONTH(Conversions!A11954),'PV Data'!B:B,DAY(Conversions!A11954),'PV Data'!C:C,HOUR(Conversions!A11954))/1000)","v":0}]
[{"$f":"A11970+TIME(0,15,0)","v":"1900-05-05T16:15:00"},{"$f":"B11970","v":0}]
[{"$f":"DATE($C$2995,$D$2995,$E$2995) + TIME($F$2995,0,0)","v":"1900-05-05T17:00:00"},{"$f":"IF(A11974<'PV Data'!$H$10,0,SUMIFS('PV Data'!D:D,'PV Data'!A:A,MONTH(Conversions!A11974),'PV Data'!B:B,DAY(Conversions!A11974),'PV Data'!C:C,HOUR(Conversions!A11974))/1000)","v":0}]
[{"$f":"DATE($C$3003,$D$3003,$E$3003) + TIME($F$3003,0,0)","v":"1900-05-06T01:00:00"},{"$f":"IF(A12006<'PV Data'!$H$10,0,SUMIFS('PV Data'!D:D,'PV Data'!A:A,MONTH(Conversions!A12006),'PV Data'!B:B,DAY(Conversions!A12006),'PV Data'!C:C,HOUR(Conversions!A12006))/1000)","v":0}]
[{"$f":"A12006+TIME(0,15,0)","v":"1900-05-06T01:15:00"},{"$f":"B12006","v":0}]
[{"$f":"A12023+TIME(0,15,0)","v":"1900-05-06T05:30:00"},{"$f":"B12022","v":0}]
[{"$f":"A12039+TIME(0,15,0)","v":"1900-05-06T09:30:00"},{"$f":"B12038","v":0}]
[{"$f":"A12058+TIME(0,15,0)","v":"1900-05-06T14:15:00"},{"$f":"B12058","v":0}]
[{"$f":"A12075+TIME(0,15,0)","v":"1900-05-06T18:30:00"},{"$f":"B12074","v":0}]
[{"$f":"A12092+TIME(0,15,0)","v":"1900-05-06T22:45:00"},{"$f":"B12090","v":0}]
[{"$f":"A12106+TIME(0,15,0)","v":"1900-05-07T02:15:00"},{"$f":"B12106","v":0}]
[{"$f":"A12127+TIME(0,15,0)","v":"1900-05-07T07:30:00"},{"$f":"B12126","v":0}]
[{"$f":"A12144+TIME(0,15,0)","v":"1900-05-07T11:45:00"},{"$f":"B12142","v":0}]
[{"$f":"A12156+TIME(0,15,0)","v":"1900-05-07T14:45:00"},{"$f":"B12154","v":0}]
[{"$f":"A12179+TIME(0,15,0)","v":"1900-05-07T20:30:00"},{"$f":"B12178","v":0}]
[{"$f":"A12196+TIME(0,15,0)","v":"1900-05-08T00:45:00"},{"$f":"B12194","v":0}]
[{"$f":"DATE($C$3055,$D$3055,$E$3055) + TIME($F$3055,0,0)","v":"1900-05-08T05:00:00"},{"$f":"IF(A12214<'PV Data'!$H$10,0,SUMIFS('PV Data'!D:D,'PV Data'!A:A,MONTH(Conversions!A12214),'PV Data'!B:B,DAY(Conversions!A12214),'PV Data'!C:C,HOUR(Conversions!A12214))/1000)","v":0}]
[{"$f":"A12222+TIME(0,15,0)","v":"1900-05-08T07:15:00"},{"$f":"B12222","v":0}]
[{"$f":"A12248+TIME(0,15,0)","v":"1900-05-08T13:45:00"},{"$f":"B12246","v":0}]
[{"$f":"DATE($C$3068,$D$3068,$E$3068) + TIME($F$3068,0,0)","v":"1900-05-08T18:00:00"},{"$f":"IF(A12266<'PV Data'!$H$10,0,SUMIFS('PV Data'!D:D,'PV Data'!A:A,MONTH(Conversions!A12266),'PV Data'!B:B,DAY(Conversions!A12266),'PV Data'!C:C,HOUR(Conversions!A12266))/1000)","v":0}]
[{"$f":"A12266+TIME(0,15,0)","v":"1900-05-08T18:15:00"},{"$f":"B12266","v":0}]
[{"$f":"DATE($C$3074,$D$3074,$E$3074) + TIME($F$3074,0,0)","v":"1900-05-09"},{"$f":"IF(A12290<'PV Data'!$H$10,0,SUMIFS('PV Data'!D:D,'PV Data'!A:A,MONTH(Conversions!A12290),'PV Data'!B:B,DAY(Conversions!A12290),'PV Data'!C:C,HOUR(Conversions!A12290))/1000)","v":0}]
[{"$f":"DATE($C$3077,$D$3077,$E$3077) + TIME($F$3077,0,0)","v":"1900-05-09T03:00:00"},{"$f":"IF(A12302<'PV Data'!$H$10,0,SUMIFS('PV Data'!D:D,'PV Data'!A:A,MONTH(Conversions!A12302),'PV Data'!B:B,DAY(Conversions!A12302),'PV Data'!C:C,HOUR(Conversions!A12302))/1000)","v":0}]
[{"$f":"A12318+TIME(0,15,0)","v":"1900-05-09T07:15:00"},{"$f":"B12318","v":0}]
[{"$f":"A12339+TIME(0,15,0)","v":"1900-05-09T12:30:00"},{"$f":"B12338","v":0}]
[{"$f":"DATE($C$3090,$D$3090,$E$3090) + TIME($F$3090,0,0)","v":"1900-05-09T16:00:00"},{"$f":"IF(A12354<'PV Data'!$H$10,0,SUMIFS('PV Data'!D:D,'PV Data'!A:A,MONTH(Conversions!A12354),'PV Data'!B:B,DAY(Conversions!A12354),'PV Data'!C:C,HOUR(Conversions!A12354))/1000)","v":0}]
[{"$f":"A12370+TIME(0,15,0)","v":"1900-05-09T20:15:00"},{"$f":"B12370","v":0}]
[{"$f":"A12387+TIME(0,15,0)","v":"1900-05-10T00:30:00"},{"$f":"B12386","v":0}]
[{"$f":"A12406+TIME(0,15,0)","v":"1900-05-10T05:15:00"},{"$f":"B12406","v":0}]
[{"$f":"A12422+TIME(0,15,0)","v":"1900-05-10T09:15:00"},{"$f":"B12422","v":0}]
[{"$f":"A12439+TIME(0,15,0)","v":"1900-05-10T13:30:00"},{"$f":"B12438","v":0}]
[{"$f":"A12456+TIME(0,15,0)","v":"1900-05-10T17:45:00"},{"$f":"B12454","v":0}]
[{"$f":"A12472+TIME(0,15,0)","v":"1900-05-10T21:45:00"},{"$f":"B12470","v":0}]
[{"$f":"A12491+TIME(0,15,0)","v":"1900-05-11T02:30:00"},{"$f":"B12490","v":0}]
[{"$f":"A12508+TIME(0,15,0)","v":"1900-05-11T06:45:00"},{"$f":"B12506","v":0}]
[{"$f":"A12522+TIME(0,15,0)","v":"1900-05-11T10:15:00"},{"$f":"B12522","v":0}]
[{"$f":"A12527+TIME(0,15,0)","v":"1900-05-11T11:30:00"},{"$f":"B12526","v":0}]
[{"$f":"A12544+TIME(0,15,0)","v":"1900-05-11T15:45:00"},{"$f":"B12542","v":0}]
[{"$f":"DATE($C$3142,$D$3142,$E$3142) + TIME($F$3142,0,0)","v":"1900-05-11T20:00:00"},{"$f":"IF(A12562<'PV Data'!$H$10,0,SUMIFS('PV Data'!D:D,'PV Data'!A:A,MONTH(Conversions!A12562),'PV Data'!B:B,DAY(Conversions!A12562),'PV Data'!C:C,HOUR(Conversions!A12562))/1000)","v":0}]
[{"$f":"DATE($C$3149,$D$3149,$E$3149) + TIME($F$3149,0,0)","v":"1900-05-12T03:00:00"},{"$f":"IF(A12590<'PV Data'!$H$10,0,SUMIFS('PV Data'!D:D,'PV Data'!A:A,MONTH(Conversions!A12590),'PV Data'!B:B,DAY(Conversions!A12590),'PV Data'!C:C,HOUR(Conversions!A12590))/1000)","v":0}]
[{"$f":"A12596+TIME(0,15,0)","v":"1900-05-12T04:45:00"},{"$f":"B12594","v":0}]
[{"$f":"DATE($C$3155,$D$3155,$E$3155) + TIME($F$3155,0,0)","v":"1900-05-12T09:00:00"},{"$f":"IF(A12614<'PV Data'!$H$10,0,SUMIFS('PV Data'!D:D,'PV Data'!A:A,MONTH(Conversions!A12614),'PV Data'!B:B,DAY(Conversions!A12614),'PV Data'!C:C,HOUR(Conversions!A12614))/1000)","v":0}]
[{"$f":"A12630+TIME(0,15,0)","v":"1900-05-12T13:15:00"},{"$f":"B12630","v":0}]
[{"$f":"A12655+TIME(0,15,0)","v":"1900-05-12T19:30:00"},{"$f":"B12654","v":0}]
[{"$f":"DATE($C$3168,$D$3168,$E$3168) + TIME($F$3168,0,0)","v":"1900-05-12T22:00:00"},{"$f":"IF(A12666<'PV Data'!$H$10,0,SUMIFS('PV Data'!D:D,'PV Data'!A:A,MONTH(Conversions!A12666),'PV Data'!B:B,DAY(Conversions!A12666),'PV Data'!C:C,HOUR(Conversions!A12666))/1000)","v":0}]
[{"$f":"A12682+TIME(0,15,0)","v":"1900-05-13T02:15:00"},{"$f":"B12682","v":0}]
[{"$f":"A12699+TIME(0,15,0)","v":"1900-05-13T06:30:00"},{"$f":"B12698","v":0}]
[{"$f":"DATE($C$3178,$D$3178,$E$3178) + TIME($F$3178,0,0)","v":"1900-05-13T08:00:00"},{"$f":"IF(A12706<'PV Data'!$H$10,0,SUMIFS('PV Data'!D:D,'PV Data'!A:A,MONTH(Conversions!A12706),'PV Data'!B:B,DAY(Conversions!A12706),'PV Data'!C:C,HOUR(Conversions!A12706))/1000)","v":0}]
[{"$f":"A12734+TIME(0,15,0)","v":"1900-05-13T15:15:00"},{"$f":"B12734","v":0}]
[{"$f":"A12751+TIME(0,15,0)","v":"1900-05-13T19:30:00"},{"$f":"B12750","v":0}]
[{"$f":"A12755+TIME(0,15,0)","v":"1900-05-13T20:30:00"},{"$f":"B12754","v":0}]
[{"$f":"A12786+TIME(0,15,0)","v":"1900-05-14T04:15:00"},{"$f":"B12786","v":0}]
[{"$f":"A12787+TIME(0,15,0)","v":"1900-05-14T04:30:00"},{"$f":"B12786","v":0}]
[{"$f":"A12804+TIME(0,15,0)","v":"1900-05-14T08:45:00"},{"$f":"B12802","v":0}]
[{"$f":"A12822+TIME(0,15,0)","v":"1900-05-14T13:15:00"},{"$f":"B12822","v":0}]
[{"$f":"A12839+TIME(0,15,0)","v":"1900-05-14T17:30:00"},{"$f":"B12838","v":0}]
[{"$f":"A12856+TIME(0,15,0)","v":"1900-05-14T21:45:00"},{"$f":"B12854","v":0}]
[{"$f":"DATE($C$3220,$D$3220,$E$3220) + TIME($F$3220,0,0)","v":"1900-05-15T02:00:00"},{"$f":"IF(A12874<'PV Data'!$H$10,0,SUMIFS('PV Data'!D:D,'PV Data'!A:A,MONTH(Conversions!A12874),'PV Data'!B:B,DAY(Conversions!A12874),'PV Data'!C:C,HOUR(Conversions!A12874))/1000)","v":0}]
[{"$f":"A12888+TIME(0,15,0)","v":"1900-05-15T05:45:00"},{"$f":"B12886","v":0}]
[{"$f":"A12908+TIME(0,15,0)","v":"1900-05-15T10:45:00"},{"$f":"B12906","v":0}]
[{"$f":"DATE($C$3233,$D$3233,$E$3233) + TIME($F$3233,0,0)","v":"1900-05-15T15:00:00"},{"$f":"IF(A12926<'PV Data'!$H$10,0,SUMIFS('PV Data'!D:D,'PV Data'!A:A,MONTH(Conversions!A12926),'PV Data'!B:B,DAY(Conversions!A12926),'PV Data'!C:C,HOUR(Conversions!A12926))/1000)","v":0}]
[{"$f":"A12938+TIME(0,15,0)","v":"1900-05-15T18:15:00"},{"$f":"B12938","v":0}]
[{"$f":"A12960+TIME(0,15,0)","v":"1900-05-15T23:45:00"},{"$f":"B12958","v":0}]
[{"$f":"DATE($C$3246,$D$3246,$E$3246) + TIME($F$3246,0,0)","v":"1900-05-16T04:00:00"},{"$f":"IF(A12978<'PV Data'!$H$10,0,SUMIFS('PV Data'!D:D,'PV Data'!A:A,MONTH(Conversions!A12978),'PV Data'!B:B,DAY(Conversions!A12978),'PV Data'!C:C,HOUR(Conversions!A12978))/1000)","v":0}]
[{"$f":"A12994+TIME(0,15,0)","v":"1900-05-16T08:15:00"},{"$f":"B12994","v":0}]
[{"$f":"DATE($C$3253,$D$3253,$E$3253) + TIME($F$3253,0,0)","v":"1900-05-16T11:00:00"},{"$f":"IF(A13006<'PV Data'!$H$10,0,SUMIFS('PV Data'!D:D,'PV Data'!A:A,MONTH(Conversions!A13006),'PV Data'!B:B,DAY(Conversions!A13006),'PV Data'!C:C,HOUR(Conversions!A13006))/1000)","v":0}]
[{"$f":"DATE($C$3259,$D$3259,$E$3259) + TIME($F$3259,0,0)","v":"1900-05-16T17:00:00"},{"$f":"IF(A13030<'PV Data'!$H$10,0,SUMIFS('PV Data'!D:D,'PV Data'!A:A,MONTH(Conversions!A13030),'PV Data'!B:B,DAY(Conversions!A13030),'PV Data'!C:C,HOUR(Conversions!A13030))/1000)","v":0}]
[{"$f":"A13046+TIME(0,15,0)","v":"1900-05-16T21:15:00"},{"$f":"B13046","v":0}]
[{"$f":"A13047+TIME(0,15,0)","v":"1900-05-16T21:30:00"},{"$f":"B13046","v":0}]
[{"$f":"A13071+TIME(0,15,0)","v":"1900-05-17T03:30:00"},{"$f":"B13070","v":0}]
[{"$f":"A13082+TIME(0,15,0)","v":"1900-05-17T06:15:00"},{"$f":"B13082","v":0}]
[{"$f":"A13099+TIME(0,15,0)","v":"1900-05-17T10:30:00"},{"$f":"B13098","v":0}]
[{"$f":"DATE($C$3282,$D$3282,$E$3282) + TIME($F$3282,0,0)","v":"1900-05-17T16:00:00"},{"$f":"IF(A13122<'PV Data'!$H$10,0,SUMIFS('PV Data'!D:D,'PV Data'!A:A,MONTH(Conversions!A13122),'PV Data'!B:B,DAY(Conversions!A13122),'PV Data'!C:C,HOUR(Conversions!A13122))/1000)","v":0}]
[{"$f":"A13134+TIME(0,15,0)","v":"1900-05-17T19:15:00"},{"$f":"B13134","v":0}]
[{"$f":"A13151+TIME(0,15,0)","v":"1900-05-17T23:30:00"},{"$f":"B13150","v":0}]
[{"$f":"A13168+TIME(0,15,0)","v":"1900-05-18T03:45:00"},{"$f":"B13166","v":0}]
[{"$f":"A13188+TIME(0,15,0)","v":"1900-05-18T08:45:00"},{"$f":"B13186","v":0}]
[{"$f":"A13203+TIME(0,15,0)","v":"1900-05-18T12:30:00"},{"$f":"B13202","v":0}]
[{"$f":"A13220+TIME(0,15,0)","v":"1900-05-18T16:45:00"},{"$f":"B13218","v":0}]
[{"$f":"DATE($C$3311,$D$3311,$E$3311) + TIME($F$3311,0,0)","v":"1900-05-18T21:00:00"},{"$f":"IF(A13238<'PV Data'!$H$10,0,SUMIFS('PV Data'!D:D,'PV Data'!A:A,MONTH(Conversions!A13238),'PV Data'!B:B,DAY(Conversions!A13238),'PV Data'!C:C,HOUR(Conversions!A13238))/1000)","v":0}]
[{"$f":"A13254+TIME(0,15,0)","v":"1900-05-19T01:15:00"},{"$f":"B13254","v":0}]
[{"$f":"A13272+TIME(0,15,0)","v":"1900-05-19T05:45:00"},{"$f":"B13270","v":0}]
[{"$f":"DATE($C$3324,$D$3324,$E$3324) + TIME($F$3324,0,0)","v":"1900-05-19T10:00:00"},{"$f":"IF(A13290<'PV Data'!$H$10,0,SUMIFS('PV Data'!D:D,'PV Data'!A:A,MONTH(Conversions!A13290),'PV Data'!B:B,DAY(Conversions!A13290),'PV Data'!C:C,HOUR(Conversions!A13290))/1000)","v":0}]
[{"$f":"A13306+TIME(0,15,0)","v":"1900-05-19T14:15:00"},{"$f":"B13306","v":0}]
[{"$f":"DATE($C$3332,$D$3332,$E$3332) + TIME($F$3332,0,0)","v":"1900-05-19T18:00:00"},{"$f":"IF(A13322<'PV Data'!$H$10,0,SUMIFS('PV Data'!D:D,'PV Data'!A:A,MONTH(Conversions!A13322),'PV Data'!B:B,DAY(Conversions!A13322),'PV Data'!C:C,HOUR(Conversions!A13322))/1000)","v":0}]
[{"$f":"DATE($C$3333,$D$3333,$E$3333) + TIME($F$3333,0,0)","v":"1900-05-19T19:00:00"},{"$f":"IF(A13326<'PV Data'!$H$10,0,SUMIFS('PV Data'!D:D,'PV Data'!A:A,MONTH(Conversions!A13326),'PV Data'!B:B,DAY(Conversions!A13326),'PV Data'!C:C,HOUR(Conversions!A13326))/1000)","v":0}]
[{"$f":"A13342+TIME(0,15,0)","v":"1900-05-19T23:15:00"},{"$f":"B13342","v":0}]
[{"$f":"A13371+TIME(0,15,0)","v":"1900-05-20T06:30:00"},{"$f":"B13370","v":0}]
[{"$f":"DATE($C$3346,$D$3346,$E$3346) + TIME($F$3346,0,0)","v":"1900-05-20T08:00:00"},{"$f":"IF(A13378<'PV Data'!$H$10,0,SUMIFS('PV Data'!D:D,'PV Data'!A:A,MONTH(Conversions!A13378),'PV Data'!B:B,DAY(Conversions!A13378),'PV Data'!C:C,HOUR(Conversions!A13378))/1000)","v":0}]
[{"$f":"A13394+TIME(0,15,0)","v":"1900-05-20T12:15:00"},{"$f":"B13394","v":0}]
[{"$f":"A13411+TIME(0,15,0)","v":"1900-05-20T16:30:00"},{"$f":"B13410","v":0}]
[{"$f":"DATE($C$3357,$D$3357,$E$3357) + TIME($F$3357,0,0)","v":"1900-05-20T19:00:00"},{"$f":"IF(A13422<'PV Data'!$H$10,0,SUMIFS('PV Data'!D:D,'PV Data'!A:A,MONTH(Conversions!A13422),'PV Data'!B:B,DAY(Conversions!A13422),'PV Data'!C:C,HOUR(Conversions!A13422))/1000)","v":0}]
[{"$f":"A13446+TIME(0,15,0)","v":"1900-05-21T01:15:00"},{"$f":"B13446","v":0}]
[{"$f":"A13463+TIME(0,15,0)","v":"1900-05-21T05:30:00"},{"$f":"B13462","v":0}]
[{"$f":"A13480+TIME(0,15,0)","v":"1900-05-21T09:45:00"},{"$f":"B13478","v":0}]
[{"$f":"A13487+TIME(0,15,0)","v":"1900-05-21T11:30:00"},{"$f":"B13486","v":0}]
[{"$f":"A13515+TIME(0,15,0)","v":"1900-05-21T18:30:00"},{"$f":"B13514","v":0}]
[{"$f":"A13532+TIME(0,15,0)","v":"1900-05-21T22:45:00"},{"$f":"B13530","v":0}]
[{"$f":"DATE($C$3386,$D$3386,$E$3386) + TIME($F$3386,0,0)","v":"1900-05-22"},{"$f":"IF(A13538<'PV Data'!$H$10,0,SUMIFS('PV Data'!D:D,'PV Data'!A:A,MONTH(Conversions!A13538),'PV Data'!B:B,DAY(Conversions!A13538),'PV Data'!C:C,HOUR(Conversions!A13538))/1000)","v":0}]
[{"$f":"A13567+TIME(0,15,0)","v":"1900-05-22T07:30:00"},{"$f":"B13566","v":0}]
[{"$f":"A13568+TIME(0,15,0)","v":"1900-05-22T07:45:00"},{"$f":"B13566","v":0}]
[{"$f":"DATE($C$3398,$D$3398,$E$3398) + TIME($F$3398,0,0)","v":"1900-05-22T12:00:00"},{"$f":"IF(A13586<'PV Data'!$H$10,0,SUMIFS('PV Data'!D:D,'PV Data'!A:A,MONTH(Conversions!A13586),'PV Data'!B:B,DAY(Conversions!A13586),'PV Data'!C:C,HOUR(Conversions!A13586))/1000)","v":0}]
[{"$f":"A13604+TIME(0,15,0)","v":"1900-05-22T16:45:00"},{"$f":"B13602","v":0}]
[{"$f":"A13620+TIME(0,15,0)","v":"1900-05-22T20:45:00"},{"$f":"B13618","v":0}]
[{"$f":"DATE($C$3411,$D$3411,$E$3411) + TIME($F$3411,0,0)","v":"1900-05-23T01:00:00"},{"$f":"IF(A13638<'PV Data'!$H$10,0,SUMIFS('PV Data'!D:D,'PV Data'!A:A,MONTH(Conversions!A13638),'PV Data'!B:B,DAY(Conversions!A13638),'PV Data'!C:C,HOUR(Conversions!A13638))/1000)","v":0}]
[{"$f":"A13654+TIME(0,15,0)","v":"1900-05-23T05:15:00"},{"$f":"B13654","v":0}]
[{"$f":"A13670+TIME(0,15,0)","v":"1900-05-23T09:15:00"},{"$f":"B13670","v":0}]
[{"$f":"DATE($C$3424,$D$3424,$E$3424) + TIME($F$3424,0,0)","v":"1900-05-23T14:00:00"},{"$f":"IF(A13690<'PV Data'!$H$10,0,SUMIFS('PV Data'!D:D,'PV Data'!A:A,MONTH(Conversions!A13690),'PV Data'!B:B,DAY(Conversions!A13690),'PV Data'!C:C,HOUR(Conversions!A13690))/1000)","v":0}]
[{"$f":"A13706+TIME(0,15,0)","v":"1900-05-23T18:15:00"},{"$f":"B13706","v":0}]
[{"$f":"DATE($C$3432,$D$3432,$E$3432) + TIME($F$3432,0,0)","v":"1900-05-23T22:00:00"},{"$f":"IF(A13722<'PV Data'!$H$10,0,SUMIFS('PV Data'!D:D,'PV Data'!A:A,MONTH(Conversions!A13722),'PV Data'!B:B,DAY(Conversions!A13722),'PV Data'!C:C,HOUR(Conversions!A13722))/1000)","v":0}]
[{"$f":"DATE($C$3437,$D$3437,$E$3437) + TIME($F$3437,0,0)","v":"1900-05-24T03:00:00"},{"$f":"IF(A13742<'PV Data'!$H$10,0,SUMIFS('PV Data'!D:D,'PV Data'!A:A,MONTH(Conversions!A13742),'PV Data'!B:B,DAY(Conversions!A13742),'PV Data'!C:C,HOUR(Conversions!A13742))/1000)","v":0}]
[{"$f":"A13758+TIME(0,15,0)","v":"1900-05-24T07:15:00"},{"$f":"B13758","v":0}]
[{"$f":"A13775+TIME(0,15,0)","v":"1900-05-24T11:30:00"},{"$f":"B13774","v":0}]
[{"$f":"A13787+TIME(0,15,0)","v":"1900-05-24T14:30:00"},{"$f":"B13786","v":0}]
[{"$f":"A13810+TIME(0,15,0)","v":"1900-05-24T20:15:00"},{"$f":"B13810","v":0}]
[{"$f":"A13827+TIME(0,15,0)","v":"1900-05-25T00:30:00"},{"$f":"B13826","v":0}]
[{"$f":"A13828+TIME(0,15,0)","v":"1900-05-25T00:45:00"},{"$f":"B13826","v":0}]
[{"$f":"A13854+TIME(0,15,0)","v":"1900-05-25T07:15:00"},{"$f":"B13854","v":0}]
[{"$f":"A13863+TIME(0,15,0)","v":"1900-05-25T09:30:00"},{"$f":"B13862","v":0}]
[{"$f":"A13880+TIME(0,15,0)","v":"1900-05-25T13:45:00"},{"$f":"B13878","v":0}]
[{"$f":"A13904+TIME(0,15,0)","v":"1900-05-25T19:45:00"},{"$f":"B13902","v":0}]
[{"$f":"A13915+TIME(0,15,0)","v":"1900-05-25T22:30:00"},{"$f":"B13914","v":0}]
[{"$f":"A13932+TIME(0,15,0)","v":"1900-05-26T02:45:00"},{"$f":"B13930","v":0}]
[{"$f":"DATE($C$3489,$D$3489,$E$3489) + TIME($F$3489,0,0)","v":"1900-05-26T07:00:00"},{"$f":"IF(A13950<'PV Data'!$H$10,0,SUMIFS('PV Data'!D:D,'PV Data'!A:A,MONTH(Conversions!A13950),'PV Data'!B:B,DAY(Conversions!A13950),'PV Data'!C:C,HOUR(Conversions!A13950))/1000)","v":0}]
[{"$f":"A13970+TIME(0,15,0)","v":"1900-05-26T12:15:00"},{"$f":"B13970","v":0}]
[{"$f":"A13984+TIME(0,15,0)","v":"1900-05-26T15:45:00"},{"$f":"B13982","v":0}]
[{"$f":"DATE($C$3502,$D$3502,$E$3502) + TIME($F$3502,0,0)","v":"1900-05-26T20:00:00"},{"$f":"IF(A14002<'PV Data'!$H$10,0,SUMIFS('PV Data'!D:D,'PV Data'!A:A,MONTH(Conversions!A14002),'PV Data'!B:B,DAY(Conversions!A14002),'PV Data'!C:C,HOUR(Conversions!A14002))/1000)","v":0}]
[{"$f":"A14018+TIME(0,15,0)","v":"1900-05-27T00:15:00"},{"$f":"B14018","v":0}]
[{"$f":"DATE($C$3511,$D$3511,$E$3511) + TIME($F$3511,0,0)","v":"1900-05-27T05:00:00"},{"$f":"IF(A14038<'PV Data'!$H$10,0,SUMIFS('PV Data'!D:D,'PV Data'!A:A,MONTH(Conversions!A14038),'PV Data'!B:B,DAY(Conversions!A14038),'PV Data'!C:C,HOUR(Conversions!A14038))/1000)","v":0}]
[{"$f":"DATE($C$3515,$D$3515,$E$3515) + TIME($F$3515,0,0)","v":"1900-05-27T09:00:00"},{"$f":"IF(A14054<'PV Data'!$H$10,0,SUMIFS('PV Data'!D:D,'PV Data'!A:A,MONTH(Conversions!A14054),'PV Data'!B:B,DAY(Conversions!A14054),'PV Data'!C:C,HOUR(Conversions!A14054))/1000)","v":0}]
[{"$f":"A14070+TIME(0,15,0)","v":"1900-05-27T13:15:00"},{"$f":"B14070","v":0}]
[{"$f":"A14087+TIME(0,15,0)","v":"1900-05-27T17:30:00"},{"$f":"B14086","v":0}]
[{"$f":"A14103+TIME(0,15,0)","v":"1900-05-27T21:30:00"},{"$f":"B14102","v":0}]
[{"$f":"A14106+TIME(0,15,0)","v":"1900-05-27T22:15:00"},{"$f":"B14106","v":0}]
[{"$f":"A14123+TIME(0,15,0)","v":"1900-05-28T02:30:00"},{"$f":"B14122","v":0}]
[{"$f":"DATE($C$3540,$D$3540,$E$3540) + TIME($F$3540,0,0)","v":"1900-05-28T10:00:00"},{"$f":"IF(A14154<'PV Data'!$H$10,0,SUMIFS('PV Data'!D:D,'PV Data'!A:A,MONTH(Conversions!A14154),'PV Data'!B:B,DAY(Conversions!A14154),'PV Data'!C:C,HOUR(Conversions!A14154))/1000)","v":0}]
[{"$f":"A14158+TIME(0,15,0)","v":"1900-05-28T11:15:00"},{"$f":"B14158","v":0}]
[{"$f":"A14175+TIME(0,15,0)","v":"1900-05-28T15:30:00"},{"$f":"B14174","v":0}]
[{"$f":"A14192+TIME(0,15,0)","v":"1900-05-28T19:45:00"},{"$f":"B14190","v":0}]
[{"$f":"A14203+TIME(0,15,0)","v":"1900-05-28T22:30:00"},{"$f":"B14202","v":0}]
[{"$f":"A14227+TIME(0,15,0)","v":"1900-05-29T04:30:00"},{"$f":"B14226","v":0}]
[{"$f":"A14244+TIME(0,15,0)","v":"1900-05-29T08:45:00"},{"$f":"B14242","v":0}]
[{"$f":"DATE($C$3567,$D$3567,$E$3567) + TIME($F$3567,0,0)","v":"1900-05-29T13:00:00"},{"$f":"IF(A14262<'PV Data'!$H$10,0,SUMIFS('PV Data'!D:D,'PV Data'!A:A,MONTH(Conversions!A14262),'PV Data'!B:B,DAY(Conversions!A14262),'PV Data'!C:C,HOUR(Conversions!A14262))/1000)","v":0}]
[{"$f":"A14270+TIME(0,15,0)","v":"1900-05-29T15:15:00"},{"$f":"B14270","v":0}]
[{"$f":"A14296+TIME(0,15,0)","v":"1900-05-29T21:45:00"},{"$f":"B14294","v":0}]
[{"$f":"DATE($C$3580,$D$3580,$E$3580) + TIME($F$3580,0,0)","v":"1900-05-30T02:00:00"},{"$f":"IF(A14314<'PV Data'!$H$10,0,SUMIFS('PV Data'!D:D,'PV Data'!A:A,MONTH(Conversions!A14314),'PV Data'!B:B,DAY(Conversions!A14314),'PV Data'!C:C,HOUR(Conversions!A14314))/1000)","v":0}]
[{"$f":"A14320+TIME(0,15,0)","v":"1900-05-30T03:45:00"},{"$f":"B14318","v":0}]
[{"$f":"A14348+TIME(0,15,0)","v":"1900-05-30T10:45:00"},{"$f":"B14346","v":0}]
[{"$f":"DATE($C$3589,$D$3589,$E$3589) + TIME($F$3589,0,0)","v":"1900-05-30T11:00:00"},{"$f":"IF(A14350<'PV Data'!$H$10,0,SUMIFS('PV Data'!D:D,'PV Data'!A:A,MONTH(Conversions!A14350),'PV Data'!B:B,DAY(Conversions!A14350),'PV Data'!C:C,HOUR(Conversions!A14350))/1000)","v":0}]
[{"$f":"A14366+TIME(0,15,0)","v":"1900-05-30T15:15:00"},{"$f":"B14366","v":0}]
[{"$f":"A14386+TIME(0,15,0)","v":"1900-05-30T20:15:00"},{"$f":"B14386","v":0}]
[{"$f":"DATE($C$3602,$D$3602,$E$3602) + TIME($F$3602,0,0)","v":"1900-05-31"},{"$f":"IF(A14402<'PV Data'!$H$10,0,SUMIFS('PV Data'!D:D,'PV Data'!A:A,MONTH(Conversions!A14402),'PV Data'!B:B,DAY(Conversions!A14402),'PV Data'!C:C,HOUR(Conversions!A14402))/1000)","v":0}]
[{"$f":"A14418+TIME(0,15,0)","v":"1900-05-31T04:15:00"},{"$f":"B14418","v":0}]
[{"$f":"A14435+TIME(0,15,0)","v":"1900-05-31T08:30:00"},{"$f":"B14434","v":0}]
[{"$f":"DATE($C$3615,$D$3615,$E$3615) + TIME($F$3615,0,0)","v":"1900-05-31T13:00:00"},{"$f":"IF(A14454<'PV Data'!$H$10,0,SUMIFS('PV Data'!D:D,'PV Data'!A:A,MONTH(Conversions!A14454),'PV Data'!B:B,DAY(Conversions!A14454),'PV Data'!C:C,HOUR(Conversions!A14454))/1000)","v":0}]
[{"$f":"A14470+TIME(0,15,0)","v":"1900-05-31T17:15:00"},{"$f":"B14470","v":0}]
[{"$f":"A14487+TIME(0,15,0)","v":"1900-05-31T21:30:00"},{"$f":"B14486","v":0}]
[{"$f":"A14503+TIME(0,15,0)","v":"1900-06-01T01:30:00"},{"$f":"B14502","v":0}]
[{"$f":"A14522+TIME(0,15,0)","v":"1900-06-01T06:15:00"},{"$f":"B14522","v":0}]
[{"$f":"A14539+TIME(0,15,0)","v":"1900-06-01T10:30:00"},{"$f":"B14538","v":0}]
[{"$f":"A14556+TIME(0,15,0)","v":"1900-06-01T14:45:00"},{"$f":"B14554","v":0}]
[{"$f":"DATE($C$3644,$D$3644,$E$3644) + TIME($F$3644,0,0)","v":"1900-06-01T18:00:00"},{"$f":"IF(A14570<'PV Data'!$H$10,0,SUMIFS('PV Data'!D:D,'PV Data'!A:A,MONTH(Conversions!A14570),'PV Data'!B:B,DAY(Conversions!A14570),'PV Data'!C:C,HOUR(Conversions!A14570))/1000)","v":0}]
[{"$f":"A14591+TIME(0,15,0)","v":"1900-06-01T23:30:00"},{"$f":"B14590","v":0}]
[{"$f":"A14608+TIME(0,15,0)","v":"1900-06-02T03:45:00"},{"$f":"B14606","v":0}]
[{"$f":"DATE($C$3654,$D$3654,$E$3654) + TIME($F$3654,0,0)","v":"1900-06-02T04:00:00"},{"$f":"IF(A14610<'PV Data'!$H$10,0,SUMIFS('PV Data'!D:D,'PV Data'!A:A,MONTH(Conversions!A14610),'PV Data'!B:B,DAY(Conversions!A14610),'PV Data'!C:C,HOUR(Conversions!A14610))/1000)","v":0}]
[{"$f":"A14636+TIME(0,15,0)","v":"1900-06-02T10:45:00"},{"$f":"B14634","v":0}]
[{"$f":"A14644+TIME(0,15,0)","v":"1900-06-02T12:45:00"},{"$f":"B14642","v":0}]
[{"$f":"DATE($C$3667,$D$3667,$E$3667) + TIME($F$3667,0,0)","v":"1900-06-02T17:00:00"},{"$f":"IF(A14662<'PV Data'!$H$10,0,SUMIFS('PV Data'!D:D,'PV Data'!A:A,MONTH(Conversions!A14662),'PV Data'!B:B,DAY(Conversions!A14662),'PV Data'!C:C,HOUR(Conversions!A14662))/1000)","v":0}]
[{"$f":"A14678+TIME(0,15,0)","v":"1900-06-02T21:15:00"},{"$f":"B14678","v":0}]
[{"$f":"A14702+TIME(0,15,0)","v":"1900-06-03T03:15:00"},{"$f":"B14702","v":0}]
[{"$f":"DATE($C$3680,$D$3680,$E$3680) + TIME($F$3680,0,0)","v":"1900-06-03T06:00:00"},{"$f":"IF(A14714<'PV Data'!$H$10,0,SUMIFS('PV Data'!D:D,'PV Data'!A:A,MONTH(Conversions!A14714),'PV Data'!B:B,DAY(Conversions!A14714),'PV Data'!C:C,HOUR(Conversions!A14714))/1000)","v":0}]
[{"$f":"A14730+TIME(0,15,0)","v":"1900-06-03T10:15:00"},{"$f":"B14730","v":0}]
[{"$f":"DATE($C$3690,$D$3690,$E$3690) + TIME($F$3690,0,0)","v":"1900-06-03T16:00:00"},{"$f":"IF(A14754<'PV Data'!$H$10,0,SUMIFS('PV Data'!D:D,'PV Data'!A:A,MONTH(Conversions!A14754),'PV Data'!B:B,DAY(Conversions!A14754),'PV Data'!C:C,HOUR(Conversions!A14754))/1000)","v":0}]
[{"$f":"DATE($C$3693,$D$3693,$E$3693) + TIME($F$3693,0,0)","v":"1900-06-03T19:00:00"},{"$f":"IF(A14766<'PV Data'!$H$10,0,SUMIFS('PV Data'!D:D,'PV Data'!A:A,MONTH(Conversions!A14766),'PV Data'!B:B,DAY(Conversions!A14766),'PV Data'!C:C,HOUR(Conversions!A14766))/1000)","v":0}]
[{"$f":"A14782+TIME(0,15,0)","v":"1900-06-03T23:15:00"},{"$f":"B14782","v":0}]
[{"$f":"A14799+TIME(0,15,0)","v":"1900-06-04T03:30:00"},{"$f":"B14798","v":0}]
[{"$f":"A14819+TIME(0,15,0)","v":"1900-06-04T08:30:00"},{"$f":"B14818","v":0}]
[{"$f":"A14834+TIME(0,15,0)","v":"1900-06-04T12:15:00"},{"$f":"B14834","v":0}]
[{"$f":"A14851+TIME(0,15,0)","v":"1900-06-04T16:30:00"},{"$f":"B14850","v":0}]
[{"$f":"A14868+TIME(0,15,0)","v":"1900-06-04T20:45:00"},{"$f":"B14866","v":0}]
[{"$f":"DATE($C$3719,$D$3719,$E$3719) + TIME($F$3719,0,0)","v":"1900-06-04T21:00:00"},{"$f":"IF(A14870<'PV Data'!$H$10,0,SUMIFS('PV Data'!D:D,'PV Data'!A:A,MONTH(Conversions!A14870),'PV Data'!B:B,DAY(Conversions!A14870),'PV Data'!C:C,HOUR(Conversions!A14870))/1000)","v":0}]
[{"$f":"A14887+TIME(0,15,0)","v":"1900-06-05T01:30:00"},{"$f":"B14886","v":0}]
[{"$f":"A14904+TIME(0,15,0)","v":"1900-06-05T05:45:00"},{"$f":"B14902","v":0}]
[{"$f":"A14919+TIME(0,15,0)","v":"1900-06-05T09:30:00"},{"$f":"B14918","v":0}]
[{"$f":"A14939+TIME(0,15,0)","v":"1900-06-05T14:30:00"},{"$f":"B14938","v":0}]
[{"$f":"A14956+TIME(0,15,0)","v":"1900-06-05T18:45:00"},{"$f":"B14954","v":0}]
[{"$f":"DATE($C$3745,$D$3745,$E$3745) + TIME($F$3745,0,0)","v":"1900-06-05T23:00:00"},{"$f":"IF(A14974<'PV Data'!$H$10,0,SUMIFS('PV Data'!D:D,'PV Data'!A:A,MONTH(Conversions!A14974),'PV Data'!B:B,DAY(Conversions!A14974),'PV Data'!C:C,HOUR(Conversions!A14974))/1000)","v":0}]
[{"$f":"DATE($C$3748,$D$3748,$E$3748) + TIME($F$3748,0,0)","v":"1900-06-06T02:00:00"},{"$f":"IF(A14986<'PV Data'!$H$10,0,SUMIFS('PV Data'!D:D,'PV Data'!A:A,MONTH(Conversions!A14986),'PV Data'!B:B,DAY(Conversions!A14986),'PV Data'!C:C,HOUR(Conversions!A14986))/1000)","v":0}]
[{"$f":"A15008+TIME(0,15,0)","v":"1900-06-06T07:45:00"},{"$f":"B15006","v":0}]
[{"$f":"DATE($C$3758,$D$3758,$E$3758) + TIME($F$3758,0,0)","v":"1900-06-06T12:00:00"},{"$f":"IF(A15026<'PV Data'!$H$10,0,SUMIFS('PV Data'!D:D,'PV Data'!A:A,MONTH(Conversions!A15026),'PV Data'!B:B,DAY(Conversions!A15026),'PV Data'!C:C,HOUR(Conversions!A15026))/1000)","v":0}]
[{"$f":"A15042+TIME(0,15,0)","v":"1900-06-06T16:15:00"},{"$f":"B15042","v":0}]
[{"$f":"A15052+TIME(0,15,0)","v":"1900-06-06T18:45:00"},{"$f":"B15050","v":0}]
[{"$f":"DATE($C$3771,$D$3771,$E$3771) + TIME($F$3771,0,0)","v":"1900-06-07T01:00:00"},{"$f":"IF(A15078<'PV Data'!$H$10,0,SUMIFS('PV Data'!D:D,'PV Data'!A:A,MONTH(Conversions!A15078),'PV Data'!B:B,DAY(Conversions!A15078),'PV Data'!C:C,HOUR(Conversions!A15078))/1000)","v":0}]
[{"$f":"A15094+TIME(0,15,0)","v":"1900-06-07T05:15:00"},{"$f":"B15094","v":0}]
[{"$f":"A15102+TIME(0,15,0)","v":"1900-06-07T07:15:00"},{"$f":"B15102","v":0}]
[{"$f":"DATE($C$3784,$D$3784,$E$3784) + TIME($F$3784,0,0)","v":"1900-06-07T14:00:00"},{"$f":"IF(A15130<'PV Data'!$H$10,0,SUMIFS('PV Data'!D:D,'PV Data'!A:A,MONTH(Conversions!A15130),'PV Data'!B:B,DAY(Conversions!A15130),'PV Data'!C:C,HOUR(Conversions!A15130))/1000)","v":0}]
[{"$f":"A15130+TIME(0,15,0)","v":"1900-06-07T14:15:00"},{"$f":"B15130","v":0}]
[{"$f":"A15147+TIME(0,15,0)","v":"1900-06-07T18:30:00"},{"$f":"B15146","v":0}]
[{"$f":"DATE($C$3794,$D$3794,$E$3794) + TIME($F$3794,0,0)","v":"1900-06-08"},{"$f":"IF(A15170<'PV Data'!$H$10,0,SUMIFS('PV Data'!D:D,'PV Data'!A:A,MONTH(Conversions!A15170),'PV Data'!B:B,DAY(Conversions!A15170),'PV Data'!C:C,HOUR(Conversions!A15170))/1000)","v":0}]
[{"$f":"A15182+TIME(0,15,0)","v":"1900-06-08T03:15:00"},{"$f":"B15182","v":0}]
[{"$f":"A15199+TIME(0,15,0)","v":"1900-06-08T07:30:00"},{"$f":"B15198","v":0}]
[{"$f":"A15216+TIME(0,15,0)","v":"1900-06-08T11:45:00"},{"$f":"B15214","v":0}]
[{"$f":"A15235+TIME(0,15,0)","v":"1900-06-08T16:30:00"},{"$f":"B15234","v":0}]
[{"$f":"A15251+TIME(0,15,0)","v":"1900-06-08T20:30:00"},{"$f":"B15250","v":0}]
[{"$f":"A15268+TIME(0,15,0)","v":"1900-06-09T00:45:00"},{"$f":"B15266","v":0}]
[{"$f":"DATE($C$3823,$D$3823,$E$3823) + TIME($F$3823,0,0)","v":"1900-06-09T05:00:00"},{"$f":"IF(A15286<'PV Data'!$H$10,0,SUMIFS('PV Data'!D:D,'PV Data'!A:A,MONTH(Conversions!A15286),'PV Data'!B:B,DAY(Conversions!A15286),'PV Data'!C:C,HOUR(Conversions!A15286))/1000)","v":0}]
[{"$f":"A15302+TIME(0,15,0)","v":"1900-06-09T09:15:00"},{"$f":"B15302","v":0}]
[{"$f":"A15320+TIME(0,15,0)","v":"1900-06-09T13:45:00"},{"$f":"B15318","v":0}]
[{"$f":"DATE($C$3836,$D$3836,$E$3836) + TIME($F$3836,0,0)","v":"1900-06-09T18:00:00"},{"$f":"IF(A15338<'PV Data'!$H$10,0,SUMIFS('PV Data'!D:D,'PV Data'!A:A,MONTH(Conversions!A15338),'PV Data'!B:B,DAY(Conversions!A15338),'PV Data'!C:C,HOUR(Conversions!A15338))/1000)","v":0}]
[{"$f":"A15352+TIME(0,15,0)","v":"1900-06-09T21:45:00"},{"$f":"B15350","v":0}]
[{"$f":"A15372+TIME(0,15,0)","v":"1900-06-10T02:45:00"},{"$f":"B15370","v":0}]
[{"$f":"DATE($C$3849,$D$3849,$E$3849) + TIME($F$3849,0,0)","v":"1900-06-10T07:00:00"},{"$f":"IF(A15390<'PV Data'!$H$10,0,SUMIFS('PV Data'!D:D,'PV Data'!A:A,MONTH(Conversions!A15390),'PV Data'!B:B,DAY(Conversions!A15390),'PV Data'!C:C,HOUR(Conversions!A15390))/1000)","v":0}]
[{"$f":"A15390+TIME(0,15,0)","v":"1900-06-10T07:15:00"},{"$f":"B15390","v":0}]
[{"$f":"A15418+TIME(0,15,0)","v":"1900-06-10T14:15:00"},{"$f":"B15418","v":0}]
[{"$f":"DATE($C$3858,$D$3858,$E$3858) + TIME($F$3858,0,0)","v":"1900-06-10T16:00:00"},{"$f":"IF(A15426<'PV Data'!$H$10,0,SUMIFS('PV Data'!D:D,'PV Data'!A:A,MONTH(Conversions!A15426),'PV Data'!B:B,DAY(Conversions!A15426),'PV Data'!C:C,HOUR(Conversions!A15426))/1000)","v":0}]
[{"$f":"A15442+TIME(0,15,0)","v":"1900-06-10T20:15:00"},{"$f":"B15442","v":0}]
[{"$f":"A15459+TIME(0,15,0)","v":"1900-06-11T00:30:00"},{"$f":"B15458","v":0}]
[{"$f":"DATE($C$3873,$D$3873,$E$3873) + TIME($F$3873,0,0)","v":"1900-06-11T07:00:00"},{"$f":"IF(A15486<'PV Data'!$H$10,0,SUMIFS('PV Data'!D:D,'PV Data'!A:A,MONTH(Conversions!A15486),'PV Data'!B:B,DAY(Conversions!A15486),'PV Data'!C:C,HOUR(Conversions!A15486))/1000)","v":0}]
[{"$f":"A15494+TIME(0,15,0)","v":"1900-06-11T09:15:00"},{"$f":"B15494","v":0}]
[{"$f":"A15511+TIME(0,15,0)","v":"1900-06-11T13:30:00"},{"$f":"B15510","v":0}]
[{"$f":"A15535+TIME(0,15,0)","v":"1900-06-11T19:30:00"},{"$f":"B15534","v":0}]
[{"$f":"A15546+TIME(0,15,0)","v":"1900-06-11T22:15:00"},{"$f":"B15546","v":0}]
[{"$f":"A15563+TIME(0,15,0)","v":"1900-06-12T02:30:00"},{"$f":"B15562","v":0}]
[{"$f":"A15580+TIME(0,15,0)","v":"1900-06-12T06:45:00"},{"$f":"B15578","v":0}]
[{"$f":"DATE($C$3902,$D$3902,$E$3902) + TIME($F$3902,0,0)","v":"1900-06-12T12:00:00"},{"$f":"IF(A15602<'PV Data'!$H$10,0,SUMIFS('PV Data'!D:D,'PV Data'!A:A,MONTH(Conversions!A15602),'PV Data'!B:B,DAY(Conversions!A15602),'PV Data'!C:C,HOUR(Conversions!A15602))/1000)","v":0}]
[{"$f":"A15615+TIME(0,15,0)","v":"1900-06-12T15:30:00"},{"$f":"B15614","v":0}]
[{"$f":"A15632+TIME(0,15,0)","v":"1900-06-12T19:45:00"},{"$f":"B15630","v":0}]
[{"$f":"DATE($C$3914,$D$3914,$E$3914) + TIME($F$3914,0,0)","v":"1900-06-13"},{"$f":"IF(A15650<'PV Data'!$H$10,0,SUMIFS('PV Data'!D:D,'PV Data'!A:A,MONTH(Conversions!A15650),'PV Data'!B:B,DAY(Conversions!A15650),'PV Data'!C:C,HOUR(Conversions!A15650))/1000)","v":0}]
[{"$f":"A15651+TIME(0,15,0)","v":"1900-06-13T00:30:00"},{"$f":"B15650","v":0}]
[{"$f":"A15668+TIME(0,15,0)","v":"1900-06-13T04:45:00"},{"$f":"B15666","v":0}]
[{"$f":"DATE($C$3923,$D$3923,$E$3923) + TIME($F$3923,0,0)","v":"1900-06-13T09:00:00"},{"$f":"IF(A15686<'PV Data'!$H$10,0,SUMIFS('PV Data'!D:D,'PV Data'!A:A,MONTH(Conversions!A15686),'PV Data'!B:B,DAY(Conversions!A15686),'PV Data'!C:C,HOUR(Conversions!A15686))/1000)","v":0}]
[{"$f":"DATE($C$3927,$D$3927,$E$3927) + TIME($F$3927,0,0)","v":"1900-06-13T13:00:00"},{"$f":"IF(A15702<'PV Data'!$H$10,0,SUMIFS('PV Data'!D:D,'PV Data'!A:A,MONTH(Conversions!A15702),'PV Data'!B:B,DAY(Conversions!A15702),'PV Data'!C:C,HOUR(Conversions!A15702))/1000)","v":0}]
[{"$f":"A15720+TIME(0,15,0)","v":"1900-06-13T17:45:00"},{"$f":"B15718","v":0}]
[{"$f":"DATE($C$3936,$D$3936,$E$3936) + TIME($F$3936,0,0)","v":"1900-06-13T22:00:00"},{"$f":"IF(A15738<'PV Data'!$H$10,0,SUMIFS('PV Data'!D:D,'PV Data'!A:A,MONTH(Conversions!A15738),'PV Data'!B:B,DAY(Conversions!A15738),'PV Data'!C:C,HOUR(Conversions!A15738))/1000)","v":0}]
[{"$f":"A15754+TIME(0,15,0)","v":"1900-06-14T02:15:00"},{"$f":"B15754","v":0}]
[{"$f":"A15768+TIME(0,15,0)","v":"1900-06-14T05:45:00"},{"$f":"B15766","v":0}]
[{"$f":"DATE($C$3949,$D$3949,$E$3949) + TIME($F$3949,0,0)","v":"1900-06-14T11:00:00"},{"$f":"IF(A15790<'PV Data'!$H$10,0,SUMIFS('PV Data'!D:D,'PV Data'!A:A,MONTH(Conversions!A15790),'PV Data'!B:B,DAY(Conversions!A15790),'PV Data'!C:C,HOUR(Conversions!A15790))/1000)","v":0}]
[{"$f":"A15806+TIME(0,15,0)","v":"1900-06-14T15:15:00"},{"$f":"B15806","v":0}]
[{"$f":"A15823+TIME(0,15,0)","v":"1900-06-14T19:30:00"},{"$f":"B15822","v":0}]
[{"$f":"A15834+TIME(0,15,0)","v":"1900-06-14T22:15:00"},{"$f":"B15834","v":0}]
[{"$f":"A15858+TIME(0,15,0)","v":"1900-06-15T04:15:00"},{"$f":"B15858","v":0}]
[{"$f":"A15875+TIME(0,15,0)","v":"1900-06-15T08:30:00"},{"$f":"B15874","v":0}]
[{"$f":"A15884+TIME(0,15,0)","v":"1900-06-15T10:45:00"},{"$f":"B15882","v":0}]
[{"$f":"A15910+TIME(0,15,0)","v":"1900-06-15T17:15:00"},{"$f":"B15910","v":0}]
[{"$f":"A15911+TIME(0,15,0)","v":"1900-06-15T17:30:00"},{"$f":"B15910","v":0}]
[{"$f":"A15928+TIME(0,15,0)","v":"1900-06-15T21:45:00"},{"$f":"B15926","v":0}]
[{"$f":"A15951+TIME(0,15,0)","v":"1900-06-16T03:30:00"},{"$f":"B15950","v":0}]
[{"$f":"A15963+TIME(0,15,0)","v":"1900-06-16T06:30:00"},{"$f":"B15962","v":0}]
[{"$f":"A15980+TIME(0,15,0)","v":"1900-06-16T10:45:00"},{"$f":"B15978","v":0}]
[{"$f":"DATE($C$4001,$D$4001,$E$4001) + TIME($F$4001,0,0)","v":"1900-06-16T15:00:00"},{"$f":"IF(A15998<'PV Data'!$H$10,0,SUMIFS('PV Data'!D:D,'PV Data'!A:A,MONTH(Conversions!A15998),'PV Data'!B:B,DAY(Conversions!A15998),'PV Data'!C:C,HOUR(Conversions!A15998))/1000)","v":0}]
[{"$f":"DATE($C$4006,$D$4006,$E$4006) + TIME($F$4006,0,0)","v":"1900-06-16T20:00:00"},{"$f":"IF(A16018<'PV Data'!$H$10,0,SUMIFS('PV Data'!D:D,'PV Data'!A:A,MONTH(Conversions!A16018),'PV Data'!B:B,DAY(Conversions!A16018),'PV Data'!C:C,HOUR(Conversions!A16018))/1000)","v":0}]
[{"$f":"A16032+TIME(0,15,0)","v":"1900-06-16T23:45:00"},{"$f":"B16030","v":0}]
[{"$f":"DATE($C$4014,$D$4014,$E$4014) + TIME($F$4014,0,0)","v":"1900-06-17T04:00:00"},{"$f":"IF(A16050<'PV Data'!$H$10,0,SUMIFS('PV Data'!D:D,'PV Data'!A:A,MONTH(Conversions!A16050),'PV Data'!B:B,DAY(Conversions!A16050),'PV Data'!C:C,HOUR(Conversions!A16050))/1000)","v":0}]
[{"$f":"A16066+TIME(0,15,0)","v":"1900-06-17T08:15:00"},{"$f":"B16066","v":0}]
[{"$f":"A16084+TIME(0,15,0)","v":"1900-06-17T12:45:00"},{"$f":"B16082","v":0}]
[{"$f":"DATE($C$4027,$D$4027,$E$4027) + TIME($F$4027,0,0)","v":"1900-06-17T17:00:00"},{"$f":"IF(A16102<'PV Data'!$H$10,0,SUMIFS('PV Data'!D:D,'PV Data'!A:A,MONTH(Conversions!A16102),'PV Data'!B:B,DAY(Conversions!A16102),'PV Data'!C:C,HOUR(Conversions!A16102))/1000)","v":0}]
[{"$f":"A16118+TIME(0,15,0)","v":"1900-06-17T21:15:00"},{"$f":"B16118","v":0}]
[{"$f":"A16134+TIME(0,15,0)","v":"1900-06-18T01:15:00"},{"$f":"B16134","v":0}]
[{"$f":"DATE($C$4040,$D$4040,$E$4040) + TIME($F$4040,0,0)","v":"1900-06-18T06:00:00"},{"$f":"IF(A16154<'PV Data'!$H$10,0,SUMIFS('PV Data'!D:D,'PV Data'!A:A,MONTH(Conversions!A16154),'PV Data'!B:B,DAY(Conversions!A16154),'PV Data'!C:C,HOUR(Conversions!A16154))/1000)","v":0}]
[{"$f":"A16170+TIME(0,15,0)","v":"1900-06-18T10:15:00"},{"$f":"B16170","v":0}]
[{"$f":"A16171+TIME(0,15,0)","v":"1900-06-18T10:30:00"},{"$f":"B16170","v":0}]
[{"$f":"DATE($C$4052,$D$4052,$E$4052) + TIME($F$4052,0,0)","v":"1900-06-18T18:00:00"},{"$f":"IF(A16202<'PV Data'!$H$10,0,SUMIFS('PV Data'!D:D,'PV Data'!A:A,MONTH(Conversions!A16202),'PV Data'!B:B,DAY(Conversions!A16202),'PV Data'!C:C,HOUR(Conversions!A16202))/1000)","v":0}]
[{"$f":"A16206+TIME(0,15,0)","v":"1900-06-18T19:15:00"},{"$f":"B16206","v":0}]
[{"$f":"A16223+TIME(0,15,0)","v":"1900-06-18T23:30:00"},{"$f":"B16222","v":0}]
[{"$f":"A16240+TIME(0,15,0)","v":"1900-06-19T03:45:00"},{"$f":"B16238","v":0}]
[{"$f":"A16267+TIME(0,15,0)","v":"1900-06-19T10:30:00"},{"$f":"B16266","v":0}]
[{"$f":"A16275+TIME(0,15,0)","v":"1900-06-19T12:30:00"},{"$f":"B16274","v":0}]
[{"$f":"A16292+TIME(0,15,0)","v":"1900-06-19T16:45:00"},{"$f":"B16290","v":0}]
[{"$f":"DATE($C$4081,$D$4081,$E$4081) + TIME($F$4081,0,0)","v":"1900-06-19T23:00:00"},{"$f":"IF(A16318<'PV Data'!$H$10,0,SUMIFS('PV Data'!D:D,'PV Data'!A:A,MONTH(Conversions!A16318),'PV Data'!B:B,DAY(Conversions!A16318),'PV Data'!C:C,HOUR(Conversions!A16318))/1000)","v":0}]
[{"$f":"A16327+TIME(0,15,0)","v":"1900-06-20T01:30:00"},{"$f":"B16326","v":0}]
[{"$f":"A16344+TIME(0,15,0)","v":"1900-06-20T05:45:00"},{"$f":"B16342","v":0}]
[{"$f":"DATE($C$4092,$D$4092,$E$4092) + TIME($F$4092,0,0)","v":"1900-06-20T10:00:00"},{"$f":"IF(A16362<'PV Data'!$H$10,0,SUMIFS('PV Data'!D:D,'PV Data'!A:A,MONTH(Conversions!A16362),'PV Data'!B:B,DAY(Conversions!A16362),'PV Data'!C:C,HOUR(Conversions!A16362))/1000)","v":0}]
[{"$f":"A16367+TIME(0,15,0)","v":"1900-06-20T11:30:00"},{"$f":"B16366","v":0}]
[{"$f":"A16396+TIME(0,15,0)","v":"1900-06-20T18:45:00"},{"$f":"B16394","v":0}]
[{"$f":"DATE($C$4105,$D$4105,$E$4105) + TIME($F$4105,0,0)","v":"1900-06-20T23:00:00"},{"$f":"IF(A16414<'PV Data'!$H$10,0,SUMIFS('PV Data'!D:D,'PV Data'!A:A,MONTH(Conversions!A16414),'PV Data'!B:B,DAY(Conversions!A16414),'PV Data'!C:C,HOUR(Conversions!A16414))/1000)","v":0}]
[{"$f":"A16430+TIME(0,15,0)","v":"1900-06-21T03:15:00"},{"$f":"B16430","v":0}]
[{"$f":"DATE($C$4110,$D$4110,$E$4110) + TIME($F$4110,0,0)","v":"1900-06-21T04:00:00"},{"$f":"IF(A16434<'PV Data'!$H$10,0,SUMIFS('PV Data'!D:D,'PV Data'!A:A,MONTH(Conversions!A16434),'PV Data'!B:B,DAY(Conversions!A16434),'PV Data'!C:C,HOUR(Conversions!A16434))/1000)","v":0}]
[{"$f":"DATE($C$4114,$D$4114,$E$4114) + TIME($F$4114,0,0)","v":"1900-06-21T08:00:00"},{"$f":"IF(A16450<'PV Data'!$H$10,0,SUMIFS('PV Data'!D:D,'PV Data'!A:A,MONTH(Conversions!A16450),'PV Data'!B:B,DAY(Conversions!A16450),'PV Data'!C:C,HOUR(Conversions!A16450))/1000)","v":0}]
[{"$f":"A16466+TIME(0,15,0)","v":"1900-06-21T12:15:00"},{"$f":"B16466","v":0}]
[{"$f":"A16483+TIME(0,15,0)","v":"1900-06-21T16:30:00"},{"$f":"B16482","v":0}]
[{"$f":"DATE($C$4127,$D$4127,$E$4127) + TIME($F$4127,0,0)","v":"1900-06-21T21:00:00"},{"$f":"IF(A16502<'PV Data'!$H$10,0,SUMIFS('PV Data'!D:D,'PV Data'!A:A,MONTH(Conversions!A16502),'PV Data'!B:B,DAY(Conversions!A16502),'PV Data'!C:C,HOUR(Conversions!A16502))/1000)","v":0}]
[{"$f":"A16518+TIME(0,15,0)","v":"1900-06-22T01:15:00"},{"$f":"B16518","v":0}]
[{"$f":"A16535+TIME(0,15,0)","v":"1900-06-22T05:30:00"},{"$f":"B16534","v":0}]
[{"$f":"A16550+TIME(0,15,0)","v":"1900-06-22T09:15:00"},{"$f":"B16550","v":0}]
[{"$f":"A16570+TIME(0,15,0)","v":"1900-06-22T14:15:00"},{"$f":"B16570","v":0}]
[{"$f":"A16587+TIME(0,15,0)","v":"1900-06-22T18:30:00"},{"$f":"B16586","v":0}]
[{"$f":"A16604+TIME(0,15,0)","v":"1900-06-22T22:45:00"},{"$f":"B16602","v":0}]
[{"$f":"DATE($C$4156,$D$4156,$E$4156) + TIME($F$4156,0,0)","v":"1900-06-23T02:00:00"},{"$f":"IF(A16618<'PV Data'!$H$10,0,SUMIFS('PV Data'!D:D,'PV Data'!A:A,MONTH(Conversions!A16618),'PV Data'!B:B,DAY(Conversions!A16618),'PV Data'!C:C,HOUR(Conversions!A16618))/1000)","v":0}]
[{"$f":"A16639+TIME(0,15,0)","v":"1900-06-23T07:30:00"},{"$f":"B16638","v":0}]
[{"$f":"A16656+TIME(0,15,0)","v":"1900-06-23T11:45:00"},{"$f":"B16654","v":0}]
[{"$f":"DATE($C$4170,$D$4170,$E$4170) + TIME($F$4170,0,0)","v":"1900-06-23T16:00:00"},{"$f":"IF(A16674<'PV Data'!$H$10,0,SUMIFS('PV Data'!D:D,'PV Data'!A:A,MONTH(Conversions!A16674),'PV Data'!B:B,DAY(Conversions!A16674),'PV Data'!C:C,HOUR(Conversions!A16674))/1000)","v":0}]
[{"$f":"A16683+TIME(0,15,0)","v":"1900-06-23T18:30:00"},{"$f":"B16682","v":0}]
[{"$f":"A16692+TIME(0,15,0)","v":"1900-06-23T20:45:00"},{"$f":"B16690","v":0}]
[{"$f":"DATE($C$4179,$D$4179,$E$4179) + TIME($F$4179,0,0)","v":"1900-06-24T01:00:00"},{"$f":"IF(A16710<'PV Data'!$H$10,0,SUMIFS('PV Data'!D:D,'PV Data'!A:A,MONTH(Conversions!A16710),'PV Data'!B:B,DAY(Conversions!A16710),'PV Data'!C:C,HOUR(Conversions!A16710))/1000)","v":0}]
[{"$f":"DATE($C$4185,$D$4185,$E$4185) + TIME($F$4185,0,0)","v":"1900-06-24T07:00:00"},{"$f":"IF(A16734<'PV Data'!$H$10,0,SUMIFS('PV Data'!D:D,'PV Data'!A:A,MONTH(Conversions!A16734),'PV Data'!B:B,DAY(Conversions!A16734),'PV Data'!C:C,HOUR(Conversions!A16734))/1000)","v":0}]
[{"$f":"A16744+TIME(0,15,0)","v":"1900-06-24T09:45:00"},{"$f":"B16742","v":0}]
[{"$f":"DATE($C$4192,$D$4192,$E$4192) + TIME($F$4192,0,0)","v":"1900-06-24T14:00:00"},{"$f":"IF(A16762<'PV Data'!$H$10,0,SUMIFS('PV Data'!D:D,'PV Data'!A:A,MONTH(Conversions!A16762),'PV Data'!B:B,DAY(Conversions!A16762),'PV Data'!C:C,HOUR(Conversions!A16762))/1000)","v":0}]
[{"$f":"A16778+TIME(0,15,0)","v":"1900-06-24T18:15:00"},{"$f":"B16778","v":0}]
[{"$f":"A16800+TIME(0,15,0)","v":"1900-06-24T23:45:00"},{"$f":"B16798","v":0}]
[{"$f":"DATE($C$4205,$D$4205,$E$4205) + TIME($F$4205,0,0)","v":"1900-06-25T03:00:00"},{"$f":"IF(A16814<'PV Data'!$H$10,0,SUMIFS('PV Data'!D:D,'PV Data'!A:A,MONTH(Conversions!A16814),'PV Data'!B:B,DAY(Conversions!A16814),'PV Data'!C:C,HOUR(Conversions!A16814))/1000)","v":0}]
[{"$f":"A16830+TIME(0,15,0)","v":"1900-06-25T07:15:00"},{"$f":"B16830","v":0}]
[{"$f":"A16847+TIME(0,15,0)","v":"1900-06-25T11:30:00"},{"$f":"B16846","v":0}]
[{"$f":"A16866+TIME(0,15,0)","v":"1900-06-25T16:15:00"},{"$f":"B16866","v":0}]
[{"$f":"A16882+TIME(0,15,0)","v":"1900-06-25T20:15:00"},{"$f":"B16882","v":0}]
[{"$f":"A16899+TIME(0,15,0)","v":"1900-06-26T00:30:00"},{"$f":"B16898","v":0}]
[{"$f":"A16916+TIME(0,15,0)","v":"1900-06-26T04:45:00"},{"$f":"B16914","v":0}]
[{"$f":"A16934+TIME(0,15,0)","v":"1900-06-26T09:15:00"},{"$f":"B16934","v":0}]
[{"$f":"A16951+TIME(0,15,0)","v":"1900-06-26T13:30:00"},{"$f":"B16950","v":0}]
[{"$f":"A16952+TIME(0,15,0)","v":"1900-06-26T13:45:00"},{"$f":"B16950","v":0}]
[{"$f":"A16983+TIME(0,15,0)","v":"1900-06-26T21:30:00"},{"$f":"B16982","v":0}]
[{"$f":"A16987+TIME(0,15,0)","v":"1900-06-26T22:30:00"},{"$f":"B16986","v":0}]
[{"$f":"A17004+TIME(0,15,0)","v":"1900-06-27T02:45:00"},{"$f":"B17002","v":0}]
[{"$f":"DATE($C$4257,$D$4257,$E$4257) + TIME($F$4257,0,0)","v":"1900-06-27T07:00:00"},{"$f":"IF(A17022<'PV Data'!$H$10,0,SUMIFS('PV Data'!D:D,'PV Data'!A:A,MONTH(Conversions!A17022),'PV Data'!B:B,DAY(Conversions!A17022),'PV Data'!C:C,HOUR(Conversions!A17022))/1000)","v":0}]
[{"$f":"DATE($C$4264,$D$4264,$E$4264) + TIME($F$4264,0,0)","v":"1900-06-27T14:00:00"},{"$f":"IF(A17050<'PV Data'!$H$10,0,SUMIFS('PV Data'!D:D,'PV Data'!A:A,MONTH(Conversions!A17050),'PV Data'!B:B,DAY(Conversions!A17050),'PV Data'!C:C,HOUR(Conversions!A17050))/1000)","v":0}]
[{"$f":"A17056+TIME(0,15,0)","v":"1900-06-27T15:45:00"},{"$f":"B17054","v":0}]
[{"$f":"DATE($C$4270,$D$4270,$E$4270) + TIME($F$4270,0,0)","v":"1900-06-27T20:00:00"},{"$f":"IF(A17074<'PV Data'!$H$10,0,SUMIFS('PV Data'!D:D,'PV Data'!A:A,MONTH(Conversions!A17074),'PV Data'!B:B,DAY(Conversions!A17074),'PV Data'!C:C,HOUR(Conversions!A17074))/1000)","v":0}]
[{"$f":"A17083+TIME(0,15,0)","v":"1900-06-27T22:30:00"},{"$f":"B17082","v":0}]
[{"$f":"A17108+TIME(0,15,0)","v":"1900-06-28T04:45:00"},{"$f":"B17106","v":0}]
[{"$f":"DATE($C$4283,$D$4283,$E$4283) + TIME($F$4283,0,0)","v":"1900-06-28T09:00:00"},{"$f":"IF(A17126<'PV Data'!$H$10,0,SUMIFS('PV Data'!D:D,'PV Data'!A:A,MONTH(Conversions!A17126),'PV Data'!B:B,DAY(Conversions!A17126),'PV Data'!C:C,HOUR(Conversions!A17126))/1000)","v":0}]
[{"$f":"A17142+TIME(0,15,0)","v":"1900-06-28T13:15:00"},{"$f":"B17142","v":0}]
[{"$f":"DATE($C$4289,$D$4289,$E$4289) + TIME($F$4289,0,0)","v":"1900-06-28T15:00:00"},{"$f":"IF(A17150<'PV Data'!$H$10,0,SUMIFS('PV Data'!D:D,'PV Data'!A:A,MONTH(Conversions!A17150),'PV Data'!B:B,DAY(Conversions!A17150),'PV Data'!C:C,HOUR(Conversions!A17150))/1000)","v":0}]
[{"$f":"DATE($C$4296,$D$4296,$E$4296) + TIME($F$4296,0,0)","v":"1900-06-28T22:00:00"},{"$f":"IF(A17178<'PV Data'!$H$10,0,SUMIFS('PV Data'!D:D,'PV Data'!A:A,MONTH(Conversions!A17178),'PV Data'!B:B,DAY(Conversions!A17178),'PV Data'!C:C,HOUR(Conversions!A17178))/1000)","v":0}]
[{"$f":"A17194+TIME(0,15,0)","v":"1900-06-29T02:15:00"},{"$f":"B17194","v":0}]
[{"$f":"A17211+TIME(0,15,0)","v":"1900-06-29T06:30:00"},{"$f":"B17210","v":0}]
[{"$f":"A17216+TIME(0,15,0)","v":"1900-06-29T07:45:00"},{"$f":"B17214","v":0}]
[{"$f":"A17230+TIME(0,15,0)","v":"1900-06-29T11:15:00"},{"$f":"B17230","v":0}]
[{"$f":"A17247+TIME(0,15,0)","v":"1900-06-29T15:30:00"},{"$f":"B17246","v":0}]
[{"$f":"A17264+TIME(0,15,0)","v":"1900-06-29T19:45:00"},{"$f":"B17262","v":0}]
[{"$f":"A17282+TIME(0,15,0)","v":"1900-06-30T00:15:00"},{"$f":"B17282","v":0}]
[{"$f":"A17299+TIME(0,15,0)","v":"1900-06-30T04:30:00"},{"$f":"B17298","v":0}]
[{"$f":"A17316+TIME(0,15,0)","v":"1900-06-30T08:45:00"},{"$f":"B17314","v":0}]
[{"$f":"A17332+TIME(0,15,0)","v":"1900-06-30T12:45:00"},{"$f":"B17330","v":0}]
[{"$f":"A17351+TIME(0,15,0)","v":"1900-06-30T17:30:00"},{"$f":"B17350","v":0}]
[{"$f":"A17368+TIME(0,15,0)","v":"1900-06-30T21:45:00"},{"$f":"B17366","v":0}]
[{"$f":"DATE($C$4348,$D$4348,$E$4348) + TIME($F$4348,0,0)","v":"1900-07-01T02:00:00"},{"$f":"IF(A17386<'PV Data'!$H$10,0,SUMIFS('PV Data'!D:D,'PV Data'!A:A,MONTH(Conversions!A17386),'PV Data'!B:B,DAY(Conversions!A17386),'PV Data'!C:C,HOUR(Conversions!A17386))/1000)","v":0}]
[{"$f":"A17399+TIME(0,15,0)","v":"1900-07-01T05:30:00"},{"$f":"B17398","v":0}]
[{"$f":"A17420+TIME(0,15,0)","v":"1900-07-01T10:45:00"},{"$f":"B17418","v":0}]
[{"$f":"DATE($C$4361,$D$4361,$E$4361) + TIME($F$4361,0,0)","v":"1900-07-01T15:00:00"},{"$f":"IF(A17438<'PV Data'!$H$10,0,SUMIFS('PV Data'!D:D,'PV Data'!A:A,MONTH(Conversions!A17438),'PV Data'!B:B,DAY(Conversions!A17438),'PV Data'!C:C,HOUR(Conversions!A17438))/1000)","v":0}]
[{"$f":"A17454+TIME(0,15,0)","v":"1900-07-01T19:15:00"},{"$f":"B17454","v":0}]
[{"$f":"DATE($C$4368,$D$4368,$E$4368) + TIME($F$4368,0,0)","v":"1900-07-01T22:00:00"},{"$f":"IF(A17466<'PV Data'!$H$10,0,SUMIFS('PV Data'!D:D,'PV Data'!A:A,MONTH(Conversions!A17466),'PV Data'!B:B,DAY(Conversions!A17466),'PV Data'!C:C,HOUR(Conversions!A17466))/1000)","v":0}]
[{"$f":"DATE($C$4370,$D$4370,$E$4370) + TIME($F$4370,0,0)","v":"1900-07-02"},{"$f":"IF(A17474<'PV Data'!$H$10,0,SUMIFS('PV Data'!D:D,'PV Data'!A:A,MONTH(Conversions!A17474),'PV Data'!B:B,DAY(Conversions!A17474),'PV Data'!C:C,HOUR(Conversions!A17474))/1000)","v":0}]
[{"$f":"A17490+TIME(0,15,0)","v":"1900-07-02T04:15:00"},{"$f":"B17490","v":0}]
[{"$f":"A17516+TIME(0,15,0)","v":"1900-07-02T10:45:00"},{"$f":"B17514","v":0}]
[{"$f":"DATE($C$4383,$D$4383,$E$4383) + TIME($F$4383,0,0)","v":"1900-07-02T13:00:00"},{"$f":"IF(A17526<'PV Data'!$H$10,0,SUMIFS('PV Data'!D:D,'PV Data'!A:A,MONTH(Conversions!A17526),'PV Data'!B:B,DAY(Conversions!A17526),'PV Data'!C:C,HOUR(Conversions!A17526))/1000)","v":0}]
[{"$f":"A17542+TIME(0,15,0)","v":"1900-07-02T17:15:00"},{"$f":"B17542","v":0}]
[{"$f":"A17559+TIME(0,15,0)","v":"1900-07-02T21:30:00"},{"$f":"B17558","v":0}]
[{"$f":"A17582+TIME(0,15,0)","v":"1900-07-03T03:15:00"},{"$f":"B17582","v":0}]
[{"$f":"A17594+TIME(0,15,0)","v":"1900-07-03T06:15:00"},{"$f":"B17594","v":0}]
[{"$f":"A17611+TIME(0,15,0)","v":"1900-07-03T10:30:00"},{"$f":"B17610","v":0}]
[{"$f":"A17628+TIME(0,15,0)","v":"1900-07-03T14:45:00"},{"$f":"B17626","v":0}]
[{"$f":"DATE($C$4414,$D$4414,$E$4414) + TIME($F$4414,0,0)","v":"1900-07-03T20:00:00"},{"$f":"IF(A17650<'PV Data'!$H$10,0,SUMIFS('PV Data'!D:D,'PV Data'!A:A,MONTH(Conversions!A17650),'PV Data'!B:B,DAY(Conversions!A17650),'PV Data'!C:C,HOUR(Conversions!A17650))/1000)","v":0}]
[{"$f":"A17663+TIME(0,15,0)","v":"1900-07-03T23:30:00"},{"$f":"B17662","v":0}]
[{"$f":"A17680+TIME(0,15,0)","v":"1900-07-04T03:45:00"},{"$f":"B17678","v":0}]
[{"$f":"A17699+TIME(0,15,0)","v":"1900-07-04T08:30:00"},{"$f":"B17698","v":0}]
[{"$f":"A17715+TIME(0,15,0)","v":"1900-07-04T12:30:00"},{"$f":"B17714","v":0}]
[{"$f":"A17732+TIME(0,15,0)","v":"1900-07-04T16:45:00"},{"$f":"B17730","v":0}]
[{"$f":"DATE($C$4435,$D$4435,$E$4435) + TIME($F$4435,0,0)","v":"1900-07-04T17:00:00"},{"$f":"IF(A17734<'PV Data'!$H$10,0,SUMIFS('PV Data'!D:D,'PV Data'!A:A,MONTH(Conversions!A17734),'PV Data'!B:B,DAY(Conversions!A17734),'PV Data'!C:C,HOUR(Conversions!A17734))/1000)","v":0}]
[{"$f":"DATE($C$4443,$D$4443,$E$4443) + TIME($F$4443,0,0)","v":"1900-07-05T01:00:00"},{"$f":"IF(A17766<'PV Data'!$H$10,0,SUMIFS('PV Data'!D:D,'PV Data'!A:A,MONTH(Conversions!A17766),'PV Data'!B:B,DAY(Conversions!A17766),'PV Data'!C:C,HOUR(Conversions!A17766))/1000)","v":0}]
[{"$f":"A17768+TIME(0,15,0)","v":"1900-07-05T01:45:00"},{"$f":"B17766","v":0}]
[{"$f":"DATE($C$4448,$D$4448,$E$4448) + TIME($F$4448,0,0)","v":"1900-07-05T06:00:00"},{"$f":"IF(A17786<'PV Data'!$H$10,0,SUMIFS('PV Data'!D:D,'PV Data'!A:A,MONTH(Conversions!A17786),'PV Data'!B:B,DAY(Conversions!A17786),'PV Data'!C:C,HOUR(Conversions!A17786))/1000)","v":0}]
[{"$f":"A17802+TIME(0,15,0)","v":"1900-07-05T10:15:00"},{"$f":"B17802","v":0}]
[{"$f":"A17815+TIME(0,15,0)","v":"1900-07-05T13:30:00"},{"$f":"B17814","v":0}]
[{"$f":"DATE($C$4461,$D$4461,$E$4461) + TIME($F$4461,0,0)","v":"1900-07-05T19:00:00"},{"$f":"IF(A17838<'PV Data'!$H$10,0,SUMIFS('PV Data'!D:D,'PV Data'!A:A,MONTH(Conversions!A17838),'PV Data'!B:B,DAY(Conversions!A17838),'PV Data'!C:C,HOUR(Conversions!A17838))/1000)","v":0}]
[{"$f":"A17854+TIME(0,15,0)","v":"1900-07-05T23:15:00"},{"$f":"B17854","v":0}]
[{"$f":"DATE($C$4468,$D$4468,$E$4468) + TIME($F$4468,0,0)","v":"1900-07-06T02:00:00"},{"$f":"IF(A17866<'PV Data'!$H$10,0,SUMIFS('PV Data'!D:D,'PV Data'!A:A,MONTH(Conversions!A17866),'PV Data'!B:B,DAY(Conversions!A17866),'PV Data'!C:C,HOUR(Conversions!A17866))/1000)","v":0}]
[{"$f":"DATE($C$4474,$D$4474,$E$4474) + TIME($F$4474,0,0)","v":"1900-07-06T08:00:00"},{"$f":"IF(A17890<'PV Data'!$H$10,0,SUMIFS('PV Data'!D:D,'PV Data'!A:A,MONTH(Conversions!A17890),'PV Data'!B:B,DAY(Conversions!A17890),'PV Data'!C:C,HOUR(Conversions!A17890))/1000)","v":0}]
[{"$f":"A17906+TIME(0,15,0)","v":"1900-07-06T12:15:00"},{"$f":"B17906","v":0}]
[{"$f":"A17923+TIME(0,15,0)","v":"1900-07-06T16:30:00"},{"$f":"B17922","v":0}]
[{"$f":"A17931+TIME(0,15,0)","v":"1900-07-06T18:30:00"},{"$f":"B17930","v":0}]
[{"$f":"A17958+TIME(0,15,0)","v":"1900-07-07T01:15:00"},{"$f":"B17958","v":0}]
[{"$f":"A17975+TIME(0,15,0)","v":"1900-07-07T05:30:00"},{"$f":"B17974","v":0}]
[{"$f":"A17992+TIME(0,15,0)","v":"1900-07-07T09:45:00"},{"$f":"B17990","v":0}]
[{"$f":"A17998+TIME(0,15,0)","v":"1900-07-07T11:15:00"},{"$f":"B17998","v":0}]
[{"$f":"A18011+TIME(0,15,0)","v":"1900-07-07T14:30:00"},{"$f":"B18010","v":0}]
[{"$f":"A18028+TIME(0,15,0)","v":"1900-07-07T18:45:00"},{"$f":"B18026","v":0}]
[{"$f":"DATE($C$4513,$D$4513,$E$4513) + TIME($F$4513,0,0)","v":"1900-07-07T23:00:00"},{"$f":"IF(A18046<'PV Data'!$H$10,0,SUMIFS('PV Data'!D:D,'PV Data'!A:A,MONTH(Conversions!A18046),'PV Data'!B:B,DAY(Conversions!A18046),'PV Data'!C:C,HOUR(Conversions!A18046))/1000)","v":0}]
[{"$f":"DATE($C$4518,$D$4518,$E$4518) + TIME($F$4518,0,0)","v":"1900-07-08T04:00:00"},{"$f":"IF(A18066<'PV Data'!$H$10,0,SUMIFS('PV Data'!D:D,'PV Data'!A:A,MONTH(Conversions!A18066),'PV Data'!B:B,DAY(Conversions!A18066),'PV Data'!C:C,HOUR(Conversions!A18066))/1000)","v":0}]
[{"$f":"A18080+TIME(0,15,0)","v":"1900-07-08T07:45:00"},{"$f":"B18078","v":0}]
[{"$f":"DATE($C$4526,$D$4526,$E$4526) + TIME($F$4526,0,0)","v":"1900-07-08T12:00:00"},{"$f":"IF(A18098<'PV Data'!$H$10,0,SUMIFS('PV Data'!D:D,'PV Data'!A:A,MONTH(Conversions!A18098),'PV Data'!B:B,DAY(Conversions!A18098),'PV Data'!C:C,HOUR(Conversions!A18098))/1000)","v":0}]
[{"$f":"A18115+TIME(0,15,0)","v":"1900-07-08T16:30:00"},{"$f":"B18114","v":0}]
[{"$f":"A18132+TIME(0,15,0)","v":"1900-07-08T20:45:00"},{"$f":"B18130","v":0}]
[{"$f":"DATE($C$4539,$D$4539,$E$4539) + TIME($F$4539,0,0)","v":"1900-07-09T01:00:00"},{"$f":"IF(A18150<'PV Data'!$H$10,0,SUMIFS('PV Data'!D:D,'PV Data'!A:A,MONTH(Conversions!A18150),'PV Data'!B:B,DAY(Conversions!A18150),'PV Data'!C:C,HOUR(Conversions!A18150))/1000)","v":0}]
[{"$f":"A18166+TIME(0,15,0)","v":"1900-07-09T05:15:00"},{"$f":"B18166","v":0}]
[{"$f":"DATE($C$4547,$D$4547,$E$4547) + TIME($F$4547,0,0)","v":"1900-07-09T09:00:00"},{"$f":"IF(A18182<'PV Data'!$H$10,0,SUMIFS('PV Data'!D:D,'PV Data'!A:A,MONTH(Conversions!A18182),'PV Data'!B:B,DAY(Conversions!A18182),'PV Data'!C:C,HOUR(Conversions!A18182))/1000)","v":0}]
[{"$f":"DATE($C$4552,$D$4552,$E$4552) + TIME($F$4552,0,0)","v":"1900-07-09T14:00:00"},{"$f":"IF(A18202<'PV Data'!$H$10,0,SUMIFS('PV Data'!D:D,'PV Data'!A:A,MONTH(Conversions!A18202),'PV Data'!B:B,DAY(Conversions!A18202),'PV Data'!C:C,HOUR(Conversions!A18202))/1000)","v":0}]
[{"$f":"A18218+TIME(0,15,0)","v":"1900-07-09T18:15:00"},{"$f":"B18218","v":0}]
[{"$f":"A18235+TIME(0,15,0)","v":"1900-07-09T22:30:00"},{"$f":"B18234","v":0}]
[{"$f":"A18248+TIME(0,15,0)","v":"1900-07-10T01:45:00"},{"$f":"B18246","v":0}]
[{"$f":"A18254+TIME(0,15,0)","v":"1900-07-10T03:15:00"},{"$f":"B18254","v":0}]
[{"$f":"A18271+TIME(0,15,0)","v":"1900-07-10T07:30:00"},{"$f":"B18270","v":0}]
[{"$f":"A18298+TIME(0,15,0)","v":"1900-07-10T14:15:00"},{"$f":"B18298","v":0}]
[{"$f":"A18306+TIME(0,15,0)","v":"1900-07-10T16:15:00"},{"$f":"B18306","v":0}]
[{"$f":"A18323+TIME(0,15,0)","v":"1900-07-10T20:30:00"},{"$f":"B18322","v":0}]
[{"$f":"A18340+TIME(0,15,0)","v":"1900-07-11T00:45:00"},{"$f":"B18338","v":0}]
[{"$f":"A18364+TIME(0,15,0)","v":"1900-07-11T06:45:00"},{"$f":"B18362","v":0}]
[{"$f":"A18375+TIME(0,15,0)","v":"1900-07-11T09:30:00"},{"$f":"B18374","v":0}]
[{"$f":"A18392+TIME(0,15,0)","v":"1900-07-11T13:45:00"},{"$f":"B18390","v":0}]
[{"$f":"DATE($C$4604,$D$4604,$E$4604) + TIME($F$4604,0,0)","v":"1900-07-11T18:00:00"},{"$f":"IF(A18410<'PV Data'!$H$10,0,SUMIFS('PV Data'!D:D,'PV Data'!A:A,MONTH(Conversions!A18410),'PV Data'!B:B,DAY(Conversions!A18410),'PV Data'!C:C,HOUR(Conversions!A18410))/1000)","v":0}]
[{"$f":"A18431+TIME(0,15,0)","v":"1900-07-11T23:30:00"},{"$f":"B18430","v":0}]
[{"$f":"A18444+TIME(0,15,0)","v":"1900-07-12T02:45:00"},{"$f":"B18442","v":0}]
[{"$f":"DATE($C$4617,$D$4617,$E$4617) + TIME($F$4617,0,0)","v":"1900-07-12T07:00:00"},{"$f":"IF(A18462<'PV Data'!$H$10,0,SUMIFS('PV Data'!D:D,'PV Data'!A:A,MONTH(Conversions!A18462),'PV Data'!B:B,DAY(Conversions!A18462),'PV Data'!C:C,HOUR(Conversions!A18462))/1000)","v":0}]
[{"$f":"DATE($C$4622,$D$4622,$E$4622) + TIME($F$4622,0,0)","v":"1900-07-12T12:00:00"},{"$f":"IF(A18482<'PV Data'!$H$10,0,SUMIFS('PV Data'!D:D,'PV Data'!A:A,MONTH(Conversions!A18482),'PV Data'!B:B,DAY(Conversions!A18482),'PV Data'!C:C,HOUR(Conversions!A18482))/1000)","v":0}]
[{"$f":"A18496+TIME(0,15,0)","v":"1900-07-12T15:45:00"},{"$f":"B18494","v":0}]
[{"$f":"DATE($C$4630,$D$4630,$E$4630) + TIME($F$4630,0,0)","v":"1900-07-12T20:00:00"},{"$f":"IF(A18514<'PV Data'!$H$10,0,SUMIFS('PV Data'!D:D,'PV Data'!A:A,MONTH(Conversions!A18514),'PV Data'!B:B,DAY(Conversions!A18514),'PV Data'!C:C,HOUR(Conversions!A18514))/1000)","v":0}]
[{"$f":"A18514+TIME(0,15,0)","v":"1900-07-12T20:15:00"},{"$f":"B18514","v":0}]
[{"$f":"A18531+TIME(0,15,0)","v":"1900-07-13T00:30:00"},{"$f":"B18530","v":0}]
[{"$f":"DATE($C$4639,$D$4639,$E$4639) + TIME($F$4639,0,0)","v":"1900-07-13T05:00:00"},{"$f":"IF(A18550<'PV Data'!$H$10,0,SUMIFS('PV Data'!D:D,'PV Data'!A:A,MONTH(Conversions!A18550),'PV Data'!B:B,DAY(Conversions!A18550),'PV Data'!C:C,HOUR(Conversions!A18550))/1000)","v":0}]
[{"$f":"A18566+TIME(0,15,0)","v":"1900-07-13T09:15:00"},{"$f":"B18566","v":0}]
[{"$f":"A18583+TIME(0,15,0)","v":"1900-07-13T13:30:00"},{"$f":"B18582","v":0}]
[{"$f":"DATE($C$4651,$D$4651,$E$4651) + TIME($F$4651,0,0)","v":"1900-07-13T17:00:00"},{"$f":"IF(A18598<'PV Data'!$H$10,0,SUMIFS('PV Data'!D:D,'PV Data'!A:A,MONTH(Conversions!A18598),'PV Data'!B:B,DAY(Conversions!A18598),'PV Data'!C:C,HOUR(Conversions!A18598))/1000)","v":0}]
[{"$f":"A18618+TIME(0,15,0)","v":"1900-07-13T22:15:00"},{"$f":"B18618","v":0}]
[{"$f":"A18635+TIME(0,15,0)","v":"1900-07-14T02:30:00"},{"$f":"B18634","v":0}]
[{"$f":"A18652+TIME(0,15,0)","v":"1900-07-14T06:45:00"},{"$f":"B18650","v":0}]
[{"$f":"A18664+TIME(0,15,0)","v":"1900-07-14T09:45:00"},{"$f":"B18662","v":0}]
[{"$f":"A18687+TIME(0,15,0)","v":"1900-07-14T15:30:00"},{"$f":"B18686","v":0}]
[{"$f":"A18704+TIME(0,15,0)","v":"1900-07-14T19:45:00"},{"$f":"B18702","v":0}]
[{"$f":"A18714+TIME(0,15,0)","v":"1900-07-14T22:15:00"},{"$f":"B18714","v":0}]
[{"$f":"A18739+TIME(0,15,0)","v":"1900-07-15T04:30:00"},{"$f":"B18738","v":0}]
[{"$f":"A18756+TIME(0,15,0)","v":"1900-07-15T08:45:00"},{"$f":"B18754","v":0}]
[{"$f":"DATE($C$4695,$D$4695,$E$4695) + TIME($F$4695,0,0)","v":"1900-07-15T13:00:00"},{"$f":"IF(A18774<'PV Data'!$H$10,0,SUMIFS('PV Data'!D:D,'PV Data'!A:A,MONTH(Conversions!A18774),'PV Data'!B:B,DAY(Conversions!A18774),'PV Data'!C:C,HOUR(Conversions!A18774))/1000)","v":0}]
[{"$f":"A18780+TIME(0,15,0)","v":"1900-07-15T14:45:00"},{"$f":"B18778","v":0}]
[{"$f":"A18792+TIME(0,15,0)","v":"1900-07-15T17:45:00"},{"$f":"B18790","v":0}]
[{"$f":"DATE($C$4704,$D$4704,$E$4704) + TIME($F$4704,0,0)","v":"1900-07-15T22:00:00"},{"$f":"IF(A18810<'PV Data'!$H$10,0,SUMIFS('PV Data'!D:D,'PV Data'!A:A,MONTH(Conversions!A18810),'PV Data'!B:B,DAY(Conversions!A18810),'PV Data'!C:C,HOUR(Conversions!A18810))/1000)","v":0}]
[{"$f":"A18826+TIME(0,15,0)","v":"1900-07-16T02:15:00"},{"$f":"B18826","v":0}]
[{"$f":"A18847+TIME(0,15,0)","v":"1900-07-16T07:30:00"},{"$f":"B18846","v":0}]
[{"$f":"DATE($C$4717,$D$4717,$E$4717) + TIME($F$4717,0,0)","v":"1900-07-16T11:00:00"},{"$f":"IF(A18862<'PV Data'!$H$10,0,SUMIFS('PV Data'!D:D,'PV Data'!A:A,MONTH(Conversions!A18862),'PV Data'!B:B,DAY(Conversions!A18862),'PV Data'!C:C,HOUR(Conversions!A18862))/1000)","v":0}]
[{"$f":"A18878+TIME(0,15,0)","v":"1900-07-16T15:15:00"},{"$f":"B18878","v":0}]
[{"$f":"DATE($C$4726,$D$4726,$E$4726) + TIME($F$4726,0,0)","v":"1900-07-16T20:00:00"},{"$f":"IF(A18898<'PV Data'!$H$10,0,SUMIFS('PV Data'!D:D,'PV Data'!A:A,MONTH(Conversions!A18898),'PV Data'!B:B,DAY(Conversions!A18898),'PV Data'!C:C,HOUR(Conversions!A18898))/1000)","v":0}]
[{"$f":"DATE($C$4730,$D$4730,$E$4730) + TIME($F$4730,0,0)","v":"1900-07-17"},{"$f":"IF(A18914<'PV Data'!$H$10,0,SUMIFS('PV Data'!D:D,'PV Data'!A:A,MONTH(Conversions!A18914),'PV Data'!B:B,DAY(Conversions!A18914),'PV Data'!C:C,HOUR(Conversions!A18914))/1000)","v":0}]
[{"$f":"A18930+TIME(0,15,0)","v":"1900-07-17T04:15:00"},{"$f":"B18930","v":0}]
[{"$f":"A18947+TIME(0,15,0)","v":"1900-07-17T08:30:00"},{"$f":"B18946","v":0}]
[{"$f":"A18964+TIME(0,15,0)","v":"1900-07-17T12:45:00"},{"$f":"B18962","v":0}]
[{"$f":"A18982+TIME(0,15,0)","v":"1900-07-17T17:15:00"},{"$f":"B18982","v":0}]
[{"$f":"A18999+TIME(0,15,0)","v":"1900-07-17T21:30:00"},{"$f":"B18998","v":0}]
[{"$f":"A19016+TIME(0,15,0)","v":"1900-07-18T01:45:00"},{"$f":"B19014","v":0}]
[{"$f":"A19030+TIME(0,15,0)","v":"1900-07-18T05:15:00"},{"$f":"B19030","v":0}]
[{"$f":"A19035+TIME(0,15,0)","v":"1900-07-18T06:30:00"},{"$f":"B19034","v":0}]
[{"$f":"A19052+TIME(0,15,0)","v":"1900-07-18T10:45:00"},{"$f":"B19050","v":0}]
[{"$f":"A19080+TIME(0,15,0)","v":"1900-07-18T17:45:00"},{"$f":"B19078","v":0}]
[{"$f":"A19087+TIME(0,15,0)","v":"1900-07-18T19:30:00"},{"$f":"B19086","v":0}]
[{"$f":"A19104+TIME(0,15,0)","v":"1900-07-18T23:45:00"},{"$f":"B19102","v":0}]
[{"$f":"DATE($C$4782,$D$4782,$E$4782) + TIME($F$4782,0,0)","v":"1900-07-19T04:00:00"},{"$f":"IF(A19122<'PV Data'!$H$10,0,SUMIFS('PV Data'!D:D,'PV Data'!A:A,MONTH(Conversions!A19122),'PV Data'!B:B,DAY(Conversions!A19122),'PV Data'!C:C,HOUR(Conversions!A19122))/1000)","v":0}]
[{"$f":"A19147+TIME(0,15,0)","v":"1900-07-19T10:30:00"},{"$f":"B19146","v":0}]
[{"$f":"A19156+TIME(0,15,0)","v":"1900-07-19T12:45:00"},{"$f":"B19154","v":0}]
[{"$f":"DATE($C$4795,$D$4795,$E$4795) + TIME($F$4795,0,0)","v":"1900-07-19T17:00:00"},{"$f":"IF(A19174<'PV Data'!$H$10,0,SUMIFS('PV Data'!D:D,'PV Data'!A:A,MONTH(Conversions!A19174),'PV Data'!B:B,DAY(Conversions!A19174),'PV Data'!C:C,HOUR(Conversions!A19174))/1000)","v":0}]
[{"$f":"A19190+TIME(0,15,0)","v":"1900-07-19T21:15:00"},{"$f":"B19190","v":0}]
[{"$f":"DATE($C$4805,$D$4805,$E$4805) + TIME($F$4805,0,0)","v":"1900-07-20T03:00:00"},{"$f":"IF(A19214<'PV Data'!$H$10,0,SUMIFS('PV Data'!D:D,'PV Data'!A:A,MONTH(Conversions!A19214),'PV Data'!B:B,DAY(Conversions!A19214),'PV Data'!C:C,HOUR(Conversions!A19214))/1000)","v":0}]
[{"$f":"DATE($C$4808,$D$4808,$E$4808) + TIME($F$4808,0,0)","v":"1900-07-20T06:00:00"},{"$f":"IF(A19226<'PV Data'!$H$10,0,SUMIFS('PV Data'!D:D,'PV Data'!A:A,MONTH(Conversions!A19226),'PV Data'!B:B,DAY(Conversions!A19226),'PV Data'!C:C,HOUR(Conversions!A19226))/1000)","v":0}]
[{"$f":"A19242+TIME(0,15,0)","v":"1900-07-20T10:15:00"},{"$f":"B19242","v":0}]
[{"$f":"A19246+TIME(0,15,0)","v":"1900-07-20T11:15:00"},{"$f":"B19246","v":0}]
[{"$f":"DATE($C$4821,$D$4821,$E$4821) + TIME($F$4821,0,0)","v":"1900-07-20T19:00:00"},{"$f":"IF(A19278<'PV Data'!$H$10,0,SUMIFS('PV Data'!D:D,'PV Data'!A:A,MONTH(Conversions!A19278),'PV Data'!B:B,DAY(Conversions!A19278),'PV Data'!C:C,HOUR(Conversions!A19278))/1000)","v":0}]
[{"$f":"A19294+TIME(0,15,0)","v":"1900-07-20T23:15:00"},{"$f":"B19294","v":0}]
[{"$f":"A19295+TIME(0,15,0)","v":"1900-07-20T23:30:00"},{"$f":"B19294","v":0}]
[{"$f":"DATE($C$4830,$D$4830,$E$4830) + TIME($F$4830,0,0)","v":"1900-07-21T04:00:00"},{"$f":"IF(A19314<'PV Data'!$H$10,0,SUMIFS('PV Data'!D:D,'PV Data'!A:A,MONTH(Conversions!A19314),'PV Data'!B:B,DAY(Conversions!A19314),'PV Data'!C:C,HOUR(Conversions!A19314))/1000)","v":0}]
[{"$f":"A19330+TIME(0,15,0)","v":"1900-07-21T08:15:00"},{"$f":"B19330","v":0}]
[{"$f":"A19347+TIME(0,15,0)","v":"1900-07-21T12:30:00"},{"$f":"B19346","v":0}]
[{"$f":"A19364+TIME(0,15,0)","v":"1900-07-21T16:45:00"},{"$f":"B19362","v":0}]
[{"$f":"A19379+TIME(0,15,0)","v":"1900-07-21T20:30:00"},{"$f":"B19378","v":0}]
[{"$f":"A19399+TIME(0,15,0)","v":"1900-07-22T01:30:00"},{"$f":"B19398","v":0}]
[{"$f":"A19416+TIME(0,15,0)","v":"1900-07-22T05:45:00"},{"$f":"B19414","v":0}]
[{"$f":"DATE($C$4860,$D$4860,$E$4860) + TIME($F$4860,0,0)","v":"1900-07-22T10:00:00"},{"$f":"IF(A19434<'PV Data'!$H$10,0,SUMIFS('PV Data'!D:D,'PV Data'!A:A,MONTH(Conversions!A19434),'PV Data'!B:B,DAY(Conversions!A19434),'PV Data'!C:C,HOUR(Conversions!A19434))/1000)","v":0}]
[{"$f":"A19446+TIME(0,15,0)","v":"1900-07-22T13:15:00"},{"$f":"B19446","v":0}]
[{"$f":"A19468+TIME(0,15,0)","v":"1900-07-22T18:45:00"},{"$f":"B19466","v":0}]
[{"$f":"DATE($C$4873,$D$4873,$E$4873) + TIME($F$4873,0,0)","v":"1900-07-22T23:00:00"},{"$f":"IF(A19486<'PV Data'!$H$10,0,SUMIFS('PV Data'!D:D,'PV Data'!A:A,MONTH(Conversions!A19486),'PV Data'!B:B,DAY(Conversions!A19486),'PV Data'!C:C,HOUR(Conversions!A19486))/1000)","v":0}]
[{"$f":"A19496+TIME(0,15,0)","v":"1900-07-23T01:45:00"},{"$f":"B19494","v":0}]
[{"$f":"A19520+TIME(0,15,0)","v":"1900-07-23T07:45:00"},{"$f":"B19518","v":0}]
[{"$f":"DATE($C$4886,$D$4886,$E$4886) + TIME($F$4886,0,0)","v":"1900-07-23T12:00:00"},{"$f":"IF(A19538<'PV Data'!$H$10,0,SUMIFS('PV Data'!D:D,'PV Data'!A:A,MONTH(Conversions!A19538),'PV Data'!B:B,DAY(Conversions!A19538),'PV Data'!C:C,HOUR(Conversions!A19538))/1000)","v":0}]
[{"$f":"A19554+TIME(0,15,0)","v":"1900-07-23T16:15:00"},{"$f":"B19554","v":0}]
[{"$f":"A19563+TIME(0,15,0)","v":"1900-07-23T18:30:00"},{"$f":"B19562","v":0}]
[{"$f":"DATE($C$4895,$D$4895,$E$4895) + TIME($F$4895,0,0)","v":"1900-07-23T21:00:00"},{"$f":"IF(A19574<'PV Data'!$H$10,0,SUMIFS('PV Data'!D:D,'PV Data'!A:A,MONTH(Conversions!A19574),'PV Data'!B:B,DAY(Conversions!A19574),'PV Data'!C:C,HOUR(Conversions!A19574))/1000)","v":0}]
[{"$f":"A19590+TIME(0,15,0)","v":"1900-07-24T01:15:00"},{"$f":"B19590","v":0}]
[{"$f":"A19607+TIME(0,15,0)","v":"1900-07-24T05:30:00"},{"$f":"B19606","v":0}]
[{"$f":"DATE($C$4909,$D$4909,$E$4909) + TIME($F$4909,0,0)","v":"1900-07-24T11:00:00"},{"$f":"IF(A19630<'PV Data'!$H$10,0,SUMIFS('PV Data'!D:D,'PV Data'!A:A,MONTH(Conversions!A19630),'PV Data'!B:B,DAY(Conversions!A19630),'PV Data'!C:C,HOUR(Conversions!A19630))/1000)","v":0}]
[{"$f":"A19642+TIME(0,15,0)","v":"1900-07-24T14:15:00"},{"$f":"B19642","v":0}]
[{"$f":"A19659+TIME(0,15,0)","v":"1900-07-24T18:30:00"},{"$f":"B19658","v":0}]
[{"$f":"A19679+TIME(0,15,0)","v":"1900-07-24T23:30:00"},{"$f":"B19678","v":0}]
[{"$f":"A19694+TIME(0,15,0)","v":"1900-07-25T03:15:00"},{"$f":"B19694","v":0}]
[{"$f":"A19711+TIME(0,15,0)","v":"1900-07-25T07:30:00"},{"$f":"B19710","v":0}]
[{"$f":"A19728+TIME(0,15,0)","v":"1900-07-25T11:45:00"},{"$f":"B19726","v":0}]
[{"$f":"A19746+TIME(0,15,0)","v":"1900-07-25T16:15:00"},{"$f":"B19746","v":0}]
[{"$f":"A19763+TIME(0,15,0)","v":"1900-07-25T20:30:00"},{"$f":"B19762","v":0}]
[{"$f":"A19780+TIME(0,15,0)","v":"1900-07-26T00:45:00"},{"$f":"B19778","v":0}]
[{"$f":"DATE($C$4951,$D$4951,$E$4951) + TIME($F$4951,0,0)","v":"1900-07-26T05:00:00"},{"$f":"IF(A19798<'PV Data'!$H$10,0,SUMIFS('PV Data'!D:D,'PV Data'!A:A,MONTH(Conversions!A19798),'PV Data'!B:B,DAY(Conversions!A19798),'PV Data'!C:C,HOUR(Conversions!A19798))/1000)","v":0}]
[{"$f":"A19812+TIME(0,15,0)","v":"1900-07-26T08:45:00"},{"$f":"B19810","v":0}]
[{"$f":"A19816+TIME(0,15,0)","v":"1900-07-26T09:45:00"},{"$f":"B19814","v":0}]
[{"$f":"DATE($C$4960,$D$4960,$E$4960) + TIME($F$4960,0,0)","v":"1900-07-26T14:00:00"},{"$f":"IF(A19834<'PV Data'!$H$10,0,SUMIFS('PV Data'!D:D,'PV Data'!A:A,MONTH(Conversions!A19834),'PV Data'!B:B,DAY(Conversions!A19834),'PV Data'!C:C,HOUR(Conversions!A19834))/1000)","v":0}]
[{"$f":"A19863+TIME(0,15,0)","v":"1900-07-26T21:30:00"},{"$f":"B19862","v":0}]
[{"$f":"A19868+TIME(0,15,0)","v":"1900-07-26T22:45:00"},{"$f":"B19866","v":0}]
[{"$f":"DATE($C$4973,$D$4973,$E$4973) + TIME($F$4973,0,0)","v":"1900-07-27T03:00:00"},{"$f":"IF(A19886<'PV Data'!$H$10,0,SUMIFS('PV Data'!D:D,'PV Data'!A:A,MONTH(Conversions!A19886),'PV Data'!B:B,DAY(Conversions!A19886),'PV Data'!C:C,HOUR(Conversions!A19886))/1000)","v":0}]
[{"$f":"A19902+TIME(0,15,0)","v":"1900-07-27T07:15:00"},{"$f":"B19902","v":0}]
[{"$f":"DATE($C$4984,$D$4984,$E$4984) + TIME($F$4984,0,0)","v":"1900-07-27T14:00:00"},{"$f":"IF(A19930<'PV Data'!$H$10,0,SUMIFS('PV Data'!D:D,'PV Data'!A:A,MONTH(Conversions!A19930),'PV Data'!B:B,DAY(Conversions!A19930),'PV Data'!C:C,HOUR(Conversions!A19930))/1000)","v":0}]
[{"$f":"DATE($C$4986,$D$4986,$E$4986) + TIME($F$4986,0,0)","v":"1900-07-27T16:00:00"},{"$f":"IF(A19938<'PV Data'!$H$10,0,SUMIFS('PV Data'!D:D,'PV Data'!A:A,MONTH(Conversions!A19938),'PV Data'!B:B,DAY(Conversions!A19938),'PV Data'!C:C,HOUR(Conversions!A19938))/1000)","v":0}]
[{"$f":"A19954+TIME(0,15,0)","v":"1900-07-27T20:15:00"},{"$f":"B19954","v":0}]
[{"$f":"A19971+TIME(0,15,0)","v":"1900-07-28T00:30:00"},{"$f":"B19970","v":0}]
[{"$f":"A19979+TIME(0,15,0)","v":"1900-07-28T02:30:00"},{"$f":"B19978","v":0}]
[{"$f":"A20006+TIME(0,15,0)","v":"1900-07-28T09:15:00"},{"$f":"B20006","v":0}]
[{"$f":"A20023+TIME(0,15,0)","v":"1900-07-28T13:30:00"},{"$f":"B20022","v":0}]
[{"$f":"A20040+TIME(0,15,0)","v":"1900-07-28T17:45:00"},{"$f":"B20038","v":0}]
[{"$f":"DATE($C$5013,$D$5013,$E$5013) + TIME($F$5013,0,0)","v":"1900-07-28T19:00:00"},{"$f":"IF(A20046<'PV Data'!$H$10,0,SUMIFS('PV Data'!D:D,'PV Data'!A:A,MONTH(Conversions!A20046),'PV Data'!B:B,DAY(Conversions!A20046),'PV Data'!C:C,HOUR(Conversions!A20046))/1000)","v":0}]
[{"$f":"A20075+TIME(0,15,0)","v":"1900-07-29T02:30:00"},{"$f":"B20074","v":0}]
[{"$f":"A20076+TIME(0,15,0)","v":"1900-07-29T02:45:00"},{"$f":"B20074","v":0}]
[{"$f":"A20095+TIME(0,15,0)","v":"1900-07-29T07:30:00"},{"$f":"B20094","v":0}]
[{"$f":"A20111+TIME(0,15,0)","v":"1900-07-29T11:30:00"},{"$f":"B20110","v":0}]
[{"$f":"A20128+TIME(0,15,0)","v":"1900-07-29T15:45:00"},{"$f":"B20126","v":0}]
[{"$f":"DATE($C$5038,$D$5038,$E$5038) + TIME($F$5038,0,0)","v":"1900-07-29T20:00:00"},{"$f":"IF(A20146<'PV Data'!$H$10,0,SUMIFS('PV Data'!D:D,'PV Data'!A:A,MONTH(Conversions!A20146),'PV Data'!B:B,DAY(Conversions!A20146),'PV Data'!C:C,HOUR(Conversions!A20146))/1000)","v":0}]
[{"$f":"A20162+TIME(0,15,0)","v":"1900-07-30T00:15:00"},{"$f":"B20162","v":0}]
[{"$f":"A20180+TIME(0,15,0)","v":"1900-07-30T04:45:00"},{"$f":"B20178","v":0}]
[{"$f":"DATE($C$5051,$D$5051,$E$5051) + TIME($F$5051,0,0)","v":"1900-07-30T09:00:00"},{"$f":"IF(A20198<'PV Data'!$H$10,0,SUMIFS('PV Data'!D:D,'PV Data'!A:A,MONTH(Conversions!A20198),'PV Data'!B:B,DAY(Conversions!A20198),'PV Data'!C:C,HOUR(Conversions!A20198))/1000)","v":0}]
[{"$f":"A20214+TIME(0,15,0)","v":"1900-07-30T13:15:00"},{"$f":"B20214","v":0}]
[{"$f":"A20228+TIME(0,15,0)","v":"1900-07-30T16:45:00"},{"$f":"B20226","v":0}]
[{"$f":"DATE($C$5064,$D$5064,$E$5064) + TIME($F$5064,0,0)","v":"1900-07-30T22:00:00"},{"$f":"IF(A20250<'PV Data'!$H$10,0,SUMIFS('PV Data'!D:D,'PV Data'!A:A,MONTH(Conversions!A20250),'PV Data'!B:B,DAY(Conversions!A20250),'PV Data'!C:C,HOUR(Conversions!A20250))/1000)","v":0}]
[{"$f":"A20266+TIME(0,15,0)","v":"1900-07-31T02:15:00"},{"$f":"B20266","v":0}]
[{"$f":"A20278+TIME(0,15,0)","v":"1900-07-31T05:15:00"},{"$f":"B20278","v":0}]
[{"$f":"DATE($C$5077,$D$5077,$E$5077) + TIME($F$5077,0,0)","v":"1900-07-31T11:00:00"},{"$f":"IF(A20302<'PV Data'!$H$10,0,SUMIFS('PV Data'!D:D,'PV Data'!A:A,MONTH(Conversions!A20302),'PV Data'!B:B,DAY(Conversions!A20302),'PV Data'!C:C,HOUR(Conversions!A20302))/1000)","v":0}]
[{"$f":"A20318+TIME(0,15,0)","v":"1900-07-31T15:15:00"},{"$f":"B20318","v":0}]
[{"$f":"A20335+TIME(0,15,0)","v":"1900-07-31T19:30:00"},{"$f":"B20334","v":0}]
[{"$f":"DATE($C$5088,$D$5088,$E$5088) + TIME($F$5088,0,0)","v":"1900-07-31T22:00:00"},{"$f":"IF(A20346<'PV Data'!$H$10,0,SUMIFS('PV Data'!D:D,'PV Data'!A:A,MONTH(Conversions!A20346),'PV Data'!B:B,DAY(Conversions!A20346),'PV Data'!C:C,HOUR(Conversions!A20346))/1000)","v":0}]
[{"$f":"A20354+TIME(0,15,0)","v":"1900-08-01T00:15:00"},{"$f":"B20354","v":0}]
[{"$f":"A20371+TIME(0,15,0)","v":"1900-08-01T04:30:00"},{"$f":"B20370","v":0}]
[{"$f":"A20388+TIME(0,15,0)","v":"1900-08-01T08:45:00"},{"$f":"B20386","v":0}]
[{"$f":"A20412+TIME(0,15,0)","v":"1900-08-01T14:45:00"},{"$f":"B20410","v":0}]
[{"$f":"A20423+TIME(0,15,0)","v":"1900-08-01T17:30:00"},{"$f":"B20422","v":0}]
[{"$f":"A20440+TIME(0,15,0)","v":"1900-08-01T21:45:00"},{"$f":"B20438","v":0}]
[{"$f":"A20462+TIME(0,15,0)","v":"1900-08-02T03:15:00"},{"$f":"B20462","v":0}]
[{"$f":"A20475+TIME(0,15,0)","v":"1900-08-02T06:30:00"},{"$f":"B20474","v":0}]
[{"$f":"A20492+TIME(0,15,0)","v":"1900-08-02T10:45:00"},{"$f":"B20490","v":0}]
[{"$f":"DATE($C$5129,$D$5129,$E$5129) + TIME($F$5129,0,0)","v":"1900-08-02T15:00:00"},{"$f":"IF(A20510<'PV Data'!$H$10,0,SUMIFS('PV Data'!D:D,'PV Data'!A:A,MONTH(Conversions!A20510),'PV Data'!B:B,DAY(Conversions!A20510),'PV Data'!C:C,HOUR(Conversions!A20510))/1000)","v":0}]
[{"$f":"A20528+TIME(0,15,0)","v":"1900-08-02T19:45:00"},{"$f":"B20526","v":0}]
[{"$f":"A20544+TIME(0,15,0)","v":"1900-08-02T23:45:00"},{"$f":"B20542","v":0}]
[{"$f":"DATE($C$5142,$D$5142,$E$5142) + TIME($F$5142,0,0)","v":"1900-08-03T04:00:00"},{"$f":"IF(A20562<'PV Data'!$H$10,0,SUMIFS('PV Data'!D:D,'PV Data'!A:A,MONTH(Conversions!A20562),'PV Data'!B:B,DAY(Conversions!A20562),'PV Data'!C:C,HOUR(Conversions!A20562))/1000)","v":0}]
[{"$f":"A20578+TIME(0,15,0)","v":"1900-08-03T08:15:00"},{"$f":"B20578","v":0}]
[{"$f":"A20595+TIME(0,15,0)","v":"1900-08-03T12:30:00"},{"$f":"B20594","v":0}]
[{"$f":"DATE($C$5151,$D$5151,$E$5151) + TIME($F$5151,0,0)","v":"1900-08-03T13:00:00"},{"$f":"IF(A20598<'PV Data'!$H$10,0,SUMIFS('PV Data'!D:D,'PV Data'!A:A,MONTH(Conversions!A20598),'PV Data'!B:B,DAY(Conversions!A20598),'PV Data'!C:C,HOUR(Conversions!A20598))/1000)","v":0}]
[{"$f":"A20614+TIME(0,15,0)","v":"1900-08-03T17:15:00"},{"$f":"B20614","v":0}]
[{"$f":"A20631+TIME(0,15,0)","v":"1900-08-03T21:30:00"},{"$f":"B20630","v":0}]
[{"$f":"DATE($C$5167,$D$5167,$E$5167) + TIME($F$5167,0,0)","v":"1900-08-04T05:00:00"},{"$f":"IF(A20662<'PV Data'!$H$10,0,SUMIFS('PV Data'!D:D,'PV Data'!A:A,MONTH(Conversions!A20662),'PV Data'!B:B,DAY(Conversions!A20662),'PV Data'!C:C,HOUR(Conversions!A20662))/1000)","v":0}]
[{"$f":"A20666+TIME(0,15,0)","v":"1900-08-04T06:15:00"},{"$f":"B20666","v":0}]
[{"$f":"A20683+TIME(0,15,0)","v":"1900-08-04T10:30:00"},{"$f":"B20682","v":0}]
[{"$f":"A20694+TIME(0,15,0)","v":"1900-08-04T13:15:00"},{"$f":"B20694","v":0}]
[{"$f":"A20718+TIME(0,15,0)","v":"1900-08-04T19:15:00"},{"$f":"B20718","v":0}]
[{"$f":"A20735+TIME(0,15,0)","v":"1900-08-04T23:30:00"},{"$f":"B20734","v":0}]
[{"$f":"A20752+TIME(0,15,0)","v":"1900-08-05T03:45:00"},{"$f":"B20750","v":0}]
[{"$f":"DATE($C$5192,$D$5192,$E$5192) + TIME($F$5192,0,0)","v":"1900-08-05T06:00:00"},{"$f":"IF(A20762<'PV Data'!$H$10,0,SUMIFS('PV Data'!D:D,'PV Data'!A:A,MONTH(Conversions!A20762),'PV Data'!B:B,DAY(Conversions!A20762),'PV Data'!C:C,HOUR(Conversions!A20762))/1000)","v":0}]
[{"$f":"A20787+TIME(0,15,0)","v":"1900-08-05T12:30:00"},{"$f":"B20786","v":0}]
[{"$f":"A20804+TIME(0,15,0)","v":"1900-08-05T16:45:00"},{"$f":"B20802","v":0}]
[{"$f":"DATE($C$5207,$D$5207,$E$5207) + TIME($F$5207,0,0)","v":"1900-08-05T21:00:00"},{"$f":"IF(A20822<'PV Data'!$H$10,0,SUMIFS('PV Data'!D:D,'PV Data'!A:A,MONTH(Conversions!A20822),'PV Data'!B:B,DAY(Conversions!A20822),'PV Data'!C:C,HOUR(Conversions!A20822))/1000)","v":0}]
[{"$f":"A20827+TIME(0,15,0)","v":"1900-08-05T22:30:00"},{"$f":"B20826","v":0}]
[{"$f":"A20856+TIME(0,15,0)","v":"1900-08-06T05:45:00"},{"$f":"B20854","v":0}]
[{"$f":"DATE($C$5216,$D$5216,$E$5216) + TIME($F$5216,0,0)","v":"1900-08-06T06:00:00"},{"$f":"IF(A20858<'PV Data'!$H$10,0,SUMIFS('PV Data'!D:D,'PV Data'!A:A,MONTH(Conversions!A20858),'PV Data'!B:B,DAY(Conversions!A20858),'PV Data'!C:C,HOUR(Conversions!A20858))/1000)","v":0}]
[{"$f":"A20878+TIME(0,15,0)","v":"1900-08-06T11:15:00"},{"$f":"B20878","v":0}]
[{"$f":"A20892+TIME(0,15,0)","v":"1900-08-06T14:45:00"},{"$f":"B20890","v":0}]
[{"$f":"DATE($C$5229,$D$5229,$E$5229) + TIME($F$5229,0,0)","v":"1900-08-06T19:00:00"},{"$f":"IF(A20910<'PV Data'!$H$10,0,SUMIFS('PV Data'!D:D,'PV Data'!A:A,MONTH(Conversions!A20910),'PV Data'!B:B,DAY(Conversions!A20910),'PV Data'!C:C,HOUR(Conversions!A20910))/1000)","v":0}]
[{"$f":"A20926+TIME(0,15,0)","v":"1900-08-06T23:15:00"},{"$f":"B20926","v":0}]
[{"$f":"A20944+TIME(0,15,0)","v":"1900-08-07T03:45:00"},{"$f":"B20942","v":0}]
[{"$f":"DATE($C$5242,$D$5242,$E$5242) + TIME($F$5242,0,0)","v":"1900-08-07T08:00:00"},{"$f":"IF(A20962<'PV Data'!$H$10,0,SUMIFS('PV Data'!D:D,'PV Data'!A:A,MONTH(Conversions!A20962),'PV Data'!B:B,DAY(Conversions!A20962),'PV Data'!C:C,HOUR(Conversions!A20962))/1000)","v":0}]
[{"$f":"A20978+TIME(0,15,0)","v":"1900-08-07T12:15:00"},{"$f":"B20978","v":0}]
[{"$f":"A20995+TIME(0,15,0)","v":"1900-08-07T16:30:00"},{"$f":"B20994","v":0}]
[{"$f":"A21011+TIME(0,15,0)","v":"1900-08-07T20:30:00"},{"$f":"B21010","v":0}]
[{"$f":"A21030+TIME(0,15,0)","v":"1900-08-08T01:15:00"},{"$f":"B21030","v":0}]
[{"$f":"A21047+TIME(0,15,0)","v":"1900-08-08T05:30:00"},{"$f":"B21046","v":0}]
[{"$f":"DATE($C$5267,$D$5267,$E$5267) + TIME($F$5267,0,0)","v":"1900-08-08T09:00:00"},{"$f":"IF(A21062<'PV Data'!$H$10,0,SUMIFS('PV Data'!D:D,'PV Data'!A:A,MONTH(Conversions!A21062),'PV Data'!B:B,DAY(Conversions!A21062),'PV Data'!C:C,HOUR(Conversions!A21062))/1000)","v":0}]
[{"$f":"A21082+TIME(0,15,0)","v":"1900-08-08T14:15:00"},{"$f":"B21082","v":0}]
[{"$f":"A21099+TIME(0,15,0)","v":"1900-08-08T18:30:00"},{"$f":"B21098","v":0}]
[{"$f":"A21116+TIME(0,15,0)","v":"1900-08-08T22:45:00"},{"$f":"B21114","v":0}]
[{"$f":"A21127+TIME(0,15,0)","v":"1900-08-09T01:30:00"},{"$f":"B21126","v":0}]
[{"$f":"A21135+TIME(0,15,0)","v":"1900-08-09T03:30:00"},{"$f":"B21134","v":0}]
[{"$f":"A21152+TIME(0,15,0)","v":"1900-08-09T07:45:00"},{"$f":"B21150","v":0}]
[{"$f":"DATE($C$5294,$D$5294,$E$5294) + TIME($F$5294,0,0)","v":"1900-08-09T12:00:00"},{"$f":"IF(A21170<'PV Data'!$H$10,0,SUMIFS('PV Data'!D:D,'PV Data'!A:A,MONTH(Conversions!A21170),'PV Data'!B:B,DAY(Conversions!A21170),'PV Data'!C:C,HOUR(Conversions!A21170))/1000)","v":0}]
[{"$f":"A21194+TIME(0,15,0)","v":"1900-08-09T18:15:00"},{"$f":"B21194","v":0}]
[{"$f":"A21204+TIME(0,15,0)","v":"1900-08-09T20:45:00"},{"$f":"B21202","v":0}]
[{"$f":"DATE($C$5307,$D$5307,$E$5307) + TIME($F$5307,0,0)","v":"1900-08-10T01:00:00"},{"$f":"IF(A21222<'PV Data'!$H$10,0,SUMIFS('PV Data'!D:D,'PV Data'!A:A,MONTH(Conversions!A21222),'PV Data'!B:B,DAY(Conversions!A21222),'PV Data'!C:C,HOUR(Conversions!A21222))/1000)","v":0}]
[{"$f":"A21244+TIME(0,15,0)","v":"1900-08-10T06:45:00"},{"$f":"B21242","v":0}]
[{"$f":"A21256+TIME(0,15,0)","v":"1900-08-10T09:45:00"},{"$f":"B21254","v":0}]
[{"$f":"DATE($C$5320,$D$5320,$E$5320) + TIME($F$5320,0,0)","v":"1900-08-10T14:00:00"},{"$f":"IF(A21274<'PV Data'!$H$10,0,SUMIFS('PV Data'!D:D,'PV Data'!A:A,MONTH(Conversions!A21274),'PV Data'!B:B,DAY(Conversions!A21274),'PV Data'!C:C,HOUR(Conversions!A21274))/1000)","v":0}]
[{"$f":"A21290+TIME(0,15,0)","v":"1900-08-10T18:15:00"},{"$f":"B21290","v":0}]
[{"$f":"A21311+TIME(0,15,0)","v":"1900-08-10T23:30:00"},{"$f":"B21310","v":0}]
[{"$f":"DATE($C$5333,$D$5333,$E$5333) + TIME($F$5333,0,0)","v":"1900-08-11T03:00:00"},{"$f":"IF(A21326<'PV Data'!$H$10,0,SUMIFS('PV Data'!D:D,'PV Data'!A:A,MONTH(Conversions!A21326),'PV Data'!B:B,DAY(Conversions!A21326),'PV Data'!C:C,HOUR(Conversions!A21326))/1000)","v":0}]
[{"$f":"A21342+TIME(0,15,0)","v":"1900-08-11T07:15:00"},{"$f":"B21342","v":0}]
[{"$f":"A21359+TIME(0,15,0)","v":"1900-08-11T11:30:00"},{"$f":"B21358","v":0}]
[{"$f":"DATE($C$5346,$D$5346,$E$5346) + TIME($F$5346,0,0)","v":"1900-08-11T16:00:00"},{"$f":"IF(A21378<'PV Data'!$H$10,0,SUMIFS('PV Data'!D:D,'PV Data'!A:A,MONTH(Conversions!A21378),'PV Data'!B:B,DAY(Conversions!A21378),'PV Data'!C:C,HOUR(Conversions!A21378))/1000)","v":0}]
[{"$f":"A21378+TIME(0,15,0)","v":"1900-08-11T16:15:00"},{"$f":"B21378","v":0}]
[{"$f":"A21395+TIME(0,15,0)","v":"1900-08-11T20:30:00"},{"$f":"B21394","v":0}]
[{"$f":"A21412+TIME(0,15,0)","v":"1900-08-12T00:45:00"},{"$f":"B21410","v":0}]
[{"$f":"A21427+TIME(0,15,0)","v":"1900-08-12T04:30:00"},{"$f":"B21426","v":0}]
[{"$f":"A21447+TIME(0,15,0)","v":"1900-08-12T09:30:00"},{"$f":"B21446","v":0}]
[{"$f":"A21464+TIME(0,15,0)","v":"1900-08-12T13:45:00"},{"$f":"B21462","v":0}]
[{"$f":"DATE($C$5371,$D$5371,$E$5371) + TIME($F$5371,0,0)","v":"1900-08-12T17:00:00"},{"$f":"IF(A21478<'PV Data'!$H$10,0,SUMIFS('PV Data'!D:D,'PV Data'!A:A,MONTH(Conversions!A21478),'PV Data'!B:B,DAY(Conversions!A21478),'PV Data'!C:C,HOUR(Conversions!A21478))/1000)","v":0}]
[{"$f":"A21499+TIME(0,15,0)","v":"1900-08-12T22:30:00"},{"$f":"B21498","v":0}]
[{"$f":"A21516+TIME(0,15,0)","v":"1900-08-13T02:45:00"},{"$f":"B21514","v":0}]
[{"$f":"DATE($C$5385,$D$5385,$E$5385) + TIME($F$5385,0,0)","v":"1900-08-13T07:00:00"},{"$f":"IF(A21534<'PV Data'!$H$10,0,SUMIFS('PV Data'!D:D,'PV Data'!A:A,MONTH(Conversions!A21534),'PV Data'!B:B,DAY(Conversions!A21534),'PV Data'!C:C,HOUR(Conversions!A21534))/1000)","v":0}]
[{"$f":"A21543+TIME(0,15,0)","v":"1900-08-13T09:30:00"},{"$f":"B21542","v":0}]
[{"$f":"A21568+TIME(0,15,0)","v":"1900-08-13T15:45:00"},{"$f":"B21566","v":0}]
[{"$f":"DATE($C$5398,$D$5398,$E$5398) + TIME($F$5398,0,0)","v":"1900-08-13T20:00:00"},{"$f":"IF(A21586<'PV Data'!$H$10,0,SUMIFS('PV Data'!D:D,'PV Data'!A:A,MONTH(Conversions!A21586),'PV Data'!B:B,DAY(Conversions!A21586),'PV Data'!C:C,HOUR(Conversions!A21586))/1000)","v":0}]
[{"$f":"A21602+TIME(0,15,0)","v":"1900-08-14T00:15:00"},{"$f":"B21602","v":0}]
[{"$f":"A21610+TIME(0,15,0)","v":"1900-08-14T02:15:00"},{"$f":"B21610","v":0}]
[{"$f":"DATE($C$5411,$D$5411,$E$5411) + TIME($F$5411,0,0)","v":"1900-08-14T09:00:00"},{"$f":"IF(A21638<'PV Data'!$H$10,0,SUMIFS('PV Data'!D:D,'PV Data'!A:A,MONTH(Conversions!A21638),'PV Data'!B:B,DAY(Conversions!A21638),'PV Data'!C:C,HOUR(Conversions!A21638))/1000)","v":0}]
[{"$f":"A21638+TIME(0,15,0)","v":"1900-08-14T09:15:00"},{"$f":"B21638","v":0}]
[{"$f":"A21660+TIME(0,15,0)","v":"1900-08-14T14:45:00"},{"$f":"B21658","v":0}]
[{"$f":"DATE($C$5420,$D$5420,$E$5420) + TIME($F$5420,0,0)","v":"1900-08-14T18:00:00"},{"$f":"IF(A21674<'PV Data'!$H$10,0,SUMIFS('PV Data'!D:D,'PV Data'!A:A,MONTH(Conversions!A21674),'PV Data'!B:B,DAY(Conversions!A21674),'PV Data'!C:C,HOUR(Conversions!A21674))/1000)","v":0}]
[{"$f":"A21690+TIME(0,15,0)","v":"1900-08-14T22:15:00"},{"$f":"B21690","v":0}]
[{"$f":"A21707+TIME(0,15,0)","v":"1900-08-15T02:30:00"},{"$f":"B21706","v":0}]
[{"$f":"A21726+TIME(0,15,0)","v":"1900-08-15T07:15:00"},{"$f":"B21726","v":0}]
[{"$f":"A21742+TIME(0,15,0)","v":"1900-08-15T11:15:00"},{"$f":"B21742","v":0}]
[{"$f":"A21759+TIME(0,15,0)","v":"1900-08-15T15:30:00"},{"$f":"B21758","v":0}]
[{"$f":"A21776+TIME(0,15,0)","v":"1900-08-15T19:45:00"},{"$f":"B21774","v":0}]
[{"$f":"DATE($C$5450,$D$5450,$E$5450) + TIME($F$5450,0,0)","v":"1900-08-16"},{"$f":"IF(A21794<'PV Data'!$H$10,0,SUMIFS('PV Data'!D:D,'PV Data'!A:A,MONTH(Conversions!A21794),'PV Data'!B:B,DAY(Conversions!A21794),'PV Data'!C:C,HOUR(Conversions!A21794))/1000)","v":0}]
[{"$f":"A21811+TIME(0,15,0)","v":"1900-08-16T04:30:00"},{"$f":"B21810","v":0}]
[{"$f":"A21828+TIME(0,15,0)","v":"1900-08-16T08:45:00"},{"$f":"B21826","v":0}]
[{"$f":"A21843+TIME(0,15,0)","v":"1900-08-16T12:30:00"},{"$f":"B21842","v":0}]
[{"$f":"A21863+TIME(0,15,0)","v":"1900-08-16T17:30:00"},{"$f":"B21862","v":0}]
[{"$f":"A21880+TIME(0,15,0)","v":"1900-08-16T21:45:00"},{"$f":"B21878","v":0}]
[{"$f":"DATE($C$5476,$D$5476,$E$5476) + TIME($F$5476,0,0)","v":"1900-08-17T02:00:00"},{"$f":"IF(A21898<'PV Data'!$H$10,0,SUMIFS('PV Data'!D:D,'PV Data'!A:A,MONTH(Conversions!A21898),'PV Data'!B:B,DAY(Conversions!A21898),'PV Data'!C:C,HOUR(Conversions!A21898))/1000)","v":0}]
[{"$f":"A21910+TIME(0,15,0)","v":"1900-08-17T05:15:00"},{"$f":"B21910","v":0}]
[{"$f":"A21916+TIME(0,15,0)","v":"1900-08-17T06:45:00"},{"$f":"B21914","v":0}]
[{"$f":"DATE($C$5485,$D$5485,$E$5485) + TIME($F$5485,0,0)","v":"1900-08-17T11:00:00"},{"$f":"IF(A21934<'PV Data'!$H$10,0,SUMIFS('PV Data'!D:D,'PV Data'!A:A,MONTH(Conversions!A21934),'PV Data'!B:B,DAY(Conversions!A21934),'PV Data'!C:C,HOUR(Conversions!A21934))/1000)","v":0}]
[{"$f":"A21950+TIME(0,15,0)","v":"1900-08-17T15:15:00"},{"$f":"B21950","v":0}]
[{"$f":"A21976+TIME(0,15,0)","v":"1900-08-17T21:45:00"},{"$f":"B21974","v":0}]
[{"$f":"DATE($C$5498,$D$5498,$E$5498) + TIME($F$5498,0,0)","v":"1900-08-18"},{"$f":"IF(A21986<'PV Data'!$H$10,0,SUMIFS('PV Data'!D:D,'PV Data'!A:A,MONTH(Conversions!A21986),'PV Data'!B:B,DAY(Conversions!A21986),'PV Data'!C:C,HOUR(Conversions!A21986))/1000)","v":0}]
[{"$f":"A22002+TIME(0,15,0)","v":"1900-08-18T04:15:00"},{"$f":"B22002","v":0}]
[{"$f":"A22019+TIME(0,15,0)","v":"1900-08-18T08:30:00"},{"$f":"B22018","v":0}]
[{"$f":"A22043+TIME(0,15,0)","v":"1900-08-18T14:30:00"},{"$f":"B22042","v":0}]
[{"$f":"A22054+TIME(0,15,0)","v":"1900-08-18T17:15:00"},{"$f":"B22054","v":0}]
[{"$f":"A22071+TIME(0,15,0)","v":"1900-08-18T21:30:00"},{"$f":"B22070","v":0}]
[{"$f":"DATE($C$5525,$D$5525,$E$5525) + TIME($F$5525,0,0)","v":"1900-08-19T03:00:00"},{"$f":"IF(A22094<'PV Data'!$H$10,0,SUMIFS('PV Data'!D:D,'PV Data'!A:A,MONTH(Conversions!A22094),'PV Data'!B:B,DAY(Conversions!A22094),'PV Data'!C:C,HOUR(Conversions!A22094))/1000)","v":0}]
[{"$f":"A22106+TIME(0,15,0)","v":"1900-08-19T06:15:00"},{"$f":"B22106","v":0}]
[{"$f":"A22123+TIME(0,15,0)","v":"1900-08-19T10:30:00"},{"$f":"B22122","v":0}]
[{"$f":"A22140+TIME(0,15,0)","v":"1900-08-19T14:45:00"},{"$f":"B22138","v":0}]
[{"$f":"A22142+TIME(0,15,0)","v":"1900-08-19T15:15:00"},{"$f":"B22142","v":0}]
[{"$f":"A22159+TIME(0,15,0)","v":"1900-08-19T19:30:00"},{"$f":"B22158","v":0}]
[{"$f":"A22176+TIME(0,15,0)","v":"1900-08-19T23:45:00"},{"$f":"B22174","v":0}]
[{"$f":"DATE($C$5550,$D$5550,$E$5550) + TIME($F$5550,0,0)","v":"1900-08-20T04:00:00"},{"$f":"IF(A22194<'PV Data'!$H$10,0,SUMIFS('PV Data'!D:D,'PV Data'!A:A,MONTH(Conversions!A22194),'PV Data'!B:B,DAY(Conversions!A22194),'PV Data'!C:C,HOUR(Conversions!A22194))/1000)","v":0}]
[{"$f":"DATE($C$5554,$D$5554,$E$5554) + TIME($F$5554,0,0)","v":"1900-08-20T08:00:00"},{"$f":"IF(A22210<'PV Data'!$H$10,0,SUMIFS('PV Data'!D:D,'PV Data'!A:A,MONTH(Conversions!A22210),'PV Data'!B:B,DAY(Conversions!A22210),'PV Data'!C:C,HOUR(Conversions!A22210))/1000)","v":0}]
[{"$f":"A22228+TIME(0,15,0)","v":"1900-08-20T12:45:00"},{"$f":"B22226","v":0}]
[{"$f":"DATE($C$5563,$D$5563,$E$5563) + TIME($F$5563,0,0)","v":"1900-08-20T17:00:00"},{"$f":"IF(A22246<'PV Data'!$H$10,0,SUMIFS('PV Data'!D:D,'PV Data'!A:A,MONTH(Conversions!A22246),'PV Data'!B:B,DAY(Conversions!A22246),'PV Data'!C:C,HOUR(Conversions!A22246))/1000)","v":0}]
[{"$f":"A22259+TIME(0,15,0)","v":"1900-08-20T20:30:00"},{"$f":"B22258","v":0}]
[{"$f":"A22280+TIME(0,15,0)","v":"1900-08-21T01:45:00"},{"$f":"B22278","v":0}]
[{"$f":"DATE($C$5576,$D$5576,$E$5576) + TIME($F$5576,0,0)","v":"1900-08-21T06:00:00"},{"$f":"IF(A22298<'PV Data'!$H$10,0,SUMIFS('PV Data'!D:D,'PV Data'!A:A,MONTH(Conversions!A22298),'PV Data'!B:B,DAY(Conversions!A22298),'PV Data'!C:C,HOUR(Conversions!A22298))/1000)","v":0}]
[{"$f":"A22314+TIME(0,15,0)","v":"1900-08-21T10:15:00"},{"$f":"B22314","v":0}]
[{"$f":"A22326+TIME(0,15,0)","v":"1900-08-21T13:15:00"},{"$f":"B22326","v":0}]
[{"$f":"DATE($C$5589,$D$5589,$E$5589) + TIME($F$5589,0,0)","v":"1900-08-21T19:00:00"},{"$f":"IF(A22350<'PV Data'!$H$10,0,SUMIFS('PV Data'!D:D,'PV Data'!A:A,MONTH(Conversions!A22350),'PV Data'!B:B,DAY(Conversions!A22350),'PV Data'!C:C,HOUR(Conversions!A22350))/1000)","v":0}]
[{"$f":"A22366+TIME(0,15,0)","v":"1900-08-21T23:15:00"},{"$f":"B22366","v":0}]
[{"$f":"A22383+TIME(0,15,0)","v":"1900-08-22T03:30:00"},{"$f":"B22382","v":0}]
[{"$f":"A22392+TIME(0,15,0)","v":"1900-08-22T05:45:00"},{"$f":"B22390","v":0}]
[{"$f":"A22418+TIME(0,15,0)","v":"1900-08-22T12:15:00"},{"$f":"B22418","v":0}]
[{"$f":"A22419+TIME(0,15,0)","v":"1900-08-22T12:30:00"},{"$f":"B22418","v":0}]
[{"$f":"A22442+TIME(0,15,0)","v":"1900-08-22T18:15:00"},{"$f":"B22442","v":0}]
[{"$f":"A22454+TIME(0,15,0)","v":"1900-08-22T21:15:00"},{"$f":"B22454","v":0}]
[{"$f":"A22471+TIME(0,15,0)","v":"1900-08-23T01:30:00"},{"$f":"B22470","v":0}]
[{"$f":"A22488+TIME(0,15,0)","v":"1900-08-23T05:45:00"},{"$f":"B22486","v":0}]
[{"$f":"DATE($C$5629,$D$5629,$E$5629) + TIME($F$5629,0,0)","v":"1900-08-23T11:00:00"},{"$f":"IF(A22510<'PV Data'!$H$10,0,SUMIFS('PV Data'!D:D,'PV Data'!A:A,MONTH(Conversions!A22510),'PV Data'!B:B,DAY(Conversions!A22510),'PV Data'!C:C,HOUR(Conversions!A22510))/1000)","v":0}]
[{"$f":"A22523+TIME(0,15,0)","v":"1900-08-23T14:30:00"},{"$f":"B22522","v":0}]
[{"$f":"A22540+TIME(0,15,0)","v":"1900-08-23T18:45:00"},{"$f":"B22538","v":0}]
[{"$f":"DATE($C$5641,$D$5641,$E$5641) + TIME($F$5641,0,0)","v":"1900-08-23T23:00:00"},{"$f":"IF(A22558<'PV Data'!$H$10,0,SUMIFS('PV Data'!D:D,'PV Data'!A:A,MONTH(Conversions!A22558),'PV Data'!B:B,DAY(Conversions!A22558),'PV Data'!C:C,HOUR(Conversions!A22558))/1000)","v":0}]
[{"$f":"A22575+TIME(0,15,0)","v":"1900-08-24T03:30:00"},{"$f":"B22574","v":0}]
[{"$f":"A22592+TIME(0,15,0)","v":"1900-08-24T07:45:00"},{"$f":"B22590","v":0}]
[{"$f":"DATE($C$5654,$D$5654,$E$5654) + TIME($F$5654,0,0)","v":"1900-08-24T12:00:00"},{"$f":"IF(A22610<'PV Data'!$H$10,0,SUMIFS('PV Data'!D:D,'PV Data'!A:A,MONTH(Conversions!A22610),'PV Data'!B:B,DAY(Conversions!A22610),'PV Data'!C:C,HOUR(Conversions!A22610))/1000)","v":0}]
[{"$f":"A22626+TIME(0,15,0)","v":"1900-08-24T16:15:00"},{"$f":"B22626","v":0}]
[{"$f":"A22642+TIME(0,15,0)","v":"1900-08-24T20:15:00"},{"$f":"B22642","v":0}]
[{"$f":"DATE($C$5667,$D$5667,$E$5667) + TIME($F$5667,0,0)","v":"1900-08-25T01:00:00"},{"$f":"IF(A22662<'PV Data'!$H$10,0,SUMIFS('PV Data'!D:D,'PV Data'!A:A,MONTH(Conversions!A22662),'PV Data'!B:B,DAY(Conversions!A22662),'PV Data'!C:C,HOUR(Conversions!A22662))/1000)","v":0}]
[{"$f":"A22678+TIME(0,15,0)","v":"1900-08-25T05:15:00"},{"$f":"B22678","v":0}]
[{"$f":"A22692+TIME(0,15,0)","v":"1900-08-25T08:45:00"},{"$f":"B22690","v":0}]
[{"$f":"DATE($C$5676,$D$5676,$E$5676) + TIME($F$5676,0,0)","v":"1900-08-25T10:00:00"},{"$f":"IF(A22698<'PV Data'!$H$10,0,SUMIFS('PV Data'!D:D,'PV Data'!A:A,MONTH(Conversions!A22698),'PV Data'!B:B,DAY(Conversions!A22698),'PV Data'!C:C,HOUR(Conversions!A22698))/1000)","v":0}]
[{"$f":"A22714+TIME(0,15,0)","v":"1900-08-25T14:15:00"},{"$f":"B22714","v":0}]
[{"$f":"A22731+TIME(0,15,0)","v":"1900-08-25T18:30:00"},{"$f":"B22730","v":0}]
[{"$f":"A22759+TIME(0,15,0)","v":"1900-08-26T01:30:00"},{"$f":"B22758","v":0}]
[{"$f":"A22766+TIME(0,15,0)","v":"1900-08-26T03:15:00"},{"$f":"B22766","v":0}]
[{"$f":"A22783+TIME(0,15,0)","v":"1900-08-26T07:30:00"},{"$f":"B22782","v":0}]
[{"$f":"A22800+TIME(0,15,0)","v":"1900-08-26T11:45:00"},{"$f":"B22798","v":0}]
[{"$f":"DATE($C$5708,$D$5708,$E$5708) + TIME($F$5708,0,0)","v":"1900-08-26T18:00:00"},{"$f":"IF(A22826<'PV Data'!$H$10,0,SUMIFS('PV Data'!D:D,'PV Data'!A:A,MONTH(Conversions!A22826),'PV Data'!B:B,DAY(Conversions!A22826),'PV Data'!C:C,HOUR(Conversions!A22826))/1000)","v":0}]
[{"$f":"A22835+TIME(0,15,0)","v":"1900-08-26T20:30:00"},{"$f":"B22834","v":0}]
[{"$f":"A22852+TIME(0,15,0)","v":"1900-08-27T00:45:00"},{"$f":"B22850","v":0}]
[{"$f":"A22858+TIME(0,15,0)","v":"1900-08-27T02:15:00"},{"$f":"B22858","v":0}]
[{"$f":"A22887+TIME(0,15,0)","v":"1900-08-27T09:30:00"},{"$f":"B22886","v":0}]
[{"$f":"A22904+TIME(0,15,0)","v":"1900-08-27T13:45:00"},{"$f":"B22902","v":0}]
[{"$f":"DATE($C$5732,$D$5732,$E$5732) + TIME($F$5732,0,0)","v":"1900-08-27T18:00:00"},{"$f":"IF(A22922<'PV Data'!$H$10,0,SUMIFS('PV Data'!D:D,'PV Data'!A:A,MONTH(Conversions!A22922),'PV Data'!B:B,DAY(Conversions!A22922),'PV Data'!C:C,HOUR(Conversions!A22922))/1000)","v":0}]
[{"$f":"DATE($C$5733,$D$5733,$E$5733) + TIME($F$5733,0,0)","v":"1900-08-27T19:00:00"},{"$f":"IF(A22926<'PV Data'!$H$10,0,SUMIFS('PV Data'!D:D,'PV Data'!A:A,MONTH(Conversions!A22926),'PV Data'!B:B,DAY(Conversions!A22926),'PV Data'!C:C,HOUR(Conversions!A22926))/1000)","v":0}]
[{"$f":"A22940+TIME(0,15,0)","v":"1900-08-27T22:45:00"},{"$f":"B22938","v":0}]
[{"$f":"DATE($C$5741,$D$5741,$E$5741) + TIME($F$5741,0,0)","v":"1900-08-28T03:00:00"},{"$f":"IF(A22958<'PV Data'!$H$10,0,SUMIFS('PV Data'!D:D,'PV Data'!A:A,MONTH(Conversions!A22958),'PV Data'!B:B,DAY(Conversions!A22958),'PV Data'!C:C,HOUR(Conversions!A22958))/1000)","v":0}]
[{"$f":"A22974+TIME(0,15,0)","v":"1900-08-28T07:15:00"},{"$f":"B22974","v":0}]
[{"$f":"A22991+TIME(0,15,0)","v":"1900-08-28T11:30:00"},{"$f":"B22990","v":0}]
[{"$f":"DATE($C$5754,$D$5754,$E$5754) + TIME($F$5754,0,0)","v":"1900-08-28T16:00:00"},{"$f":"IF(A23010<'PV Data'!$H$10,0,SUMIFS('PV Data'!D:D,'PV Data'!A:A,MONTH(Conversions!A23010),'PV Data'!B:B,DAY(Conversions!A23010),'PV Data'!C:C,HOUR(Conversions!A23010))/1000)","v":0}]
[{"$f":"A23026+TIME(0,15,0)","v":"1900-08-28T20:15:00"},{"$f":"B23026","v":0}]
[{"$f":"DATE($C$5762,$D$5762,$E$5762) + TIME($F$5762,0,0)","v":"1900-08-29"},{"$f":"IF(A23042<'PV Data'!$H$10,0,SUMIFS('PV Data'!D:D,'PV Data'!A:A,MONTH(Conversions!A23042),'PV Data'!B:B,DAY(Conversions!A23042),'PV Data'!C:C,HOUR(Conversions!A23042))/1000)","v":0}]
[{"$f":"DATE($C$5767,$D$5767,$E$5767) + TIME($F$5767,0,0)","v":"1900-08-29T05:00:00"},{"$f":"IF(A23062<'PV Data'!$H$10,0,SUMIFS('PV Data'!D:D,'PV Data'!A:A,MONTH(Conversions!A23062),'PV Data'!B:B,DAY(Conversions!A23062),'PV Data'!C:C,HOUR(Conversions!A23062))/1000)","v":0}]
[{"$f":"A23078+TIME(0,15,0)","v":"1900-08-29T09:15:00"},{"$f":"B23078","v":0}]
[{"$f":"A23095+TIME(0,15,0)","v":"1900-08-29T13:30:00"},{"$f":"B23094","v":0}]
[{"$f":"A23108+TIME(0,15,0)","v":"1900-08-29T16:45:00"},{"$f":"B23106","v":0}]
[{"$f":"A23130+TIME(0,15,0)","v":"1900-08-29T22:15:00"},{"$f":"B23130","v":0}]
[{"$f":"A23147+TIME(0,15,0)","v":"1900-08-30T02:30:00"},{"$f":"B23146","v":0}]
[{"$f":"A23164+TIME(0,15,0)","v":"1900-08-30T06:45:00"},{"$f":"B23162","v":0}]
[{"$f":"A23174+TIME(0,15,0)","v":"1900-08-30T09:15:00"},{"$f":"B23174","v":0}]
[{"$f":"A23199+TIME(0,15,0)","v":"1900-08-30T15:30:00"},{"$f":"B23198","v":0}]
[{"$f":"A23200+TIME(0,15,0)","v":"1900-08-30T15:45:00"},{"$f":"B23198","v":0}]
[{"$f":"DATE($C$5808,$D$5808,$E$5808) + TIME($F$5808,0,0)","v":"1900-08-30T22:00:00"},{"$f":"IF(A23226<'PV Data'!$H$10,0,SUMIFS('PV Data'!D:D,'PV Data'!A:A,MONTH(Conversions!A23226),'PV Data'!B:B,DAY(Conversions!A23226),'PV Data'!C:C,HOUR(Conversions!A23226))/1000)","v":0}]
[{"$f":"A23235+TIME(0,15,0)","v":"1900-08-31T00:30:00"},{"$f":"B23234","v":0}]
[{"$f":"A23252+TIME(0,15,0)","v":"1900-08-31T04:45:00"},{"$f":"B23250","v":0}]
[{"$f":"DATE($C$5819,$D$5819,$E$5819) + TIME($F$5819,0,0)","v":"1900-08-31T09:00:00"},{"$f":"IF(A23270<'PV Data'!$H$10,0,SUMIFS('PV Data'!D:D,'PV Data'!A:A,MONTH(Conversions!A23270),'PV Data'!B:B,DAY(Conversions!A23270),'PV Data'!C:C,HOUR(Conversions!A23270))/1000)","v":0}]
[{"$f":"A23291+TIME(0,15,0)","v":"1900-08-31T14:30:00"},{"$f":"B23290","v":0}]
[{"$f":"A23304+TIME(0,15,0)","v":"1900-08-31T17:45:00"},{"$f":"B23302","v":0}]
[{"$f":"DATE($C$5832,$D$5832,$E$5832) + TIME($F$5832,0,0)","v":"1900-08-31T22:00:00"},{"$f":"IF(A23322<'PV Data'!$H$10,0,SUMIFS('PV Data'!D:D,'PV Data'!A:A,MONTH(Conversions!A23322),'PV Data'!B:B,DAY(Conversions!A23322),'PV Data'!C:C,HOUR(Conversions!A23322))/1000)","v":0}]
[{"$f":"A23338+TIME(0,15,0)","v":"1900-09-01T02:15:00"},{"$f":"B23338","v":0}]
[{"$f":"A23358+TIME(0,15,0)","v":"1900-09-01T07:15:00"},{"$f":"B23358","v":0}]
[{"$f":"DATE($C$5845,$D$5845,$E$5845) + TIME($F$5845,0,0)","v":"1900-09-01T11:00:00"},{"$f":"IF(A23374<'PV Data'!$H$10,0,SUMIFS('PV Data'!D:D,'PV Data'!A:A,MONTH(Conversions!A23374),'PV Data'!B:B,DAY(Conversions!A23374),'PV Data'!C:C,HOUR(Conversions!A23374))/1000)","v":0}]
[{"$f":"A23390+TIME(0,15,0)","v":"1900-09-01T15:15:00"},{"$f":"B23390","v":0}]
[{"$f":"A23407+TIME(0,15,0)","v":"1900-09-01T19:30:00"},{"$f":"B23406","v":0}]
[{"$f":"A23424+TIME(0,15,0)","v":"1900-09-01T23:45:00"},{"$f":"B23422","v":0}]
[{"$f":"A23442+TIME(0,15,0)","v":"1900-09-02T04:15:00"},{"$f":"B23442","v":0}]
[{"$f":"A23459+TIME(0,15,0)","v":"1900-09-02T08:30:00"},{"$f":"B23458","v":0}]
[{"$f":"A23474+TIME(0,15,0)","v":"1900-09-02T12:15:00"},{"$f":"B23474","v":0}]
[{"$f":"A23478+TIME(0,15,0)","v":"1900-09-02T13:15:00"},{"$f":"B23478","v":0}]
[{"$f":"A23495+TIME(0,15,0)","v":"1900-09-02T17:30:00"},{"$f":"B23494","v":0}]
[{"$f":"A23512+TIME(0,15,0)","v":"1900-09-02T21:45:00"},{"$f":"B23510","v":0}]
[{"$f":"DATE($C$5887,$D$5887,$E$5887) + TIME($F$5887,0,0)","v":"1900-09-03T05:00:00"},{"$f":"IF(A23542<'PV Data'!$H$10,0,SUMIFS('PV Data'!D:D,'PV Data'!A:A,MONTH(Conversions!A23542),'PV Data'!B:B,DAY(Conversions!A23542),'PV Data'!C:C,HOUR(Conversions!A23542))/1000)","v":0}]
[{"$f":"A23547+TIME(0,15,0)","v":"1900-09-03T06:30:00"},{"$f":"B23546","v":0}]
[{"$f":"A23564+TIME(0,15,0)","v":"1900-09-03T10:45:00"},{"$f":"B23562","v":0}]
[{"$f":"DATE($C$5897,$D$5897,$E$5897) + TIME($F$5897,0,0)","v":"1900-09-03T15:00:00"},{"$f":"IF(A23582<'PV Data'!$H$10,0,SUMIFS('PV Data'!D:D,'PV Data'!A:A,MONTH(Conversions!A23582),'PV Data'!B:B,DAY(Conversions!A23582),'PV Data'!C:C,HOUR(Conversions!A23582))/1000)","v":0}]
[{"$f":"A23590+TIME(0,15,0)","v":"1900-09-03T17:15:00"},{"$f":"B23590","v":0}]
[{"$f":"A23616+TIME(0,15,0)","v":"1900-09-03T23:45:00"},{"$f":"B23614","v":0}]
[{"$f":"DATE($C$5910,$D$5910,$E$5910) + TIME($F$5910,0,0)","v":"1900-09-04T04:00:00"},{"$f":"IF(A23634<'PV Data'!$H$10,0,SUMIFS('PV Data'!D:D,'PV Data'!A:A,MONTH(Conversions!A23634),'PV Data'!B:B,DAY(Conversions!A23634),'PV Data'!C:C,HOUR(Conversions!A23634))/1000)","v":0}]
[{"$f":"DATE($C$5912,$D$5912,$E$5912) + TIME($F$5912,0,0)","v":"1900-09-04T06:00:00"},{"$f":"IF(A23642<'PV Data'!$H$10,0,SUMIFS('PV Data'!D:D,'PV Data'!A:A,MONTH(Conversions!A23642),'PV Data'!B:B,DAY(Conversions!A23642),'PV Data'!C:C,HOUR(Conversions!A23642))/1000)","v":0}]
[{"$f":"A23668+TIME(0,15,0)","v":"1900-09-04T12:45:00"},{"$f":"B23666","v":0}]
[{"$f":"DATE($C$5923,$D$5923,$E$5923) + TIME($F$5923,0,0)","v":"1900-09-04T17:00:00"},{"$f":"IF(A23686<'PV Data'!$H$10,0,SUMIFS('PV Data'!D:D,'PV Data'!A:A,MONTH(Conversions!A23686),'PV Data'!B:B,DAY(Conversions!A23686),'PV Data'!C:C,HOUR(Conversions!A23686))/1000)","v":0}]
[{"$f":"A23702+TIME(0,15,0)","v":"1900-09-04T21:15:00"},{"$f":"B23702","v":0}]
[{"$f":"A23707+TIME(0,15,0)","v":"1900-09-04T22:30:00"},{"$f":"B23706","v":0}]
[{"$f":"DATE($C$5932,$D$5932,$E$5932) + TIME($F$5932,0,0)","v":"1900-09-05T02:00:00"},{"$f":"IF(A23722<'PV Data'!$H$10,0,SUMIFS('PV Data'!D:D,'PV Data'!A:A,MONTH(Conversions!A23722),'PV Data'!B:B,DAY(Conversions!A23722),'PV Data'!C:C,HOUR(Conversions!A23722))/1000)","v":0}]
[{"$f":"A23738+TIME(0,15,0)","v":"1900-09-05T06:15:00"},{"$f":"B23738","v":0}]
[{"$f":"A23755+TIME(0,15,0)","v":"1900-09-05T10:30:00"},{"$f":"B23754","v":0}]
[{"$f":"A23774+TIME(0,15,0)","v":"1900-09-05T15:15:00"},{"$f":"B23774","v":0}]
[{"$f":"A23790+TIME(0,15,0)","v":"1900-09-05T19:15:00"},{"$f":"B23790","v":0}]
[{"$f":"A23807+TIME(0,15,0)","v":"1900-09-05T23:30:00"},{"$f":"B23806","v":0}]
[{"$f":"A23824+TIME(0,15,0)","v":"1900-09-06T03:45:00"},{"$f":"B23822","v":0}]
[{"$f":"A23842+TIME(0,15,0)","v":"1900-09-06T08:15:00"},{"$f":"B23842","v":0}]
[{"$f":"A23859+TIME(0,15,0)","v":"1900-09-06T12:30:00"},{"$f":"B23858","v":0}]
[{"$f":"A23876+TIME(0,15,0)","v":"1900-09-06T16:45:00"},{"$f":"B23874","v":0}]
[{"$f":"A23890+TIME(0,15,0)","v":"1900-09-06T20:15:00"},{"$f":"B23890","v":0}]
[{"$f":"A23911+TIME(0,15,0)","v":"1900-09-07T01:30:00"},{"$f":"B23910","v":0}]
[{"$f":"A23928+TIME(0,15,0)","v":"1900-09-07T05:45:00"},{"$f":"B23926","v":0}]
[{"$f":"DATE($C$5988,$D$5988,$E$5988) + TIME($F$5988,0,0)","v":"1900-09-07T10:00:00"},{"$f":"IF(A23946<'PV Data'!$H$10,0,SUMIFS('PV Data'!D:D,'PV Data'!A:A,MONTH(Conversions!A23946),'PV Data'!B:B,DAY(Conversions!A23946),'PV Data'!C:C,HOUR(Conversions!A23946))/1000)","v":0}]
[{"$f":"DATE($C$5991,$D$5991,$E$5991) + TIME($F$5991,0,0)","v":"1900-09-07T13:00:00"},{"$f":"IF(A23958<'PV Data'!$H$10,0,SUMIFS('PV Data'!D:D,'PV Data'!A:A,MONTH(Conversions!A23958),'PV Data'!B:B,DAY(Conversions!A23958),'PV Data'!C:C,HOUR(Conversions!A23958))/1000)","v":0}]
[{"$f":"A23980+TIME(0,15,0)","v":"1900-09-07T18:45:00"},{"$f":"B23978","v":0}]
[{"$f":"DATE($C$5997,$D$5997,$E$5997) + TIME($F$5997,0,0)","v":"1900-09-07T19:00:00"},{"$f":"IF(A23982<'PV Data'!$H$10,0,SUMIFS('PV Data'!D:D,'PV Data'!A:A,MONTH(Conversions!A23982),'PV Data'!B:B,DAY(Conversions!A23982),'PV Data'!C:C,HOUR(Conversions!A23982))/1000)","v":0}]
[{"$f":"A23998+TIME(0,15,0)","v":"1900-09-07T23:15:00"},{"$f":"B23998","v":0}]
[{"$f":"A24023+TIME(0,15,0)","v":"1900-09-08T05:30:00"},{"$f":"B24022","v":0}]
[{"$f":"DATE($C$6010,$D$6010,$E$6010) + TIME($F$6010,0,0)","v":"1900-09-08T08:00:00"},{"$f":"IF(A24034<'PV Data'!$H$10,0,SUMIFS('PV Data'!D:D,'PV Data'!A:A,MONTH(Conversions!A24034),'PV Data'!B:B,DAY(Conversions!A24034),'PV Data'!C:C,HOUR(Conversions!A24034))/1000)","v":0}]
[{"$f":"A24050+TIME(0,15,0)","v":"1900-09-08T12:15:00"},{"$f":"B24050","v":0}]
[{"$f":"DATE($C$6020,$D$6020,$E$6020) + TIME($F$6020,0,0)","v":"1900-09-08T18:00:00"},{"$f":"IF(A24074<'PV Data'!$H$10,0,SUMIFS('PV Data'!D:D,'PV Data'!A:A,MONTH(Conversions!A24074),'PV Data'!B:B,DAY(Conversions!A24074),'PV Data'!C:C,HOUR(Conversions!A24074))/1000)","v":0}]
[{"$f":"DATE($C$6023,$D$6023,$E$6023) + TIME($F$6023,0,0)","v":"1900-09-08T21:00:00"},{"$f":"IF(A24086<'PV Data'!$H$10,0,SUMIFS('PV Data'!D:D,'PV Data'!A:A,MONTH(Conversions!A24086),'PV Data'!B:B,DAY(Conversions!A24086),'PV Data'!C:C,HOUR(Conversions!A24086))/1000)","v":0}]
[{"$f":"A24102+TIME(0,15,0)","v":"1900-09-09T01:15:00"},{"$f":"B24102","v":0}]
[{"$f":"A24119+TIME(0,15,0)","v":"1900-09-09T05:30:00"},{"$f":"B24118","v":0}]
[{"$f":"A24140+TIME(0,15,0)","v":"1900-09-09T10:45:00"},{"$f":"B24138","v":0}]
[{"$f":"A24154+TIME(0,15,0)","v":"1900-09-09T14:15:00"},{"$f":"B24154","v":0}]
[{"$f":"A24171+TIME(0,15,0)","v":"1900-09-09T18:30:00"},{"$f":"B24170","v":0}]
[{"$f":"A24188+TIME(0,15,0)","v":"1900-09-09T22:45:00"},{"$f":"B24186","v":0}]
[{"$f":"A24207+TIME(0,15,0)","v":"1900-09-10T03:30:00"},{"$f":"B24206","v":0}]
[{"$f":"A24223+TIME(0,15,0)","v":"1900-09-10T07:30:00"},{"$f":"B24222","v":0}]
[{"$f":"A24240+TIME(0,15,0)","v":"1900-09-10T11:45:00"},{"$f":"B24238","v":0}]
[{"$f":"DATE($C$6066,$D$6066,$E$6066) + TIME($F$6066,0,0)","v":"1900-09-10T16:00:00"},{"$f":"IF(A24258<'PV Data'!$H$10,0,SUMIFS('PV Data'!D:D,'PV Data'!A:A,MONTH(Conversions!A24258),'PV Data'!B:B,DAY(Conversions!A24258),'PV Data'!C:C,HOUR(Conversions!A24258))/1000)","v":0}]
[{"$f":"A24259+TIME(0,15,0)","v":"1900-09-10T16:30:00"},{"$f":"B24258","v":0}]
[{"$f":"A24276+TIME(0,15,0)","v":"1900-09-10T20:45:00"},{"$f":"B24274","v":0}]
[{"$f":"DATE($C$6075,$D$6075,$E$6075) + TIME($F$6075,0,0)","v":"1900-09-11T01:00:00"},{"$f":"IF(A24294<'PV Data'!$H$10,0,SUMIFS('PV Data'!D:D,'PV Data'!A:A,MONTH(Conversions!A24294),'PV Data'!B:B,DAY(Conversions!A24294),'PV Data'!C:C,HOUR(Conversions!A24294))/1000)","v":0}]
[{"$f":"A24306+TIME(0,15,0)","v":"1900-09-11T04:15:00"},{"$f":"B24306","v":0}]
[{"$f":"A24328+TIME(0,15,0)","v":"1900-09-11T09:45:00"},{"$f":"B24326","v":0}]
[{"$f":"DATE($C$6088,$D$6088,$E$6088) + TIME($F$6088,0,0)","v":"1900-09-11T14:00:00"},{"$f":"IF(A24346<'PV Data'!$H$10,0,SUMIFS('PV Data'!D:D,'PV Data'!A:A,MONTH(Conversions!A24346),'PV Data'!B:B,DAY(Conversions!A24346),'PV Data'!C:C,HOUR(Conversions!A24346))/1000)","v":0}]
[{"$f":"A24362+TIME(0,15,0)","v":"1900-09-11T18:15:00"},{"$f":"B24362","v":0}]
[{"$f":"DATE($C$6095,$D$6095,$E$6095) + TIME($F$6095,0,0)","v":"1900-09-11T21:00:00"},{"$f":"IF(A24374<'PV Data'!$H$10,0,SUMIFS('PV Data'!D:D,'PV Data'!A:A,MONTH(Conversions!A24374),'PV Data'!B:B,DAY(Conversions!A24374),'PV Data'!C:C,HOUR(Conversions!A24374))/1000)","v":0}]
[{"$f":"DATE($C$6101,$D$6101,$E$6101) + TIME($F$6101,0,0)","v":"1900-09-12T03:00:00"},{"$f":"IF(A24398<'PV Data'!$H$10,0,SUMIFS('PV Data'!D:D,'PV Data'!A:A,MONTH(Conversions!A24398),'PV Data'!B:B,DAY(Conversions!A24398),'PV Data'!C:C,HOUR(Conversions!A24398))/1000)","v":0}]
[{"$f":"A24414+TIME(0,15,0)","v":"1900-09-12T07:15:00"},{"$f":"B24414","v":0}]
[{"$f":"A24423+TIME(0,15,0)","v":"1900-09-12T09:30:00"},{"$f":"B24422","v":0}]
[{"$f":"DATE($C$6114,$D$6114,$E$6114) + TIME($F$6114,0,0)","v":"1900-09-12T16:00:00"},{"$f":"IF(A24450<'PV Data'!$H$10,0,SUMIFS('PV Data'!D:D,'PV Data'!A:A,MONTH(Conversions!A24450),'PV Data'!B:B,DAY(Conversions!A24450),'PV Data'!C:C,HOUR(Conversions!A24450))/1000)","v":0}]
[{"$f":"A24466+TIME(0,15,0)","v":"1900-09-12T20:15:00"},{"$f":"B24466","v":0}]
[{"$f":"A24483+TIME(0,15,0)","v":"1900-09-13T00:30:00"},{"$f":"B24482","v":0}]
[{"$f":"DATE($C$6124,$D$6124,$E$6124) + TIME($F$6124,0,0)","v":"1900-09-13T02:00:00"},{"$f":"IF(A24490<'PV Data'!$H$10,0,SUMIFS('PV Data'!D:D,'PV Data'!A:A,MONTH(Conversions!A24490),'PV Data'!B:B,DAY(Conversions!A24490),'PV Data'!C:C,HOUR(Conversions!A24490))/1000)","v":0}]
[{"$f":"A24502+TIME(0,15,0)","v":"1900-09-13T05:15:00"},{"$f":"B24502","v":0}]
[{"$f":"A24519+TIME(0,15,0)","v":"1900-09-13T09:30:00"},{"$f":"B24518","v":0}]
[{"$f":"A24536+TIME(0,15,0)","v":"1900-09-13T13:45:00"},{"$f":"B24534","v":0}]
[{"$f":"A24556+TIME(0,15,0)","v":"1900-09-13T18:45:00"},{"$f":"B24554","v":0}]
[{"$f":"A24571+TIME(0,15,0)","v":"1900-09-13T22:30:00"},{"$f":"B24570","v":0}]
[{"$f":"A24588+TIME(0,15,0)","v":"1900-09-14T02:45:00"},{"$f":"B24586","v":0}]
[{"$f":"DATE($C$6153,$D$6153,$E$6153) + TIME($F$6153,0,0)","v":"1900-09-14T07:00:00"},{"$f":"IF(A24606<'PV Data'!$H$10,0,SUMIFS('PV Data'!D:D,'PV Data'!A:A,MONTH(Conversions!A24606),'PV Data'!B:B,DAY(Conversions!A24606),'PV Data'!C:C,HOUR(Conversions!A24606))/1000)","v":0}]
[{"$f":"A24622+TIME(0,15,0)","v":"1900-09-14T11:15:00"},{"$f":"B24622","v":0}]
[{"$f":"A24640+TIME(0,15,0)","v":"1900-09-14T15:45:00"},{"$f":"B24638","v":0}]
[{"$f":"DATE($C$6166,$D$6166,$E$6166) + TIME($F$6166,0,0)","v":"1900-09-14T20:00:00"},{"$f":"IF(A24658<'PV Data'!$H$10,0,SUMIFS('PV Data'!D:D,'PV Data'!A:A,MONTH(Conversions!A24658),'PV Data'!B:B,DAY(Conversions!A24658),'PV Data'!C:C,HOUR(Conversions!A24658))/1000)","v":0}]
[{"$f":"DATE($C$6170,$D$6170,$E$6170) + TIME($F$6170,0,0)","v":"1900-09-15"},{"$f":"IF(A24674<'PV Data'!$H$10,0,SUMIFS('PV Data'!D:D,'PV Data'!A:A,MONTH(Conversions!A24674),'PV Data'!B:B,DAY(Conversions!A24674),'PV Data'!C:C,HOUR(Conversions!A24674))/1000)","v":0}]
[{"$f":"A24692+TIME(0,15,0)","v":"1900-09-15T04:45:00"},{"$f":"B24690","v":0}]
[{"$f":"DATE($C$6179,$D$6179,$E$6179) + TIME($F$6179,0,0)","v":"1900-09-15T09:00:00"},{"$f":"IF(A24710<'PV Data'!$H$10,0,SUMIFS('PV Data'!D:D,'PV Data'!A:A,MONTH(Conversions!A24710),'PV Data'!B:B,DAY(Conversions!A24710),'PV Data'!C:C,HOUR(Conversions!A24710))/1000)","v":0}]
[{"$f":"A24726+TIME(0,15,0)","v":"1900-09-15T13:15:00"},{"$f":"B24726","v":0}]
[{"$f":"A24739+TIME(0,15,0)","v":"1900-09-15T16:30:00"},{"$f":"B24738","v":0}]
[{"$f":"DATE($C$6192,$D$6192,$E$6192) + TIME($F$6192,0,0)","v":"1900-09-15T22:00:00"},{"$f":"IF(A24762<'PV Data'!$H$10,0,SUMIFS('PV Data'!D:D,'PV Data'!A:A,MONTH(Conversions!A24762),'PV Data'!B:B,DAY(Conversions!A24762),'PV Data'!C:C,HOUR(Conversions!A24762))/1000)","v":0}]
[{"$f":"A24762+TIME(0,15,0)","v":"1900-09-15T22:15:00"},{"$f":"B24762","v":0}]
[{"$f":"A24779+TIME(0,15,0)","v":"1900-09-16T02:30:00"},{"$f":"B24778","v":0}]
[{"$f":"A24806+TIME(0,15,0)","v":"1900-09-16T09:15:00"},{"$f":"B24806","v":0}]
[{"$f":"A24814+TIME(0,15,0)","v":"1900-09-16T11:15:00"},{"$f":"B24814","v":0}]
[{"$f":"A24831+TIME(0,15,0)","v":"1900-09-16T15:30:00"},{"$f":"B24830","v":0}]
[{"$f":"A24856+TIME(0,15,0)","v":"1900-09-16T21:45:00"},{"$f":"B24854","v":0}]
[{"$f":"A24866+TIME(0,15,0)","v":"1900-09-17T00:15:00"},{"$f":"B24866","v":0}]
[{"$f":"A24883+TIME(0,15,0)","v":"1900-09-17T04:30:00"},{"$f":"B24882","v":0}]
[{"$f":"A24900+TIME(0,15,0)","v":"1900-09-17T08:45:00"},{"$f":"B24898","v":0}]
[{"$f":"A24922+TIME(0,15,0)","v":"1900-09-17T14:15:00"},{"$f":"B24922","v":0}]
[{"$f":"A24935+TIME(0,15,0)","v":"1900-09-17T17:30:00"},{"$f":"B24934","v":0}]
[{"$f":"A24952+TIME(0,15,0)","v":"1900-09-17T21:45:00"},{"$f":"B24950","v":0}]
[{"$f":"DATE($C$6244,$D$6244,$E$6244) + TIME($F$6244,0,0)","v":"1900-09-18T02:00:00"},{"$f":"IF(A24970<'PV Data'!$H$10,0,SUMIFS('PV Data'!D:D,'PV Data'!A:A,MONTH(Conversions!A24970),'PV Data'!B:B,DAY(Conversions!A24970),'PV Data'!C:C,HOUR(Conversions!A24970))/1000)","v":0}]
[{"$f":"DATE($C$6249,$D$6249,$E$6249) + TIME($F$6249,0,0)","v":"1900-09-18T07:00:00"},{"$f":"IF(A24990<'PV Data'!$H$10,0,SUMIFS('PV Data'!D:D,'PV Data'!A:A,MONTH(Conversions!A24990),'PV Data'!B:B,DAY(Conversions!A24990),'PV Data'!C:C,HOUR(Conversions!A24990))/1000)","v":0}]
[{"$f":"A25004+TIME(0,15,0)","v":"1900-09-18T10:45:00"},{"$f":"B25002","v":0}]
[{"$f":"DATE($C$6257,$D$6257,$E$6257) + TIME($F$6257,0,0)","v":"1900-09-18T15:00:00"},{"$f":"IF(A25022<'PV Data'!$H$10,0,SUMIFS('PV Data'!D:D,'PV Data'!A:A,MONTH(Conversions!A25022),'PV Data'!B:B,DAY(Conversions!A25022),'PV Data'!C:C,HOUR(Conversions!A25022))/1000)","v":0}]
[{"$f":"A25022+TIME(0,15,0)","v":"1900-09-18T15:15:00"},{"$f":"B25022","v":0}]
[{"$f":"A25040+TIME(0,15,0)","v":"1900-09-18T19:45:00"},{"$f":"B25038","v":0}]
[{"$f":"DATE($C$6266,$D$6266,$E$6266) + TIME($F$6266,0,0)","v":"1900-09-19"},{"$f":"IF(A25058<'PV Data'!$H$10,0,SUMIFS('PV Data'!D:D,'PV Data'!A:A,MONTH(Conversions!A25058),'PV Data'!B:B,DAY(Conversions!A25058),'PV Data'!C:C,HOUR(Conversions!A25058))/1000)","v":0}]
[{"$f":"A25074+TIME(0,15,0)","v":"1900-09-19T04:15:00"},{"$f":"B25074","v":0}]
[{"$f":"DATE($C$6274,$D$6274,$E$6274) + TIME($F$6274,0,0)","v":"1900-09-19T08:00:00"},{"$f":"IF(A25090<'PV Data'!$H$10,0,SUMIFS('PV Data'!D:D,'PV Data'!A:A,MONTH(Conversions!A25090),'PV Data'!B:B,DAY(Conversions!A25090),'PV Data'!C:C,HOUR(Conversions!A25090))/1000)","v":0}]
[{"$f":"DATE($C$6279,$D$6279,$E$6279) + TIME($F$6279,0,0)","v":"1900-09-19T13:00:00"},{"$f":"IF(A25110<'PV Data'!$H$10,0,SUMIFS('PV Data'!D:D,'PV Data'!A:A,MONTH(Conversions!A25110),'PV Data'!B:B,DAY(Conversions!A25110),'PV Data'!C:C,HOUR(Conversions!A25110))/1000)","v":0}]
[{"$f":"A25126+TIME(0,15,0)","v":"1900-09-19T17:15:00"},{"$f":"B25126","v":0}]
[{"$f":"A25143+TIME(0,15,0)","v":"1900-09-19T21:30:00"},{"$f":"B25142","v":0}]
[{"$f":"A25155+TIME(0,15,0)","v":"1900-09-20T00:30:00"},{"$f":"B25154","v":0}]
[{"$f":"A25178+TIME(0,15,0)","v":"1900-09-20T06:15:00"},{"$f":"B25178","v":0}]
[{"$f":"A25195+TIME(0,15,0)","v":"1900-09-20T10:30:00"},{"$f":"B25194","v":0}]
[{"$f":"DATE($C$6303,$D$6303,$E$6303) + TIME($F$6303,0,0)","v":"1900-09-20T13:00:00"},{"$f":"IF(A25206<'PV Data'!$H$10,0,SUMIFS('PV Data'!D:D,'PV Data'!A:A,MONTH(Conversions!A25206),'PV Data'!B:B,DAY(Conversions!A25206),'PV Data'!C:C,HOUR(Conversions!A25206))/1000)","v":0}]
[{"$f":"A25230+TIME(0,15,0)","v":"1900-09-20T19:15:00"},{"$f":"B25230","v":0}]
[{"$f":"A25247+TIME(0,15,0)","v":"1900-09-20T23:30:00"},{"$f":"B25246","v":0}]
[{"$f":"A25264+TIME(0,15,0)","v":"1900-09-21T03:45:00"},{"$f":"B25262","v":0}]
[{"$f":"A25272+TIME(0,15,0)","v":"1900-09-21T05:45:00"},{"$f":"B25270","v":0}]
[{"$f":"A25283+TIME(0,15,0)","v":"1900-09-21T08:30:00"},{"$f":"B25282","v":0}]
[{"$f":"A25300+TIME(0,15,0)","v":"1900-09-21T12:45:00"},{"$f":"B25298","v":0}]
[{"$f":"DATE($C$6331,$D$6331,$E$6331) + TIME($F$6331,0,0)","v":"1900-09-21T17:00:00"},{"$f":"IF(A25318<'PV Data'!$H$10,0,SUMIFS('PV Data'!D:D,'PV Data'!A:A,MONTH(Conversions!A25318),'PV Data'!B:B,DAY(Conversions!A25318),'PV Data'!C:C,HOUR(Conversions!A25318))/1000)","v":0}]
[{"$f":"A25338+TIME(0,15,0)","v":"1900-09-21T22:15:00"},{"$f":"B25338","v":0}]
[{"$f":"A25352+TIME(0,15,0)","v":"1900-09-22T01:45:00"},{"$f":"B25350","v":0}]
[{"$f":"DATE($C$6344,$D$6344,$E$6344) + TIME($F$6344,0,0)","v":"1900-09-22T06:00:00"},{"$f":"IF(A25370<'PV Data'!$H$10,0,SUMIFS('PV Data'!D:D,'PV Data'!A:A,MONTH(Conversions!A25370),'PV Data'!B:B,DAY(Conversions!A25370),'PV Data'!C:C,HOUR(Conversions!A25370))/1000)","v":0}]
[{"$f":"A25386+TIME(0,15,0)","v":"1900-09-22T10:15:00"},{"$f":"B25386","v":0}]
[{"$f":"DATE($C$6353,$D$6353,$E$6353) + TIME($F$6353,0,0)","v":"1900-09-22T15:00:00"},{"$f":"IF(A25406<'PV Data'!$H$10,0,SUMIFS('PV Data'!D:D,'PV Data'!A:A,MONTH(Conversions!A25406),'PV Data'!B:B,DAY(Conversions!A25406),'PV Data'!C:C,HOUR(Conversions!A25406))/1000)","v":0}]
[{"$f":"DATE($C$6357,$D$6357,$E$6357) + TIME($F$6357,0,0)","v":"1900-09-22T19:00:00"},{"$f":"IF(A25422<'PV Data'!$H$10,0,SUMIFS('PV Data'!D:D,'PV Data'!A:A,MONTH(Conversions!A25422),'PV Data'!B:B,DAY(Conversions!A25422),'PV Data'!C:C,HOUR(Conversions!A25422))/1000)","v":0}]
[{"$f":"A25438+TIME(0,15,0)","v":"1900-09-22T23:15:00"},{"$f":"B25438","v":0}]
[{"$f":"A25455+TIME(0,15,0)","v":"1900-09-23T03:30:00"},{"$f":"B25454","v":0}]
[{"$f":"DATE($C$6370,$D$6370,$E$6370) + TIME($F$6370,0,0)","v":"1900-09-23T08:00:00"},{"$f":"IF(A25474<'PV Data'!$H$10,0,SUMIFS('PV Data'!D:D,'PV Data'!A:A,MONTH(Conversions!A25474),'PV Data'!B:B,DAY(Conversions!A25474),'PV Data'!C:C,HOUR(Conversions!A25474))/1000)","v":0}]
[{"$f":"A25490+TIME(0,15,0)","v":"1900-09-23T12:15:00"},{"$f":"B25490","v":0}]
[{"$f":"A25507+TIME(0,15,0)","v":"1900-09-23T16:30:00"},{"$f":"B25506","v":0}]
[{"$f":"DATE($C$6382,$D$6382,$E$6382) + TIME($F$6382,0,0)","v":"1900-09-23T20:00:00"},{"$f":"IF(A25522<'PV Data'!$H$10,0,SUMIFS('PV Data'!D:D,'PV Data'!A:A,MONTH(Conversions!A25522),'PV Data'!B:B,DAY(Conversions!A25522),'PV Data'!C:C,HOUR(Conversions!A25522))/1000)","v":0}]
[{"$f":"A25542+TIME(0,15,0)","v":"1900-09-24T01:15:00"},{"$f":"B25542","v":0}]
[{"$f":"A25543+TIME(0,15,0)","v":"1900-09-24T01:30:00"},{"$f":"B25542","v":0}]
[{"$f":"A25560+TIME(0,15,0)","v":"1900-09-24T05:45:00"},{"$f":"B25558","v":0}]
[{"$f":"A25588+TIME(0,15,0)","v":"1900-09-24T12:45:00"},{"$f":"B25586","v":0}]
[{"$f":"A25595+TIME(0,15,0)","v":"1900-09-24T14:30:00"},{"$f":"B25594","v":0}]
[{"$f":"A25612+TIME(0,15,0)","v":"1900-09-24T18:45:00"},{"$f":"B25610","v":0}]
[{"$f":"A25638+TIME(0,15,0)","v":"1900-09-25T01:15:00"},{"$f":"B25638","v":0}]
[{"$f":"A25647+TIME(0,15,0)","v":"1900-09-25T03:30:00"},{"$f":"B25646","v":0}]
[{"$f":"A25664+TIME(0,15,0)","v":"1900-09-25T07:45:00"},{"$f":"B25662","v":0}]
[{"$f":"DATE($C$6422,$D$6422,$E$6422) + TIME($F$6422,0,0)","v":"1900-09-25T12:00:00"},{"$f":"IF(A25682<'PV Data'!$H$10,0,SUMIFS('PV Data'!D:D,'PV Data'!A:A,MONTH(Conversions!A25682),'PV Data'!B:B,DAY(Conversions!A25682),'PV Data'!C:C,HOUR(Conversions!A25682))/1000)","v":0}]
[{"$f":"DATE($C$6428,$D$6428,$E$6428) + TIME($F$6428,0,0)","v":"1900-09-25T18:00:00"},{"$f":"IF(A25706<'PV Data'!$H$10,0,SUMIFS('PV Data'!D:D,'PV Data'!A:A,MONTH(Conversions!A25706),'PV Data'!B:B,DAY(Conversions!A25706),'PV Data'!C:C,HOUR(Conversions!A25706))/1000)","v":0}]
[{"$f":"A25716+TIME(0,15,0)","v":"1900-09-25T20:45:00"},{"$f":"B25714","v":0}]
[{"$f":"DATE($C$6435,$D$6435,$E$6435) + TIME($F$6435,0,0)","v":"1900-09-26T01:00:00"},{"$f":"IF(A25734<'PV Data'!$H$10,0,SUMIFS('PV Data'!D:D,'PV Data'!A:A,MONTH(Conversions!A25734),'PV Data'!B:B,DAY(Conversions!A25734),'PV Data'!C:C,HOUR(Conversions!A25734))/1000)","v":0}]
[{"$f":"A25750+TIME(0,15,0)","v":"1900-09-26T05:15:00"},{"$f":"B25750","v":0}]
[{"$f":"A25754+TIME(0,15,0)","v":"1900-09-26T06:15:00"},{"$f":"B25754","v":0}]
[{"$f":"DATE($C$6448,$D$6448,$E$6448) + TIME($F$6448,0,0)","v":"1900-09-26T14:00:00"},{"$f":"IF(A25786<'PV Data'!$H$10,0,SUMIFS('PV Data'!D:D,'PV Data'!A:A,MONTH(Conversions!A25786),'PV Data'!B:B,DAY(Conversions!A25786),'PV Data'!C:C,HOUR(Conversions!A25786))/1000)","v":0}]
[{"$f":"A25802+TIME(0,15,0)","v":"1900-09-26T18:15:00"},{"$f":"B25802","v":0}]
[{"$f":"A25804+TIME(0,15,0)","v":"1900-09-26T18:45:00"},{"$f":"B25802","v":0}]
[{"$f":"DATE($C$6457,$D$6457,$E$6457) + TIME($F$6457,0,0)","v":"1900-09-26T23:00:00"},{"$f":"IF(A25822<'PV Data'!$H$10,0,SUMIFS('PV Data'!D:D,'PV Data'!A:A,MONTH(Conversions!A25822),'PV Data'!B:B,DAY(Conversions!A25822),'PV Data'!C:C,HOUR(Conversions!A25822))/1000)","v":0}]
[{"$f":"A25838+TIME(0,15,0)","v":"1900-09-27T03:15:00"},{"$f":"B25838","v":0}]
[{"$f":"A25855+TIME(0,15,0)","v":"1900-09-27T07:30:00"},{"$f":"B25854","v":0}]
[{"$f":"A25871+TIME(0,15,0)","v":"1900-09-27T11:30:00"},{"$f":"B25870","v":0}]
[{"$f":"A25890+TIME(0,15,0)","v":"1900-09-27T16:15:00"},{"$f":"B25890","v":0}]
[{"$f":"A25907+TIME(0,15,0)","v":"1900-09-27T20:30:00"},{"$f":"B25906","v":0}]
[{"$f":"A25924+TIME(0,15,0)","v":"1900-09-28T00:45:00"},{"$f":"B25922","v":0}]
[{"$f":"DATE($C$6486,$D$6486,$E$6486) + TIME($F$6486,0,0)","v":"1900-09-28T04:00:00"},{"$f":"IF(A25938<'PV Data'!$H$10,0,SUMIFS('PV Data'!D:D,'PV Data'!A:A,MONTH(Conversions!A25938),'PV Data'!B:B,DAY(Conversions!A25938),'PV Data'!C:C,HOUR(Conversions!A25938))/1000)","v":0}]
[{"$f":"A25959+TIME(0,15,0)","v":"1900-09-28T09:30:00"},{"$f":"B25958","v":0}]
[{"$f":"A25976+TIME(0,15,0)","v":"1900-09-28T13:45:00"},{"$f":"B25974","v":0}]
[{"$f":"DATE($C$6500,$D$6500,$E$6500) + TIME($F$6500,0,0)","v":"1900-09-28T18:00:00"},{"$f":"IF(A25994<'PV Data'!$H$10,0,SUMIFS('PV Data'!D:D,'PV Data'!A:A,MONTH(Conversions!A25994),'PV Data'!B:B,DAY(Conversions!A25994),'PV Data'!C:C,HOUR(Conversions!A25994))/1000)","v":0}]
[{"$f":"A26004+TIME(0,15,0)","v":"1900-09-28T20:45:00"},{"$f":"B26002","v":0}]
[{"$f":"A26028+TIME(0,15,0)","v":"1900-09-29T02:45:00"},{"$f":"B26026","v":0}]
[{"$f":"DATE($C$6513,$D$6513,$E$6513) + TIME($F$6513,0,0)","v":"1900-09-29T07:00:00"},{"$f":"IF(A26046<'PV Data'!$H$10,0,SUMIFS('PV Data'!D:D,'PV Data'!A:A,MONTH(Conversions!A26046),'PV Data'!B:B,DAY(Conversions!A26046),'PV Data'!C:C,HOUR(Conversions!A26046))/1000)","v":0}]
[{"$f":"A26054+TIME(0,15,0)","v":"1900-09-29T09:15:00"},{"$f":"B26054","v":0}]
[{"$f":"A26064+TIME(0,15,0)","v":"1900-09-29T11:45:00"},{"$f":"B26062","v":0}]
[{"$f":"DATE($C$6522,$D$6522,$E$6522) + TIME($F$6522,0,0)","v":"1900-09-29T16:00:00"},{"$f":"IF(A26082<'PV Data'!$H$10,0,SUMIFS('PV Data'!D:D,'PV Data'!A:A,MONTH(Conversions!A26082),'PV Data'!B:B,DAY(Conversions!A26082),'PV Data'!C:C,HOUR(Conversions!A26082))/1000)","v":0}]
[{"$f":"A26098+TIME(0,15,0)","v":"1900-09-29T20:15:00"},{"$f":"B26098","v":0}]
[{"$f":"DATE($C$6532,$D$6532,$E$6532) + TIME($F$6532,0,0)","v":"1900-09-30T02:00:00"},{"$f":"IF(A26122<'PV Data'!$H$10,0,SUMIFS('PV Data'!D:D,'PV Data'!A:A,MONTH(Conversions!A26122),'PV Data'!B:B,DAY(Conversions!A26122),'PV Data'!C:C,HOUR(Conversions!A26122))/1000)","v":0}]
[{"$f":"DATE($C$6535,$D$6535,$E$6535) + TIME($F$6535,0,0)","v":"1900-09-30T05:00:00"},{"$f":"IF(A26134<'PV Data'!$H$10,0,SUMIFS('PV Data'!D:D,'PV Data'!A:A,MONTH(Conversions!A26134),'PV Data'!B:B,DAY(Conversions!A26134),'PV Data'!C:C,HOUR(Conversions!A26134))/1000)","v":0}]
[{"$f":"A26150+TIME(0,15,0)","v":"1900-09-30T09:15:00"},{"$f":"B26150","v":0}]
[{"$f":"A26167+TIME(0,15,0)","v":"1900-09-30T13:30:00"},{"$f":"B26166","v":0}]
[{"$f":"A26187+TIME(0,15,0)","v":"1900-09-30T18:30:00"},{"$f":"B26186","v":0}]
[{"$f":"A26202+TIME(0,15,0)","v":"1900-09-30T22:15:00"},{"$f":"B26202","v":0}]
[{"$f":"A26219+TIME(0,15,0)","v":"1900-10-01T02:30:00"},{"$f":"B26218","v":0}]
[{"$f":"DATE($C$6561,$D$6561,$E$6561) + TIME($F$6561,0,0)","v":"1900-10-01T07:00:00"},{"$f":"IF(A26238<'PV Data'!$H$10,0,SUMIFS('PV Data'!D:D,'PV Data'!A:A,MONTH(Conversions!A26238),'PV Data'!B:B,DAY(Conversions!A26238),'PV Data'!C:C,HOUR(Conversions!A26238))/1000)","v":0}]
[{"$f":"A26254+TIME(0,15,0)","v":"1900-10-01T11:15:00"},{"$f":"B26254","v":0}]
[{"$f":"A26271+TIME(0,15,0)","v":"1900-10-01T15:30:00"},{"$f":"B26270","v":0}]
[{"$f":"A26288+TIME(0,15,0)","v":"1900-10-01T19:45:00"},{"$f":"B26286","v":0}]
[{"$f":"A26304+TIME(0,15,0)","v":"1900-10-01T23:45:00"},{"$f":"B26302","v":0}]
[{"$f":"A26323+TIME(0,15,0)","v":"1900-10-02T04:30:00"},{"$f":"B26322","v":0}]
[{"$f":"A26324+TIME(0,15,0)","v":"1900-10-02T04:45:00"},{"$f":"B26322","v":0}]
[{"$f":"DATE($C$6587,$D$6587,$E$6587) + TIME($F$6587,0,0)","v":"1900-10-02T09:00:00"},{"$f":"IF(A26342<'PV Data'!$H$10,0,SUMIFS('PV Data'!D:D,'PV Data'!A:A,MONTH(Conversions!A26342),'PV Data'!B:B,DAY(Conversions!A26342),'PV Data'!C:C,HOUR(Conversions!A26342))/1000)","v":0}]
[{"$f":"A26370+TIME(0,15,0)","v":"1900-10-02T16:15:00"},{"$f":"B26370","v":0}]
[{"$f":"A26376+TIME(0,15,0)","v":"1900-10-02T17:45:00"},{"$f":"B26374","v":0}]
[{"$f":"DATE($C$6600,$D$6600,$E$6600) + TIME($F$6600,0,0)","v":"1900-10-02T22:00:00"},{"$f":"IF(A26394<'PV Data'!$H$10,0,SUMIFS('PV Data'!D:D,'PV Data'!A:A,MONTH(Conversions!A26394),'PV Data'!B:B,DAY(Conversions!A26394),'PV Data'!C:C,HOUR(Conversions!A26394))/1000)","v":0}]
[{"$f":"A26420+TIME(0,15,0)","v":"1900-10-03T04:45:00"},{"$f":"B26418","v":0}]
[{"$f":"A26428+TIME(0,15,0)","v":"1900-10-03T06:45:00"},{"$f":"B26426","v":0}]
[{"$f":"DATE($C$6613,$D$6613,$E$6613) + TIME($F$6613,0,0)","v":"1900-10-03T11:00:00"},{"$f":"IF(A26446<'PV Data'!$H$10,0,SUMIFS('PV Data'!D:D,'PV Data'!A:A,MONTH(Conversions!A26446),'PV Data'!B:B,DAY(Conversions!A26446),'PV Data'!C:C,HOUR(Conversions!A26446))/1000)","v":0}]
[{"$f":"A26462+TIME(0,15,0)","v":"1900-10-03T15:15:00"},{"$f":"B26462","v":0}]
[{"$f":"A26470+TIME(0,15,0)","v":"1900-10-03T17:15:00"},{"$f":"B26470","v":0}]
[{"$f":"DATE($C$6626,$D$6626,$E$6626) + TIME($F$6626,0,0)","v":"1900-10-04"},{"$f":"IF(A26498<'PV Data'!$H$10,0,SUMIFS('PV Data'!D:D,'PV Data'!A:A,MONTH(Conversions!A26498),'PV Data'!B:B,DAY(Conversions!A26498),'PV Data'!C:C,HOUR(Conversions!A26498))/1000)","v":0}]
[{"$f":"A26514+TIME(0,15,0)","v":"1900-10-04T04:15:00"},{"$f":"B26514","v":0}]
[{"$f":"A26531+TIME(0,15,0)","v":"1900-10-04T08:30:00"},{"$f":"B26530","v":0}]
[{"$f":"DATE($C$6636,$D$6636,$E$6636) + TIME($F$6636,0,0)","v":"1900-10-04T10:00:00"},{"$f":"IF(A26538<'PV Data'!$H$10,0,SUMIFS('PV Data'!D:D,'PV Data'!A:A,MONTH(Conversions!A26538),'PV Data'!B:B,DAY(Conversions!A26538),'PV Data'!C:C,HOUR(Conversions!A26538))/1000)","v":0}]
[{"$f":"A26566+TIME(0,15,0)","v":"1900-10-04T17:15:00"},{"$f":"B26566","v":0}]
[{"$f":"A26583+TIME(0,15,0)","v":"1900-10-04T21:30:00"},{"$f":"B26582","v":0}]
[{"$f":"A26584+TIME(0,15,0)","v":"1900-10-04T21:45:00"},{"$f":"B26582","v":0}]
[{"$f":"A26603+TIME(0,15,0)","v":"1900-10-05T02:30:00"},{"$f":"B26602","v":0}]
[{"$f":"A26619+TIME(0,15,0)","v":"1900-10-05T06:30:00"},{"$f":"B26618","v":0}]
[{"$f":"A26636+TIME(0,15,0)","v":"1900-10-05T10:45:00"},{"$f":"B26634","v":0}]
[{"$f":"DATE($C$6665,$D$6665,$E$6665) + TIME($F$6665,0,0)","v":"1900-10-05T15:00:00"},{"$f":"IF(A26654<'PV Data'!$H$10,0,SUMIFS('PV Data'!D:D,'PV Data'!A:A,MONTH(Conversions!A26654),'PV Data'!B:B,DAY(Conversions!A26654),'PV Data'!C:C,HOUR(Conversions!A26654))/1000)","v":0}]
[{"$f":"A26671+TIME(0,15,0)","v":"1900-10-05T19:30:00"},{"$f":"B26670","v":0}]
[{"$f":"A26688+TIME(0,15,0)","v":"1900-10-05T23:45:00"},{"$f":"B26686","v":0}]
[{"$f":"DATE($C$6678,$D$6678,$E$6678) + TIME($F$6678,0,0)","v":"1900-10-06T04:00:00"},{"$f":"IF(A26706<'PV Data'!$H$10,0,SUMIFS('PV Data'!D:D,'PV Data'!A:A,MONTH(Conversions!A26706),'PV Data'!B:B,DAY(Conversions!A26706),'PV Data'!C:C,HOUR(Conversions!A26706))/1000)","v":0}]
[{"$f":"A26720+TIME(0,15,0)","v":"1900-10-06T07:45:00"},{"$f":"B26718","v":0}]
[{"$f":"A26740+TIME(0,15,0)","v":"1900-10-06T12:45:00"},{"$f":"B26738","v":0}]
[{"$f":"DATE($C$6691,$D$6691,$E$6691) + TIME($F$6691,0,0)","v":"1900-10-06T17:00:00"},{"$f":"IF(A26758<'PV Data'!$H$10,0,SUMIFS('PV Data'!D:D,'PV Data'!A:A,MONTH(Conversions!A26758),'PV Data'!B:B,DAY(Conversions!A26758),'PV Data'!C:C,HOUR(Conversions!A26758))/1000)","v":0}]
[{"$f":"A26774+TIME(0,15,0)","v":"1900-10-06T21:15:00"},{"$f":"B26774","v":0}]
[{"$f":"A26786+TIME(0,15,0)","v":"1900-10-07T00:15:00"},{"$f":"B26786","v":0}]
[{"$f":"DATE($C$6704,$D$6704,$E$6704) + TIME($F$6704,0,0)","v":"1900-10-07T06:00:00"},{"$f":"IF(A26810<'PV Data'!$H$10,0,SUMIFS('PV Data'!D:D,'PV Data'!A:A,MONTH(Conversions!A26810),'PV Data'!B:B,DAY(Conversions!A26810),'PV Data'!C:C,HOUR(Conversions!A26810))/1000)","v":0}]
[{"$f":"A26826+TIME(0,15,0)","v":"1900-10-07T10:15:00"},{"$f":"B26826","v":0}]
[{"$f":"A26836+TIME(0,15,0)","v":"1900-10-07T12:45:00"},{"$f":"B26834","v":0}]
[{"$f":"DATE($C$6713,$D$6713,$E$6713) + TIME($F$6713,0,0)","v":"1900-10-07T15:00:00"},{"$f":"IF(A26846<'PV Data'!$H$10,0,SUMIFS('PV Data'!D:D,'PV Data'!A:A,MONTH(Conversions!A26846),'PV Data'!B:B,DAY(Conversions!A26846),'PV Data'!C:C,HOUR(Conversions!A26846))/1000)","v":0}]
[{"$f":"A26862+TIME(0,15,0)","v":"1900-10-07T19:15:00"},{"$f":"B26862","v":0}]
[{"$f":"A26879+TIME(0,15,0)","v":"1900-10-07T23:30:00"},{"$f":"B26878","v":0}]
[{"$f":"A26903+TIME(0,15,0)","v":"1900-10-08T05:30:00"},{"$f":"B26902","v":0}]
[{"$f":"A26914+TIME(0,15,0)","v":"1900-10-08T08:15:00"},{"$f":"B26914","v":0}]
[{"$f":"A26931+TIME(0,15,0)","v":"1900-10-08T12:30:00"},{"$f":"B26930","v":0}]
[{"$f":"A26948+TIME(0,15,0)","v":"1900-10-08T16:45:00"},{"$f":"B26946","v":0}]
[{"$f":"DATE($C$6744,$D$6744,$E$6744) + TIME($F$6744,0,0)","v":"1900-10-08T22:00:00"},{"$f":"IF(A26970<'PV Data'!$H$10,0,SUMIFS('PV Data'!D:D,'PV Data'!A:A,MONTH(Conversions!A26970),'PV Data'!B:B,DAY(Conversions!A26970),'PV Data'!C:C,HOUR(Conversions!A26970))/1000)","v":0}]
[{"$f":"A26983+TIME(0,15,0)","v":"1900-10-09T01:30:00"},{"$f":"B26982","v":0}]
[{"$f":"A27000+TIME(0,15,0)","v":"1900-10-09T05:45:00"},{"$f":"B26998","v":0}]
[{"$f":"A27020+TIME(0,15,0)","v":"1900-10-09T10:45:00"},{"$f":"B27018","v":0}]
[{"$f":"A27035+TIME(0,15,0)","v":"1900-10-09T14:30:00"},{"$f":"B27034","v":0}]
[{"$f":"A27052+TIME(0,15,0)","v":"1900-10-09T18:45:00"},{"$f":"B27050","v":0}]
[{"$f":"DATE($C$6769,$D$6769,$E$6769) + TIME($F$6769,0,0)","v":"1900-10-09T23:00:00"},{"$f":"IF(A27070<'PV Data'!$H$10,0,SUMIFS('PV Data'!D:D,'PV Data'!A:A,MONTH(Conversions!A27070),'PV Data'!B:B,DAY(Conversions!A27070),'PV Data'!C:C,HOUR(Conversions!A27070))/1000)","v":0}]
[{"$f":"A27086+TIME(0,15,0)","v":"1900-10-10T03:15:00"},{"$f":"B27086","v":0}]
[{"$f":"A27104+TIME(0,15,0)","v":"1900-10-10T07:45:00"},{"$f":"B27102","v":0}]
[{"$f":"DATE($C$6778,$D$6778,$E$6778) + TIME($F$6778,0,0)","v":"1900-10-10T08:00:00"},{"$f":"IF(A27106<'PV Data'!$H$10,0,SUMIFS('PV Data'!D:D,'PV Data'!A:A,MONTH(Conversions!A27106),'PV Data'!B:B,DAY(Conversions!A27106),'PV Data'!C:C,HOUR(Conversions!A27106))/1000)","v":0}]
[{"$f":"A27122+TIME(0,15,0)","v":"1900-10-10T12:15:00"},{"$f":"B27122","v":0}]
[{"$f":"DATE($C$6790,$D$6790,$E$6790) + TIME($F$6790,0,0)","v":"1900-10-10T20:00:00"},{"$f":"IF(A27154<'PV Data'!$H$10,0,SUMIFS('PV Data'!D:D,'PV Data'!A:A,MONTH(Conversions!A27154),'PV Data'!B:B,DAY(Conversions!A27154),'PV Data'!C:C,HOUR(Conversions!A27154))/1000)","v":0}]
[{"$f":"DATE($C$6791,$D$6791,$E$6791) + TIME($F$6791,0,0)","v":"1900-10-10T21:00:00"},{"$f":"IF(A27158<'PV Data'!$H$10,0,SUMIFS('PV Data'!D:D,'PV Data'!A:A,MONTH(Conversions!A27158),'PV Data'!B:B,DAY(Conversions!A27158),'PV Data'!C:C,HOUR(Conversions!A27158))/1000)","v":0}]
[{"$f":"A27174+TIME(0,15,0)","v":"1900-10-11T01:15:00"},{"$f":"B27174","v":0}]
[{"$f":"A27186+TIME(0,15,0)","v":"1900-10-11T04:15:00"},{"$f":"B27186","v":0}]
[{"$f":"DATE($C$6804,$D$6804,$E$6804) + TIME($F$6804,0,0)","v":"1900-10-11T10:00:00"},{"$f":"IF(A27210<'PV Data'!$H$10,0,SUMIFS('PV Data'!D:D,'PV Data'!A:A,MONTH(Conversions!A27210),'PV Data'!B:B,DAY(Conversions!A27210),'PV Data'!C:C,HOUR(Conversions!A27210))/1000)","v":0}]
[{"$f":"A27226+TIME(0,15,0)","v":"1900-10-11T14:15:00"},{"$f":"B27226","v":0}]
[{"$f":"A27243+TIME(0,15,0)","v":"1900-10-11T18:30:00"},{"$f":"B27242","v":0}]
[{"$f":"A27252+TIME(0,15,0)","v":"1900-10-11T20:45:00"},{"$f":"B27250","v":0}]
[{"$f":"A27278+TIME(0,15,0)","v":"1900-10-12T03:15:00"},{"$f":"B27278","v":0}]
[{"$f":"A27295+TIME(0,15,0)","v":"1900-10-12T07:30:00"},{"$f":"B27294","v":0}]
[{"$f":"A27312+TIME(0,15,0)","v":"1900-10-12T11:45:00"},{"$f":"B27310","v":0}]
[{"$f":"A27319+TIME(0,15,0)","v":"1900-10-12T13:30:00"},{"$f":"B27318","v":0}]
[{"$f":"A27347+TIME(0,15,0)","v":"1900-10-12T20:30:00"},{"$f":"B27346","v":0}]
[{"$f":"A27364+TIME(0,15,0)","v":"1900-10-13T00:45:00"},{"$f":"B27362","v":0}]
[{"$f":"DATE($C$6843,$D$6843,$E$6843) + TIME($F$6843,0,0)","v":"1900-10-13T01:00:00"},{"$f":"IF(A27366<'PV Data'!$H$10,0,SUMIFS('PV Data'!D:D,'PV Data'!A:A,MONTH(Conversions!A27366),'PV Data'!B:B,DAY(Conversions!A27366),'PV Data'!C:C,HOUR(Conversions!A27366))/1000)","v":0}]
[{"$f":"DATE($C$6848,$D$6848,$E$6848) + TIME($F$6848,0,0)","v":"1900-10-13T06:00:00"},{"$f":"IF(A27386<'PV Data'!$H$10,0,SUMIFS('PV Data'!D:D,'PV Data'!A:A,MONTH(Conversions!A27386),'PV Data'!B:B,DAY(Conversions!A27386),'PV Data'!C:C,HOUR(Conversions!A27386))/1000)","v":0}]
[{"$f":"A27400+TIME(0,15,0)","v":"1900-10-13T09:45:00"},{"$f":"B27398","v":0}]
[{"$f":"DATE($C$6856,$D$6856,$E$6856) + TIME($F$6856,0,0)","v":"1900-10-13T14:00:00"},{"$f":"IF(A27418<'PV Data'!$H$10,0,SUMIFS('PV Data'!D:D,'PV Data'!A:A,MONTH(Conversions!A27418),'PV Data'!B:B,DAY(Conversions!A27418),'PV Data'!C:C,HOUR(Conversions!A27418))/1000)","v":0}]
[{"$f":"A27436+TIME(0,15,0)","v":"1900-10-13T18:45:00"},{"$f":"B27434","v":0}]
[{"$f":"A27452+TIME(0,15,0)","v":"1900-10-13T22:45:00"},{"$f":"B27450","v":0}]
[{"$f":"DATE($C$6869,$D$6869,$E$6869) + TIME($F$6869,0,0)","v":"1900-10-14T03:00:00"},{"$f":"IF(A27470<'PV Data'!$H$10,0,SUMIFS('PV Data'!D:D,'PV Data'!A:A,MONTH(Conversions!A27470),'PV Data'!B:B,DAY(Conversions!A27470),'PV Data'!C:C,HOUR(Conversions!A27470))/1000)","v":0}]
[{"$f":"A27486+TIME(0,15,0)","v":"1900-10-14T07:15:00"},{"$f":"B27486","v":0}]
[{"$f":"A27502+TIME(0,15,0)","v":"1900-10-14T11:15:00"},{"$f":"B27502","v":0}]
[{"$f":"DATE($C$6882,$D$6882,$E$6882) + TIME($F$6882,0,0)","v":"1900-10-14T16:00:00"},{"$f":"IF(A27522<'PV Data'!$H$10,0,SUMIFS('PV Data'!D:D,'PV Data'!A:A,MONTH(Conversions!A27522),'PV Data'!B:B,DAY(Conversions!A27522),'PV Data'!C:C,HOUR(Conversions!A27522))/1000)","v":0}]
[{"$f":"A27538+TIME(0,15,0)","v":"1900-10-14T20:15:00"},{"$f":"B27538","v":0}]
[{"$f":"A27555+TIME(0,15,0)","v":"1900-10-15T00:30:00"},{"$f":"B27554","v":0}]
[{"$f":"DATE($C$6894,$D$6894,$E$6894) + TIME($F$6894,0,0)","v":"1900-10-15T04:00:00"},{"$f":"IF(A27570<'PV Data'!$H$10,0,SUMIFS('PV Data'!D:D,'PV Data'!A:A,MONTH(Conversions!A27570),'PV Data'!B:B,DAY(Conversions!A27570),'PV Data'!C:C,HOUR(Conversions!A27570))/1000)","v":0}]
[{"$f":"A27590+TIME(0,15,0)","v":"1900-10-15T09:15:00"},{"$f":"B27590","v":0}]
[{"$f":"A27607+TIME(0,15,0)","v":"1900-10-15T13:30:00"},{"$f":"B27606","v":0}]
[{"$f":"A27619+TIME(0,15,0)","v":"1900-10-15T16:30:00"},{"$f":"B27618","v":0}]
[{"$f":"A27626+TIME(0,15,0)","v":"1900-10-15T18:15:00"},{"$f":"B27626","v":0}]
[{"$f":"A27643+TIME(0,15,0)","v":"1900-10-15T22:30:00"},{"$f":"B27642","v":0}]
[{"$f":"A27660+TIME(0,15,0)","v":"1900-10-16T02:45:00"},{"$f":"B27658","v":0}]
[{"$f":"DATE($C$6923,$D$6923,$E$6923) + TIME($F$6923,0,0)","v":"1900-10-16T09:00:00"},{"$f":"IF(A27686<'PV Data'!$H$10,0,SUMIFS('PV Data'!D:D,'PV Data'!A:A,MONTH(Conversions!A27686),'PV Data'!B:B,DAY(Conversions!A27686),'PV Data'!C:C,HOUR(Conversions!A27686))/1000)","v":0}]
[{"$f":"A27695+TIME(0,15,0)","v":"1900-10-16T11:30:00"},{"$f":"B27694","v":0}]
[{"$f":"A27712+TIME(0,15,0)","v":"1900-10-16T15:45:00"},{"$f":"B27710","v":0}]
[{"$f":"DATE($C$6934,$D$6934,$E$6934) + TIME($F$6934,0,0)","v":"1900-10-16T20:00:00"},{"$f":"IF(A27730<'PV Data'!$H$10,0,SUMIFS('PV Data'!D:D,'PV Data'!A:A,MONTH(Conversions!A27730),'PV Data'!B:B,DAY(Conversions!A27730),'PV Data'!C:C,HOUR(Conversions!A27730))/1000)","v":0}]
[{"$f":"A27752+TIME(0,15,0)","v":"1900-10-17T01:45:00"},{"$f":"B27750","v":0}]
[{"$f":"A27764+TIME(0,15,0)","v":"1900-10-17T04:45:00"},{"$f":"B27762","v":0}]
[{"$f":"DATE($C$6947,$D$6947,$E$6947) + TIME($F$6947,0,0)","v":"1900-10-17T09:00:00"},{"$f":"IF(A27782<'PV Data'!$H$10,0,SUMIFS('PV Data'!D:D,'PV Data'!A:A,MONTH(Conversions!A27782),'PV Data'!B:B,DAY(Conversions!A27782),'PV Data'!C:C,HOUR(Conversions!A27782))/1000)","v":0}]
[{"$f":"A27802+TIME(0,15,0)","v":"1900-10-17T14:15:00"},{"$f":"B27802","v":0}]
[{"$f":"A27816+TIME(0,15,0)","v":"1900-10-17T17:45:00"},{"$f":"B27814","v":0}]
[{"$f":"DATE($C$6960,$D$6960,$E$6960) + TIME($F$6960,0,0)","v":"1900-10-17T22:00:00"},{"$f":"IF(A27834<'PV Data'!$H$10,0,SUMIFS('PV Data'!D:D,'PV Data'!A:A,MONTH(Conversions!A27834),'PV Data'!B:B,DAY(Conversions!A27834),'PV Data'!C:C,HOUR(Conversions!A27834))/1000)","v":0}]
[{"$f":"A27850+TIME(0,15,0)","v":"1900-10-18T02:15:00"},{"$f":"B27850","v":0}]
[{"$f":"A27868+TIME(0,15,0)","v":"1900-10-18T06:45:00"},{"$f":"B27866","v":0}]
[{"$f":"DATE($C$6973,$D$6973,$E$6973) + TIME($F$6973,0,0)","v":"1900-10-18T11:00:00"},{"$f":"IF(A27886<'PV Data'!$H$10,0,SUMIFS('PV Data'!D:D,'PV Data'!A:A,MONTH(Conversions!A27886),'PV Data'!B:B,DAY(Conversions!A27886),'PV Data'!C:C,HOUR(Conversions!A27886))/1000)","v":0}]
[{"$f":"A27886+TIME(0,15,0)","v":"1900-10-18T11:15:00"},{"$f":"B27886","v":0}]
[{"$f":"A27903+TIME(0,15,0)","v":"1900-10-18T15:30:00"},{"$f":"B27902","v":0}]
[{"$f":"A27918+TIME(0,15,0)","v":"1900-10-18T19:15:00"},{"$f":"B27918","v":0}]
[{"$f":"A27938+TIME(0,15,0)","v":"1900-10-19T00:15:00"},{"$f":"B27938","v":0}]
[{"$f":"A27955+TIME(0,15,0)","v":"1900-10-19T04:30:00"},{"$f":"B27954","v":0}]
[{"$f":"A27972+TIME(0,15,0)","v":"1900-10-19T08:45:00"},{"$f":"B27970","v":0}]
[{"$f":"A27984+TIME(0,15,0)","v":"1900-10-19T11:45:00"},{"$f":"B27982","v":0}]
[{"$f":"A28007+TIME(0,15,0)","v":"1900-10-19T17:30:00"},{"$f":"B28006","v":0}]
[{"$f":"A28024+TIME(0,15,0)","v":"1900-10-19T21:45:00"},{"$f":"B28022","v":0}]
[{"$f":"A28035+TIME(0,15,0)","v":"1900-10-20T00:30:00"},{"$f":"B28034","v":0}]
[{"$f":"A28059+TIME(0,15,0)","v":"1900-10-20T06:30:00"},{"$f":"B28058","v":0}]
[{"$f":"A28076+TIME(0,15,0)","v":"1900-10-20T10:45:00"},{"$f":"B28074","v":0}]
[{"$f":"DATE($C$7025,$D$7025,$E$7025) + TIME($F$7025,0,0)","v":"1900-10-20T15:00:00"},{"$f":"IF(A28094<'PV Data'!$H$10,0,SUMIFS('PV Data'!D:D,'PV Data'!A:A,MONTH(Conversions!A28094),'PV Data'!B:B,DAY(Conversions!A28094),'PV Data'!C:C,HOUR(Conversions!A28094))/1000)","v":0}]
[{"$f":"DATE($C$7027,$D$7027,$E$7027) + TIME($F$7027,0,0)","v":"1900-10-20T17:00:00"},{"$f":"IF(A28102<'PV Data'!$H$10,0,SUMIFS('PV Data'!D:D,'PV Data'!A:A,MONTH(Conversions!A28102),'PV Data'!B:B,DAY(Conversions!A28102),'PV Data'!C:C,HOUR(Conversions!A28102))/1000)","v":0}]
[{"$f":"A28128+TIME(0,15,0)","v":"1900-10-20T23:45:00"},{"$f":"B28126","v":0}]
[{"$f":"DATE($C$7038,$D$7038,$E$7038) + TIME($F$7038,0,0)","v":"1900-10-21T04:00:00"},{"$f":"IF(A28146<'PV Data'!$H$10,0,SUMIFS('PV Data'!D:D,'PV Data'!A:A,MONTH(Conversions!A28146),'PV Data'!B:B,DAY(Conversions!A28146),'PV Data'!C:C,HOUR(Conversions!A28146))/1000)","v":0}]
[{"$f":"A28146+TIME(0,15,0)","v":"1900-10-21T04:15:00"},{"$f":"B28146","v":0}]
[{"$f":"A28168+TIME(0,15,0)","v":"1900-10-21T09:45:00"},{"$f":"B28166","v":0}]
[{"$f":"DATE($C$7047,$D$7047,$E$7047) + TIME($F$7047,0,0)","v":"1900-10-21T13:00:00"},{"$f":"IF(A28182<'PV Data'!$H$10,0,SUMIFS('PV Data'!D:D,'PV Data'!A:A,MONTH(Conversions!A28182),'PV Data'!B:B,DAY(Conversions!A28182),'PV Data'!C:C,HOUR(Conversions!A28182))/1000)","v":0}]
[{"$f":"A28198+TIME(0,15,0)","v":"1900-10-21T17:15:00"},{"$f":"B28198","v":0}]
[{"$f":"A28218+TIME(0,15,0)","v":"1900-10-21T22:15:00"},{"$f":"B28218","v":0}]
[{"$f":"DATE($C$7060,$D$7060,$E$7060) + TIME($F$7060,0,0)","v":"1900-10-22T02:00:00"},{"$f":"IF(A28234<'PV Data'!$H$10,0,SUMIFS('PV Data'!D:D,'PV Data'!A:A,MONTH(Conversions!A28234),'PV Data'!B:B,DAY(Conversions!A28234),'PV Data'!C:C,HOUR(Conversions!A28234))/1000)","v":0}]
[{"$f":"A28250+TIME(0,15,0)","v":"1900-10-22T06:15:00"},{"$f":"B28250","v":0}]
[{"$f":"A28267+TIME(0,15,0)","v":"1900-10-22T10:30:00"},{"$f":"B28266","v":0}]
[{"$f":"A28284+TIME(0,15,0)","v":"1900-10-22T14:45:00"},{"$f":"B28282","v":0}]
[{"$f":"A28302+TIME(0,15,0)","v":"1900-10-22T19:15:00"},{"$f":"B28302","v":0}]
[{"$f":"A28319+TIME(0,15,0)","v":"1900-10-22T23:30:00"},{"$f":"B28318","v":0}]
[{"$f":"A28336+TIME(0,15,0)","v":"1900-10-23T03:45:00"},{"$f":"B28334","v":0}]
[{"$f":"A28351+TIME(0,15,0)","v":"1900-10-23T07:30:00"},{"$f":"B28350","v":0}]
[{"$f":"A28371+TIME(0,15,0)","v":"1900-10-23T12:30:00"},{"$f":"B28370","v":0}]
[{"$f":"A28388+TIME(0,15,0)","v":"1900-10-23T16:45:00"},{"$f":"B28386","v":0}]
[{"$f":"DATE($C$7102,$D$7102,$E$7102) + TIME($F$7102,0,0)","v":"1900-10-23T20:00:00"},{"$f":"IF(A28402<'PV Data'!$H$10,0,SUMIFS('PV Data'!D:D,'PV Data'!A:A,MONTH(Conversions!A28402),'PV Data'!B:B,DAY(Conversions!A28402),'PV Data'!C:C,HOUR(Conversions!A28402))/1000)","v":0}]
[{"$f":"A28407+TIME(0,15,0)","v":"1900-10-23T21:30:00"},{"$f":"B28406","v":0}]
[{"$f":"A28424+TIME(0,15,0)","v":"1900-10-24T01:45:00"},{"$f":"B28422","v":0}]
[{"$f":"DATE($C$7112,$D$7112,$E$7112) + TIME($F$7112,0,0)","v":"1900-10-24T06:00:00"},{"$f":"IF(A28442<'PV Data'!$H$10,0,SUMIFS('PV Data'!D:D,'PV Data'!A:A,MONTH(Conversions!A28442),'PV Data'!B:B,DAY(Conversions!A28442),'PV Data'!C:C,HOUR(Conversions!A28442))/1000)","v":0}]
[{"$f":"A28468+TIME(0,15,0)","v":"1900-10-24T12:45:00"},{"$f":"B28466","v":0}]
[{"$f":"A28476+TIME(0,15,0)","v":"1900-10-24T14:45:00"},{"$f":"B28474","v":0}]
[{"$f":"DATE($C$7125,$D$7125,$E$7125) + TIME($F$7125,0,0)","v":"1900-10-24T19:00:00"},{"$f":"IF(A28494<'PV Data'!$H$10,0,SUMIFS('PV Data'!D:D,'PV Data'!A:A,MONTH(Conversions!A28494),'PV Data'!B:B,DAY(Conversions!A28494),'PV Data'!C:C,HOUR(Conversions!A28494))/1000)","v":0}]
[{"$f":"A28510+TIME(0,15,0)","v":"1900-10-24T23:15:00"},{"$f":"B28510","v":0}]
[{"$f":"A28534+TIME(0,15,0)","v":"1900-10-25T05:15:00"},{"$f":"B28534","v":0}]
[{"$f":"DATE($C$7138,$D$7138,$E$7138) + TIME($F$7138,0,0)","v":"1900-10-25T08:00:00"},{"$f":"IF(A28546<'PV Data'!$H$10,0,SUMIFS('PV Data'!D:D,'PV Data'!A:A,MONTH(Conversions!A28546),'PV Data'!B:B,DAY(Conversions!A28546),'PV Data'!C:C,HOUR(Conversions!A28546))/1000)","v":0}]
[{"$f":"A28562+TIME(0,15,0)","v":"1900-10-25T12:15:00"},{"$f":"B28562","v":0}]
[{"$f":"A28579+TIME(0,15,0)","v":"1900-10-25T16:30:00"},{"$f":"B28578","v":0}]
[{"$f":"DATE($C$7152,$D$7152,$E$7152) + TIME($F$7152,0,0)","v":"1900-10-25T22:00:00"},{"$f":"IF(A28602<'PV Data'!$H$10,0,SUMIFS('PV Data'!D:D,'PV Data'!A:A,MONTH(Conversions!A28602),'PV Data'!B:B,DAY(Conversions!A28602),'PV Data'!C:C,HOUR(Conversions!A28602))/1000)","v":0}]
[{"$f":"A28614+TIME(0,15,0)","v":"1900-10-26T01:15:00"},{"$f":"B28614","v":0}]
[{"$f":"A28631+TIME(0,15,0)","v":"1900-10-26T05:30:00"},{"$f":"B28630","v":0}]
[{"$f":"A28634+TIME(0,15,0)","v":"1900-10-26T06:15:00"},{"$f":"B28634","v":0}]
[{"$f":"A28666+TIME(0,15,0)","v":"1900-10-26T14:15:00"},{"$f":"B28666","v":0}]
[{"$f":"A28667+TIME(0,15,0)","v":"1900-10-26T14:30:00"},{"$f":"B28666","v":0}]
[{"$f":"A28684+TIME(0,15,0)","v":"1900-10-26T18:45:00"},{"$f":"B28682","v":0}]
[{"$f":"A28700+TIME(0,15,0)","v":"1900-10-26T22:45:00"},{"$f":"B28698","v":0}]
[{"$f":"A28719+TIME(0,15,0)","v":"1900-10-27T03:30:00"},{"$f":"B28718","v":0}]
[{"$f":"A28736+TIME(0,15,0)","v":"1900-10-27T07:45:00"},{"$f":"B28734","v":0}]
[{"$f":"DATE($C$7190,$D$7190,$E$7190) + TIME($F$7190,0,0)","v":"1900-10-27T12:00:00"},{"$f":"IF(A28754<'PV Data'!$H$10,0,SUMIFS('PV Data'!D:D,'PV Data'!A:A,MONTH(Conversions!A28754),'PV Data'!B:B,DAY(Conversions!A28754),'PV Data'!C:C,HOUR(Conversions!A28754))/1000)","v":0}]
[{"$f":"A28767+TIME(0,15,0)","v":"1900-10-27T15:30:00"},{"$f":"B28766","v":0}]
[{"$f":"A28788+TIME(0,15,0)","v":"1900-10-27T20:45:00"},{"$f":"B28786","v":0}]
[{"$f":"DATE($C$7203,$D$7203,$E$7203) + TIME($F$7203,0,0)","v":"1900-10-28T01:00:00"},{"$f":"IF(A28806<'PV Data'!$H$10,0,SUMIFS('PV Data'!D:D,'PV Data'!A:A,MONTH(Conversions!A28806),'PV Data'!B:B,DAY(Conversions!A28806),'PV Data'!C:C,HOUR(Conversions!A28806))/1000)","v":0}]
[{"$f":"DATE($C$7206,$D$7206,$E$7206) + TIME($F$7206,0,0)","v":"1900-10-28T04:00:00"},{"$f":"IF(A28818<'PV Data'!$H$10,0,SUMIFS('PV Data'!D:D,'PV Data'!A:A,MONTH(Conversions!A28818),'PV Data'!B:B,DAY(Conversions!A28818),'PV Data'!C:C,HOUR(Conversions!A28818))/1000)","v":0}]
[{"$f":"A28840+TIME(0,15,0)","v":"1900-10-28T09:45:00"},{"$f":"B28838","v":0}]
[{"$f":"DATE($C$7216,$D$7216,$E$7216) + TIME($F$7216,0,0)","v":"1900-10-28T14:00:00"},{"$f":"IF(A28858<'PV Data'!$H$10,0,SUMIFS('PV Data'!D:D,'PV Data'!A:A,MONTH(Conversions!A28858),'PV Data'!B:B,DAY(Conversions!A28858),'PV Data'!C:C,HOUR(Conversions!A28858))/1000)","v":0}]
[{"$f":"A28874+TIME(0,15,0)","v":"1900-10-28T18:15:00"},{"$f":"B28874","v":0}]
[{"$f":"A28884+TIME(0,15,0)","v":"1900-10-28T20:45:00"},{"$f":"B28882","v":0}]
[{"$f":"DATE($C$7229,$D$7229,$E$7229) + TIME($F$7229,0,0)","v":"1900-10-29T03:00:00"},{"$f":"IF(A28910<'PV Data'!$H$10,0,SUMIFS('PV Data'!D:D,'PV Data'!A:A,MONTH(Conversions!A28910),'PV Data'!B:B,DAY(Conversions!A28910),'PV Data'!C:C,HOUR(Conversions!A28910))/1000)","v":0}]
[{"$f":"A28926+TIME(0,15,0)","v":"1900-10-29T07:15:00"},{"$f":"B28926","v":0}]
[{"$f":"A28927+TIME(0,15,0)","v":"1900-10-29T07:30:00"},{"$f":"B28926","v":0}]
[{"$f":"A28950+TIME(0,15,0)","v":"1900-10-29T13:15:00"},{"$f":"B28950","v":0}]
[{"$f":"A28962+TIME(0,15,0)","v":"1900-10-29T16:15:00"},{"$f":"B28962","v":0}]
[{"$f":"A28979+TIME(0,15,0)","v":"1900-10-29T20:30:00"},{"$f":"B28978","v":0}]
[{"$f":"A29000+TIME(0,15,0)","v":"1900-10-30T01:45:00"},{"$f":"B28998","v":0}]
[{"$f":"A29014+TIME(0,15,0)","v":"1900-10-30T05:15:00"},{"$f":"B29014","v":0}]
[{"$f":"A29031+TIME(0,15,0)","v":"1900-10-30T09:30:00"},{"$f":"B29030","v":0}]
[{"$f":"A29048+TIME(0,15,0)","v":"1900-10-30T13:45:00"},{"$f":"B29046","v":0}]
[{"$f":"A29067+TIME(0,15,0)","v":"1900-10-30T18:30:00"},{"$f":"B29066","v":0}]
[{"$f":"A29083+TIME(0,15,0)","v":"1900-10-30T22:30:00"},{"$f":"B29082","v":0}]
[{"$f":"A29100+TIME(0,15,0)","v":"1900-10-31T02:45:00"},{"$f":"B29098","v":0}]
[{"$f":"DATE($C$7281,$D$7281,$E$7281) + TIME($F$7281,0,0)","v":"1900-10-31T07:00:00"},{"$f":"IF(A29118<'PV Data'!$H$10,0,SUMIFS('PV Data'!D:D,'PV Data'!A:A,MONTH(Conversions!A29118),'PV Data'!B:B,DAY(Conversions!A29118),'PV Data'!C:C,HOUR(Conversions!A29118))/1000)","v":0}]
[{"$f":"DATE($C$7285,$D$7285,$E$7285) + TIME($F$7285,0,0)","v":"1900-10-31T11:00:00"},{"$f":"IF(A29134<'PV Data'!$H$10,0,SUMIFS('PV Data'!D:D,'PV Data'!A:A,MONTH(Conversions!A29134),'PV Data'!B:B,DAY(Conversions!A29134),'PV Data'!C:C,HOUR(Conversions!A29134))/1000)","v":0}]
[{"$f":"A29152+TIME(0,15,0)","v":"1900-10-31T15:45:00"},{"$f":"B29150","v":0}]
[{"$f":"DATE($C$7294,$D$7294,$E$7294) + TIME($F$7294,0,0)","v":"1900-10-31T20:00:00"},{"$f":"IF(A29170<'PV Data'!$H$10,0,SUMIFS('PV Data'!D:D,'PV Data'!A:A,MONTH(Conversions!A29170),'PV Data'!B:B,DAY(Conversions!A29170),'PV Data'!C:C,HOUR(Conversions!A29170))/1000)","v":0}]
[{"$f":"A29183+TIME(0,15,0)","v":"1900-10-31T23:30:00"},{"$f":"B29182","v":0}]
[{"$f":"A29188+TIME(0,15,0)","v":"1900-11-01T00:45:00"},{"$f":"B29186","v":0}]
[{"$f":"DATE($C$7303,$D$7303,$E$7303) + TIME($F$7303,0,0)","v":"1900-11-01T05:00:00"},{"$f":"IF(A29206<'PV Data'!$H$10,0,SUMIFS('PV Data'!D:D,'PV Data'!A:A,MONTH(Conversions!A29206),'PV Data'!B:B,DAY(Conversions!A29206),'PV Data'!C:C,HOUR(Conversions!A29206))/1000)","v":0}]
[{"$f":"A29222+TIME(0,15,0)","v":"1900-11-01T09:15:00"},{"$f":"B29222","v":0}]
[{"$f":"A29250+TIME(0,15,0)","v":"1900-11-01T16:15:00"},{"$f":"B29250","v":0}]
[{"$f":"DATE($C$7316,$D$7316,$E$7316) + TIME($F$7316,0,0)","v":"1900-11-01T18:00:00"},{"$f":"IF(A29258<'PV Data'!$H$10,0,SUMIFS('PV Data'!D:D,'PV Data'!A:A,MONTH(Conversions!A29258),'PV Data'!B:B,DAY(Conversions!A29258),'PV Data'!C:C,HOUR(Conversions!A29258))/1000)","v":0}]
[{"$f":"A29274+TIME(0,15,0)","v":"1900-11-01T22:15:00"},{"$f":"B29274","v":0}]
[{"$f":"A29291+TIME(0,15,0)","v":"1900-11-02T02:30:00"},{"$f":"B29290","v":0}]
[{"$f":"A29316+TIME(0,15,0)","v":"1900-11-02T08:45:00"},{"$f":"B29314","v":0}]
[{"$f":"A29326+TIME(0,15,0)","v":"1900-11-02T11:15:00"},{"$f":"B29326","v":0}]
[{"$f":"A29343+TIME(0,15,0)","v":"1900-11-02T15:30:00"},{"$f":"B29342","v":0}]
[{"$f":"A29360+TIME(0,15,0)","v":"1900-11-02T19:45:00"},{"$f":"B29358","v":0}]
[{"$f":"A29366+TIME(0,15,0)","v":"1900-11-02T21:15:00"},{"$f":"B29366","v":0}]
[{"$f":"A29395+TIME(0,15,0)","v":"1900-11-03T04:30:00"},{"$f":"B29394","v":0}]
[{"$f":"A29412+TIME(0,15,0)","v":"1900-11-03T08:45:00"},{"$f":"B29410","v":0}]
[{"$f":"A29416+TIME(0,15,0)","v":"1900-11-03T09:45:00"},{"$f":"B29414","v":0}]
[{"$f":"A29447+TIME(0,15,0)","v":"1900-11-03T17:30:00"},{"$f":"B29446","v":0}]
[{"$f":"A29448+TIME(0,15,0)","v":"1900-11-03T17:45:00"},{"$f":"B29446","v":0}]
[{"$f":"DATE($C$7368,$D$7368,$E$7368) + TIME($F$7368,0,0)","v":"1900-11-03T22:00:00"},{"$f":"IF(A29466<'PV Data'!$H$10,0,SUMIFS('PV Data'!D:D,'PV Data'!A:A,MONTH(Conversions!A29466),'PV Data'!B:B,DAY(Conversions!A29466),'PV Data'!C:C,HOUR(Conversions!A29466))/1000)","v":0}]
[{"$f":"A29483+TIME(0,15,0)","v":"1900-11-04T02:30:00"},{"$f":"B29482","v":0}]
[{"$f":"A29500+TIME(0,15,0)","v":"1900-11-04T06:45:00"},{"$f":"B29498","v":0}]
[{"$f":"DATE($C$7381,$D$7381,$E$7381) + TIME($F$7381,0,0)","v":"1900-11-04T11:00:00"},{"$f":"IF(A29518<'PV Data'!$H$10,0,SUMIFS('PV Data'!D:D,'PV Data'!A:A,MONTH(Conversions!A29518),'PV Data'!B:B,DAY(Conversions!A29518),'PV Data'!C:C,HOUR(Conversions!A29518))/1000)","v":0}]
[{"$f":"A29534+TIME(0,15,0)","v":"1900-11-04T15:15:00"},{"$f":"B29534","v":0}]
[{"$f":"DATE($C$7389,$D$7389,$E$7389) + TIME($F$7389,0,0)","v":"1900-11-04T19:00:00"},{"$f":"IF(A29550<'PV Data'!$H$10,0,SUMIFS('PV Data'!D:D,'PV Data'!A:A,MONTH(Conversions!A29550),'PV Data'!B:B,DAY(Conversions!A29550),'PV Data'!C:C,HOUR(Conversions!A29550))/1000)","v":0}]
[{"$f":"DATE($C$7394,$D$7394,$E$7394) + TIME($F$7394,0,0)","v":"1900-11-05"},{"$f":"IF(A29570<'PV Data'!$H$10,0,SUMIFS('PV Data'!D:D,'PV Data'!A:A,MONTH(Conversions!A29570),'PV Data'!B:B,DAY(Conversions!A29570),'PV Data'!C:C,HOUR(Conversions!A29570))/1000)","v":0}]
[{"$f":"A29586+TIME(0,15,0)","v":"1900-11-05T04:15:00"},{"$f":"B29586","v":0}]
[{"$f":"A29599+TIME(0,15,0)","v":"1900-11-05T07:30:00"},{"$f":"B29598","v":0}]
[{"$f":"DATE($C$7407,$D$7407,$E$7407) + TIME($F$7407,0,0)","v":"1900-11-05T13:00:00"},{"$f":"IF(A29622<'PV Data'!$H$10,0,SUMIFS('PV Data'!D:D,'PV Data'!A:A,MONTH(Conversions!A29622),'PV Data'!B:B,DAY(Conversions!A29622),'PV Data'!C:C,HOUR(Conversions!A29622))/1000)","v":0}]
[{"$f":"A29638+TIME(0,15,0)","v":"1900-11-05T17:15:00"},{"$f":"B29638","v":0}]
[{"$f":"A29655+TIME(0,15,0)","v":"1900-11-05T21:30:00"},{"$f":"B29654","v":0}]
[{"$f":"A29666+TIME(0,15,0)","v":"1900-11-06T00:15:00"},{"$f":"B29666","v":0}]
[{"$f":"A29690+TIME(0,15,0)","v":"1900-11-06T06:15:00"},{"$f":"B29690","v":0}]
[{"$f":"A29707+TIME(0,15,0)","v":"1900-11-06T10:30:00"},{"$f":"B29706","v":0}]
[{"$f":"A29708+TIME(0,15,0)","v":"1900-11-06T10:45:00"},{"$f":"B29706","v":0}]
[{"$f":"A29732+TIME(0,15,0)","v":"1900-11-06T16:45:00"},{"$f":"B29730","v":0}]
[{"$f":"A29743+TIME(0,15,0)","v":"1900-11-06T19:30:00"},{"$f":"B29742","v":0}]
[{"$f":"A29760+TIME(0,15,0)","v":"1900-11-06T23:45:00"},{"$f":"B29758","v":0}]
[{"$f":"A29783+TIME(0,15,0)","v":"1900-11-07T05:30:00"},{"$f":"B29782","v":0}]
[{"$f":"A29795+TIME(0,15,0)","v":"1900-11-07T08:30:00"},{"$f":"B29794","v":0}]
[{"$f":"A29812+TIME(0,15,0)","v":"1900-11-07T12:45:00"},{"$f":"B29810","v":0}]
[{"$f":"DATE($C$7459,$D$7459,$E$7459) + TIME($F$7459,0,0)","v":"1900-11-07T17:00:00"},{"$f":"IF(A29830<'PV Data'!$H$10,0,SUMIFS('PV Data'!D:D,'PV Data'!A:A,MONTH(Conversions!A29830),'PV Data'!B:B,DAY(Conversions!A29830),'PV Data'!C:C,HOUR(Conversions!A29830))/1000)","v":0}]
[{"$f":"DATE($C$7464,$D$7464,$E$7464) + TIME($F$7464,0,0)","v":"1900-11-07T22:00:00"},{"$f":"IF(A29850<'PV Data'!$H$10,0,SUMIFS('PV Data'!D:D,'PV Data'!A:A,MONTH(Conversions!A29850),'PV Data'!B:B,DAY(Conversions!A29850),'PV Data'!C:C,HOUR(Conversions!A29850))/1000)","v":0}]
[{"$f":"A29864+TIME(0,15,0)","v":"1900-11-08T01:45:00"},{"$f":"B29862","v":0}]
[{"$f":"DATE($C$7472,$D$7472,$E$7472) + TIME($F$7472,0,0)","v":"1900-11-08T06:00:00"},{"$f":"IF(A29882<'PV Data'!$H$10,0,SUMIFS('PV Data'!D:D,'PV Data'!A:A,MONTH(Conversions!A29882),'PV Data'!B:B,DAY(Conversions!A29882),'PV Data'!C:C,HOUR(Conversions!A29882))/1000)","v":0}]
[{"$f":"A29898+TIME(0,15,0)","v":"1900-11-08T10:15:00"},{"$f":"B29898","v":0}]
[{"$f":"A29916+TIME(0,15,0)","v":"1900-11-08T14:45:00"},{"$f":"B29914","v":0}]
[{"$f":"DATE($C$7485,$D$7485,$E$7485) + TIME($F$7485,0,0)","v":"1900-11-08T19:00:00"},{"$f":"IF(A29934<'PV Data'!$H$10,0,SUMIFS('PV Data'!D:D,'PV Data'!A:A,MONTH(Conversions!A29934),'PV Data'!B:B,DAY(Conversions!A29934),'PV Data'!C:C,HOUR(Conversions!A29934))/1000)","v":0}]
[{"$f":"A29950+TIME(0,15,0)","v":"1900-11-08T23:15:00"},{"$f":"B29950","v":0}]
[{"$f":"A29967+TIME(0,15,0)","v":"1900-11-09T03:30:00"},{"$f":"B29966","v":0}]
[{"$f":"A29982+TIME(0,15,0)","v":"1900-11-09T07:15:00"},{"$f":"B29982","v":0}]
[{"$f":"A29986+TIME(0,15,0)","v":"1900-11-09T08:15:00"},{"$f":"B29986","v":0}]
[{"$f":"A30003+TIME(0,15,0)","v":"1900-11-09T12:30:00"},{"$f":"B30002","v":0}]
[{"$f":"A30032+TIME(0,15,0)","v":"1900-11-09T19:45:00"},{"$f":"B30030","v":0}]
[{"$f":"A30038+TIME(0,15,0)","v":"1900-11-09T21:15:00"},{"$f":"B30038","v":0}]
[{"$f":"A30055+TIME(0,15,0)","v":"1900-11-10T01:30:00"},{"$f":"B30054","v":0}]
[{"$f":"A30072+TIME(0,15,0)","v":"1900-11-10T05:45:00"},{"$f":"B30070","v":0}]
[{"$f":"A30082+TIME(0,15,0)","v":"1900-11-10T08:15:00"},{"$f":"B30082","v":0}]
[{"$f":"A30107+TIME(0,15,0)","v":"1900-11-10T14:30:00"},{"$f":"B30106","v":0}]
[{"$f":"A30124+TIME(0,15,0)","v":"1900-11-10T18:45:00"},{"$f":"B30122","v":0}]
[{"$f":"DATE($C$7537,$D$7537,$E$7537) + TIME($F$7537,0,0)","v":"1900-11-10T23:00:00"},{"$f":"IF(A30142<'PV Data'!$H$10,0,SUMIFS('PV Data'!D:D,'PV Data'!A:A,MONTH(Conversions!A30142),'PV Data'!B:B,DAY(Conversions!A30142),'PV Data'!C:C,HOUR(Conversions!A30142))/1000)","v":0}]
[{"$f":"A30148+TIME(0,15,0)","v":"1900-11-11T00:45:00"},{"$f":"B30146","v":0}]
[{"$f":"A30176+TIME(0,15,0)","v":"1900-11-11T07:45:00"},{"$f":"B30174","v":0}]
[{"$f":"DATE($C$7550,$D$7550,$E$7550) + TIME($F$7550,0,0)","v":"1900-11-11T12:00:00"},{"$f":"IF(A30194<'PV Data'!$H$10,0,SUMIFS('PV Data'!D:D,'PV Data'!A:A,MONTH(Conversions!A30194),'PV Data'!B:B,DAY(Conversions!A30194),'PV Data'!C:C,HOUR(Conversions!A30194))/1000)","v":0}]
[{"$f":"A30198+TIME(0,15,0)","v":"1900-11-11T13:15:00"},{"$f":"B30198","v":0}]
[{"$f":"A30228+TIME(0,15,0)","v":"1900-11-11T20:45:00"},{"$f":"B30226","v":0}]
[{"$f":"DATE($C$7559,$D$7559,$E$7559) + TIME($F$7559,0,0)","v":"1900-11-11T21:00:00"},{"$f":"IF(A30230<'PV Data'!$H$10,0,SUMIFS('PV Data'!D:D,'PV Data'!A:A,MONTH(Conversions!A30230),'PV Data'!B:B,DAY(Conversions!A30230),'PV Data'!C:C,HOUR(Conversions!A30230))/1000)","v":0}]
[{"$f":"A30246+TIME(0,15,0)","v":"1900-11-12T01:15:00"},{"$f":"B30246","v":0}]
[{"$f":"DATE($C$7568,$D$7568,$E$7568) + TIME($F$7568,0,0)","v":"1900-11-12T06:00:00"},{"$f":"IF(A30266<'PV Data'!$H$10,0,SUMIFS('PV Data'!D:D,'PV Data'!A:A,MONTH(Conversions!A30266),'PV Data'!B:B,DAY(Conversions!A30266),'PV Data'!C:C,HOUR(Conversions!A30266))/1000)","v":0}]
[{"$f":"DATE($C$7572,$D$7572,$E$7572) + TIME($F$7572,0,0)","v":"1900-11-12T10:00:00"},{"$f":"IF(A30282<'PV Data'!$H$10,0,SUMIFS('PV Data'!D:D,'PV Data'!A:A,MONTH(Conversions!A30282),'PV Data'!B:B,DAY(Conversions!A30282),'PV Data'!C:C,HOUR(Conversions!A30282))/1000)","v":0}]
[{"$f":"A30298+TIME(0,15,0)","v":"1900-11-12T14:15:00"},{"$f":"B30298","v":0}]
[{"$f":"A30315+TIME(0,15,0)","v":"1900-11-12T18:30:00"},{"$f":"B30314","v":0}]
[{"$f":"A30332+TIME(0,15,0)","v":"1900-11-12T22:45:00"},{"$f":"B30330","v":0}]
[{"$f":"A30350+TIME(0,15,0)","v":"1900-11-13T03:15:00"},{"$f":"B30350","v":0}]
[{"$f":"A30367+TIME(0,15,0)","v":"1900-11-13T07:30:00"},{"$f":"B30366","v":0}]
[{"$f":"A30382+TIME(0,15,0)","v":"1900-11-13T11:15:00"},{"$f":"B30382","v":0}]
[{"$f":"A30402+TIME(0,15,0)","v":"1900-11-13T16:15:00"},{"$f":"B30402","v":0}]
[{"$f":"A30419+TIME(0,15,0)","v":"1900-11-13T20:30:00"},{"$f":"B30418","v":0}]
[{"$f":"A30436+TIME(0,15,0)","v":"1900-11-14T00:45:00"},{"$f":"B30434","v":0}]
[{"$f":"A30448+TIME(0,15,0)","v":"1900-11-14T03:45:00"},{"$f":"B30446","v":0}]
[{"$f":"A30471+TIME(0,15,0)","v":"1900-11-14T09:30:00"},{"$f":"B30470","v":0}]
[{"$f":"A30488+TIME(0,15,0)","v":"1900-11-14T13:45:00"},{"$f":"B30486","v":0}]
[{"$f":"DATE($C$7624,$D$7624,$E$7624) + TIME($F$7624,0,0)","v":"1900-11-14T14:00:00"},{"$f":"IF(A30490<'PV Data'!$H$10,0,SUMIFS('PV Data'!D:D,'PV Data'!A:A,MONTH(Conversions!A30490),'PV Data'!B:B,DAY(Conversions!A30490),'PV Data'!C:C,HOUR(Conversions!A30490))/1000)","v":0}]
[{"$f":"A30515+TIME(0,15,0)","v":"1900-11-14T20:30:00"},{"$f":"B30514","v":0}]
[{"$f":"A30524+TIME(0,15,0)","v":"1900-11-14T22:45:00"},{"$f":"B30522","v":0}]
[{"$f":"DATE($C$7637,$D$7637,$E$7637) + TIME($F$7637,0,0)","v":"1900-11-15T03:00:00"},{"$f":"IF(A30542<'PV Data'!$H$10,0,SUMIFS('PV Data'!D:D,'PV Data'!A:A,MONTH(Conversions!A30542),'PV Data'!B:B,DAY(Conversions!A30542),'PV Data'!C:C,HOUR(Conversions!A30542))/1000)","v":0}]
[{"$f":"A30558+TIME(0,15,0)","v":"1900-11-15T07:15:00"},{"$f":"B30558","v":0}]
[{"$f":"DATE($C$7647,$D$7647,$E$7647) + TIME($F$7647,0,0)","v":"1900-11-15T13:00:00"},{"$f":"IF(A30582<'PV Data'!$H$10,0,SUMIFS('PV Data'!D:D,'PV Data'!A:A,MONTH(Conversions!A30582),'PV Data'!B:B,DAY(Conversions!A30582),'PV Data'!C:C,HOUR(Conversions!A30582))/1000)","v":0}]
[{"$f":"DATE($C$7650,$D$7650,$E$7650) + TIME($F$7650,0,0)","v":"1900-11-15T16:00:00"},{"$f":"IF(A30594<'PV Data'!$H$10,0,SUMIFS('PV Data'!D:D,'PV Data'!A:A,MONTH(Conversions!A30594),'PV Data'!B:B,DAY(Conversions!A30594),'PV Data'!C:C,HOUR(Conversions!A30594))/1000)","v":0}]
[{"$f":"A30610+TIME(0,15,0)","v":"1900-11-15T20:15:00"},{"$f":"B30610","v":0}]
[{"$f":"A30631+TIME(0,15,0)","v":"1900-11-16T01:30:00"},{"$f":"B30630","v":0}]
[{"$f":"DATE($C$7663,$D$7663,$E$7663) + TIME($F$7663,0,0)","v":"1900-11-16T05:00:00"},{"$f":"IF(A30646<'PV Data'!$H$10,0,SUMIFS('PV Data'!D:D,'PV Data'!A:A,MONTH(Conversions!A30646),'PV Data'!B:B,DAY(Conversions!A30646),'PV Data'!C:C,HOUR(Conversions!A30646))/1000)","v":0}]
[{"$f":"A30662+TIME(0,15,0)","v":"1900-11-16T09:15:00"},{"$f":"B30662","v":0}]
[{"$f":"A30679+TIME(0,15,0)","v":"1900-11-16T13:30:00"},{"$f":"B30678","v":0}]
[{"$f":"A30698+TIME(0,15,0)","v":"1900-11-16T18:15:00"},{"$f":"B30698","v":0}]
[{"$f":"A30714+TIME(0,15,0)","v":"1900-11-16T22:15:00"},{"$f":"B30714","v":0}]
[{"$f":"A30731+TIME(0,15,0)","v":"1900-11-17T02:30:00"},{"$f":"B30730","v":0}]
[{"$f":"A30748+TIME(0,15,0)","v":"1900-11-17T06:45:00"},{"$f":"B30746","v":0}]
[{"$f":"A30764+TIME(0,15,0)","v":"1900-11-17T10:45:00"},{"$f":"B30762","v":0}]
[{"$f":"A30767+TIME(0,15,0)","v":"1900-11-17T11:30:00"},{"$f":"B30766","v":0}]
[{"$f":"A30784+TIME(0,15,0)","v":"1900-11-17T15:45:00"},{"$f":"B30782","v":0}]
[{"$f":"A30798+TIME(0,15,0)","v":"1900-11-17T19:15:00"},{"$f":"B30798","v":0}]
[{"$f":"A30819+TIME(0,15,0)","v":"1900-11-18T00:30:00"},{"$f":"B30818","v":0}]
[{"$f":"A30836+TIME(0,15,0)","v":"1900-11-18T04:45:00"},{"$f":"B30834","v":0}]
[{"$f":"DATE($C$7715,$D$7715,$E$7715) + TIME($F$7715,0,0)","v":"1900-11-18T09:00:00"},{"$f":"IF(A30854<'PV Data'!$H$10,0,SUMIFS('PV Data'!D:D,'PV Data'!A:A,MONTH(Conversions!A30854),'PV Data'!B:B,DAY(Conversions!A30854),'PV Data'!C:C,HOUR(Conversions!A30854))/1000)","v":0}]
[{"$f":"A30864+TIME(0,15,0)","v":"1900-11-18T11:45:00"},{"$f":"B30862","v":0}]
[{"$f":"A30888+TIME(0,15,0)","v":"1900-11-18T17:45:00"},{"$f":"B30886","v":0}]
[{"$f":"DATE($C$7728,$D$7728,$E$7728) + TIME($F$7728,0,0)","v":"1900-11-18T22:00:00"},{"$f":"IF(A30906<'PV Data'!$H$10,0,SUMIFS('PV Data'!D:D,'PV Data'!A:A,MONTH(Conversions!A30906),'PV Data'!B:B,DAY(Conversions!A30906),'PV Data'!C:C,HOUR(Conversions!A30906))/1000)","v":0}]
[{"$f":"A30922+TIME(0,15,0)","v":"1900-11-19T02:15:00"},{"$f":"B30922","v":0}]
[{"$f":"A30931+TIME(0,15,0)","v":"1900-11-19T04:30:00"},{"$f":"B30930","v":0}]
[{"$f":"DATE($C$7741,$D$7741,$E$7741) + TIME($F$7741,0,0)","v":"1900-11-19T11:00:00"},{"$f":"IF(A30958<'PV Data'!$H$10,0,SUMIFS('PV Data'!D:D,'PV Data'!A:A,MONTH(Conversions!A30958),'PV Data'!B:B,DAY(Conversions!A30958),'PV Data'!C:C,HOUR(Conversions!A30958))/1000)","v":0}]
[{"$f":"A30974+TIME(0,15,0)","v":"1900-11-19T15:15:00"},{"$f":"B30974","v":0}]
[{"$f":"DATE($C$7747,$D$7747,$E$7747) + TIME($F$7747,0,0)","v":"1900-11-19T17:00:00"},{"$f":"IF(A30982<'PV Data'!$H$10,0,SUMIFS('PV Data'!D:D,'PV Data'!A:A,MONTH(Conversions!A30982),'PV Data'!B:B,DAY(Conversions!A30982),'PV Data'!C:C,HOUR(Conversions!A30982))/1000)","v":0}]
[{"$f":"DATE($C$7754,$D$7754,$E$7754) + TIME($F$7754,0,0)","v":"1900-11-20"},{"$f":"IF(A31010<'PV Data'!$H$10,0,SUMIFS('PV Data'!D:D,'PV Data'!A:A,MONTH(Conversions!A31010),'PV Data'!B:B,DAY(Conversions!A31010),'PV Data'!C:C,HOUR(Conversions!A31010))/1000)","v":0}]
[{"$f":"A31010+TIME(0,15,0)","v":"1900-11-20T00:15:00"},{"$f":"B31010","v":0}]
[{"$f":"A31027+TIME(0,15,0)","v":"1900-11-20T04:30:00"},{"$f":"B31026","v":0}]
[{"$f":"A31047+TIME(0,15,0)","v":"1900-11-20T09:30:00"},{"$f":"B31046","v":0}]
[{"$f":"A31062+TIME(0,15,0)","v":"1900-11-20T13:15:00"},{"$f":"B31062","v":0}]
[{"$f":"A31079+TIME(0,15,0)","v":"1900-11-20T17:30:00"},{"$f":"B31078","v":0}]
[{"$f":"A31096+TIME(0,15,0)","v":"1900-11-20T21:45:00"},{"$f":"B31094","v":0}]
[{"$f":"A31114+TIME(0,15,0)","v":"1900-11-21T02:15:00"},{"$f":"B31114","v":0}]
[{"$f":"A31131+TIME(0,15,0)","v":"1900-11-21T06:30:00"},{"$f":"B31130","v":0}]
[{"$f":"A31148+TIME(0,15,0)","v":"1900-11-21T10:45:00"},{"$f":"B31146","v":0}]
[{"$f":"A31164+TIME(0,15,0)","v":"1900-11-21T14:45:00"},{"$f":"B31162","v":0}]
[{"$f":"A31183+TIME(0,15,0)","v":"1900-11-21T19:30:00"},{"$f":"B31182","v":0}]
[{"$f":"A31200+TIME(0,15,0)","v":"1900-11-21T23:45:00"},{"$f":"B31198","v":0}]
[{"$f":"DATE($C$7806,$D$7806,$E$7806) + TIME($F$7806,0,0)","v":"1900-11-22T04:00:00"},{"$f":"IF(A31218<'PV Data'!$H$10,0,SUMIFS('PV Data'!D:D,'PV Data'!A:A,MONTH(Conversions!A31218),'PV Data'!B:B,DAY(Conversions!A31218),'PV Data'!C:C,HOUR(Conversions!A31218))/1000)","v":0}]
[{"$f":"A31231+TIME(0,15,0)","v":"1900-11-22T07:30:00"},{"$f":"B31230","v":0}]
[{"$f":"A31252+TIME(0,15,0)","v":"1900-11-22T12:45:00"},{"$f":"B31250","v":0}]
[{"$f":"DATE($C$7819,$D$7819,$E$7819) + TIME($F$7819,0,0)","v":"1900-11-22T17:00:00"},{"$f":"IF(A31270<'PV Data'!$H$10,0,SUMIFS('PV Data'!D:D,'PV Data'!A:A,MONTH(Conversions!A31270),'PV Data'!B:B,DAY(Conversions!A31270),'PV Data'!C:C,HOUR(Conversions!A31270))/1000)","v":0}]
[{"$f":"A31270+TIME(0,15,0)","v":"1900-11-22T17:15:00"},{"$f":"B31270","v":0}]
[{"$f":"DATE($C$7826,$D$7826,$E$7826) + TIME($F$7826,0,0)","v":"1900-11-23"},{"$f":"IF(A31298<'PV Data'!$H$10,0,SUMIFS('PV Data'!D:D,'PV Data'!A:A,MONTH(Conversions!A31298),'PV Data'!B:B,DAY(Conversions!A31298),'PV Data'!C:C,HOUR(Conversions!A31298))/1000)","v":0}]
[{"$f":"DATE($C$7828,$D$7828,$E$7828) + TIME($F$7828,0,0)","v":"1900-11-23T02:00:00"},{"$f":"IF(A31306<'PV Data'!$H$10,0,SUMIFS('PV Data'!D:D,'PV Data'!A:A,MONTH(Conversions!A31306),'PV Data'!B:B,DAY(Conversions!A31306),'PV Data'!C:C,HOUR(Conversions!A31306))/1000)","v":0}]
[{"$f":"A31322+TIME(0,15,0)","v":"1900-11-23T06:15:00"},{"$f":"B31322","v":0}]
[{"$f":"A31339+TIME(0,15,0)","v":"1900-11-23T10:30:00"},{"$f":"B31338","v":0}]
[{"$f":"A31364+TIME(0,15,0)","v":"1900-11-23T16:45:00"},{"$f":"B31362","v":0}]
[{"$f":"A31374+TIME(0,15,0)","v":"1900-11-23T19:15:00"},{"$f":"B31374","v":0}]
[{"$f":"A31391+TIME(0,15,0)","v":"1900-11-23T23:30:00"},{"$f":"B31390","v":0}]
[{"$f":"A31414+TIME(0,15,0)","v":"1900-11-24T05:15:00"},{"$f":"B31414","v":0}]
[{"$f":"A31426+TIME(0,15,0)","v":"1900-11-24T08:15:00"},{"$f":"B31426","v":0}]
[{"$f":"A31443+TIME(0,15,0)","v":"1900-11-24T12:30:00"},{"$f":"B31442","v":0}]
[{"$f":"A31460+TIME(0,15,0)","v":"1900-11-24T16:45:00"},{"$f":"B31458","v":0}]
[{"$f":"A31480+TIME(0,15,0)","v":"1900-11-24T21:45:00"},{"$f":"B31478","v":0}]
[{"$f":"A31495+TIME(0,15,0)","v":"1900-11-25T01:30:00"},{"$f":"B31494","v":0}]
[{"$f":"A31512+TIME(0,15,0)","v":"1900-11-25T05:45:00"},{"$f":"B31510","v":0}]
[{"$f":"DATE($C$7884,$D$7884,$E$7884) + TIME($F$7884,0,0)","v":"1900-11-25T10:00:00"},{"$f":"IF(A31530<'PV Data'!$H$10,0,SUMIFS('PV Data'!D:D,'PV Data'!A:A,MONTH(Conversions!A31530),'PV Data'!B:B,DAY(Conversions!A31530),'PV Data'!C:C,HOUR(Conversions!A31530))/1000)","v":0}]
[{"$f":"A31530+TIME(0,15,0)","v":"1900-11-25T10:15:00"},{"$f":"B31530","v":0}]
[{"$f":"A31548+TIME(0,15,0)","v":"1900-11-25T14:45:00"},{"$f":"B31546","v":0}]
[{"$f":"DATE($C$7893,$D$7893,$E$7893) + TIME($F$7893,0,0)","v":"1900-11-25T19:00:00"},{"$f":"IF(A31566<'PV Data'!$H$10,0,SUMIFS('PV Data'!D:D,'PV Data'!A:A,MONTH(Conversions!A31566),'PV Data'!B:B,DAY(Conversions!A31566),'PV Data'!C:C,HOUR(Conversions!A31566))/1000)","v":0}]
[{"$f":"A31580+TIME(0,15,0)","v":"1900-11-25T22:45:00"},{"$f":"B31578","v":0}]
[{"$f":"A31600+TIME(0,15,0)","v":"1900-11-26T03:45:00"},{"$f":"B31598","v":0}]
[{"$f":"DATE($C$7906,$D$7906,$E$7906) + TIME($F$7906,0,0)","v":"1900-11-26T08:00:00"},{"$f":"IF(A31618<'PV Data'!$H$10,0,SUMIFS('PV Data'!D:D,'PV Data'!A:A,MONTH(Conversions!A31618),'PV Data'!B:B,DAY(Conversions!A31618),'PV Data'!C:C,HOUR(Conversions!A31618))/1000)","v":0}]
[{"$f":"A31634+TIME(0,15,0)","v":"1900-11-26T12:15:00"},{"$f":"B31634","v":0}]
[{"$f":"A31646+TIME(0,15,0)","v":"1900-11-26T15:15:00"},{"$f":"B31646","v":0}]
[{"$f":"DATE($C$7919,$D$7919,$E$7919) + TIME($F$7919,0,0)","v":"1900-11-26T21:00:00"},{"$f":"IF(A31670<'PV Data'!$H$10,0,SUMIFS('PV Data'!D:D,'PV Data'!A:A,MONTH(Conversions!A31670),'PV Data'!B:B,DAY(Conversions!A31670),'PV Data'!C:C,HOUR(Conversions!A31670))/1000)","v":0}]
[{"$f":"A31686+TIME(0,15,0)","v":"1900-11-27T01:15:00"},{"$f":"B31686","v":0}]
[{"$f":"A31703+TIME(0,15,0)","v":"1900-11-27T05:30:00"},{"$f":"B31702","v":0}]
[{"$f":"DATE($C$7930,$D$7930,$E$7930) + TIME($F$7930,0,0)","v":"1900-11-27T08:00:00"},{"$f":"IF(A31714<'PV Data'!$H$10,0,SUMIFS('PV Data'!D:D,'PV Data'!A:A,MONTH(Conversions!A31714),'PV Data'!B:B,DAY(Conversions!A31714),'PV Data'!C:C,HOUR(Conversions!A31714))/1000)","v":0}]
[{"$f":"A31738+TIME(0,15,0)","v":"1900-11-27T14:15:00"},{"$f":"B31738","v":0}]
[{"$f":"A31755+TIME(0,15,0)","v":"1900-11-27T18:30:00"},{"$f":"B31754","v":0}]
[{"$f":"A31763+TIME(0,15,0)","v":"1900-11-27T20:30:00"},{"$f":"B31762","v":0}]
[{"$f":"A31790+TIME(0,15,0)","v":"1900-11-28T03:15:00"},{"$f":"B31790","v":0}]
[{"$f":"A31791+TIME(0,15,0)","v":"1900-11-28T03:30:00"},{"$f":"B31790","v":0}]
[{"$f":"A31808+TIME(0,15,0)","v":"1900-11-28T07:45:00"},{"$f":"B31806","v":0}]
[{"$f":"A31830+TIME(0,15,0)","v":"1900-11-28T13:15:00"},{"$f":"B31830","v":0}]
[{"$f":"A31843+TIME(0,15,0)","v":"1900-11-28T16:30:00"},{"$f":"B31842","v":0}]
[{"$f":"A31860+TIME(0,15,0)","v":"1900-11-28T20:45:00"},{"$f":"B31858","v":0}]
[{"$f":"DATE($C$7971,$D$7971,$E$7971) + TIME($F$7971,0,0)","v":"1900-11-29T01:00:00"},{"$f":"IF(A31878<'PV Data'!$H$10,0,SUMIFS('PV Data'!D:D,'PV Data'!A:A,MONTH(Conversions!A31878),'PV Data'!B:B,DAY(Conversions!A31878),'PV Data'!C:C,HOUR(Conversions!A31878))/1000)","v":0}]
[{"$f":"A31896+TIME(0,15,0)","v":"1900-11-29T05:45:00"},{"$f":"B31894","v":0}]
[{"$f":"A31912+TIME(0,15,0)","v":"1900-11-29T09:45:00"},{"$f":"B31910","v":0}]
[{"$f":"DATE($C$7984,$D$7984,$E$7984) + TIME($F$7984,0,0)","v":"1900-11-29T14:00:00"},{"$f":"IF(A31930<'PV Data'!$H$10,0,SUMIFS('PV Data'!D:D,'PV Data'!A:A,MONTH(Conversions!A31930),'PV Data'!B:B,DAY(Conversions!A31930),'PV Data'!C:C,HOUR(Conversions!A31930))/1000)","v":0}]
[{"$f":"A31946+TIME(0,15,0)","v":"1900-11-29T18:15:00"},{"$f":"B31946","v":0}]
[{"$f":"A31963+TIME(0,15,0)","v":"1900-11-29T22:30:00"},{"$f":"B31962","v":0}]
[{"$f":"DATE($C$7997,$D$7997,$E$7997) + TIME($F$7997,0,0)","v":"1900-11-30T03:00:00"},{"$f":"IF(A31982<'PV Data'!$H$10,0,SUMIFS('PV Data'!D:D,'PV Data'!A:A,MONTH(Conversions!A31982),'PV Data'!B:B,DAY(Conversions!A31982),'PV Data'!C:C,HOUR(Conversions!A31982))/1000)","v":0}]
[{"$f":"A31998+TIME(0,15,0)","v":"1900-11-30T07:15:00"},{"$f":"B31998","v":0}]
[{"$f":"DATE($C$8005,$D$8005,$E$8005) + TIME($F$8005,0,0)","v":"1900-11-30T11:00:00"},{"$f":"IF(A32014<'PV Data'!$H$10,0,SUMIFS('PV Data'!D:D,'PV Data'!A:A,MONTH(Conversions!A32014),'PV Data'!B:B,DAY(Conversions!A32014),'PV Data'!C:C,HOUR(Conversions!A32014))/1000)","v":0}]
[{"$f":"DATE($C$8010,$D$8010,$E$8010) + TIME($F$8010,0,0)","v":"1900-11-30T16:00:00"},{"$f":"IF(A32034<'PV Data'!$H$10,0,SUMIFS('PV Data'!D:D,'PV Data'!A:A,MONTH(Conversions!A32034),'PV Data'!B:B,DAY(Conversions!A32034),'PV Data'!C:C,HOUR(Conversions!A32034))/1000)","v":0}]
[{"$f":"A32050+TIME(0,15,0)","v":"1900-11-30T20:15:00"},{"$f":"B32050","v":0}]
[{"$f":"A32051+TIME(0,15,0)","v":"1900-11-30T20:30:00"},{"$f":"B32050","v":0}]
[{"$f":"A32079+TIME(0,15,0)","v":"1900-12-01T03:30:00"},{"$f":"B32078","v":0}]
[{"$f":"A32086+TIME(0,15,0)","v":"1900-12-01T05:15:00"},{"$f":"B32086","v":0}]
[{"$f":"A32103+TIME(0,15,0)","v":"1900-12-01T09:30:00"},{"$f":"B32102","v":0}]
[{"$f":"A32120+TIME(0,15,0)","v":"1900-12-01T13:45:00"},{"$f":"B32118","v":0}]
[{"$f":"A32146+TIME(0,15,0)","v":"1900-12-01T20:15:00"},{"$f":"B32146","v":0}]
[{"$f":"A32155+TIME(0,15,0)","v":"1900-12-01T22:30:00"},{"$f":"B32154","v":0}]
[{"$f":"A32172+TIME(0,15,0)","v":"1900-12-02T02:45:00"},{"$f":"B32170","v":0}]
[{"$f":"A32196+TIME(0,15,0)","v":"1900-12-02T08:45:00"},{"$f":"B32194","v":0}]
[{"$f":"A32207+TIME(0,15,0)","v":"1900-12-02T11:30:00"},{"$f":"B32206","v":0}]
[{"$f":"A32224+TIME(0,15,0)","v":"1900-12-02T15:45:00"},{"$f":"B32222","v":0}]
[{"$f":"DATE($C$8062,$D$8062,$E$8062) + TIME($F$8062,0,0)","v":"1900-12-02T20:00:00"},{"$f":"IF(A32242<'PV Data'!$H$10,0,SUMIFS('PV Data'!D:D,'PV Data'!A:A,MONTH(Conversions!A32242),'PV Data'!B:B,DAY(Conversions!A32242),'PV Data'!C:C,HOUR(Conversions!A32242))/1000)","v":0}]
[{"$f":"A32246+TIME(0,15,0)","v":"1900-12-02T21:15:00"},{"$f":"B32246","v":0}]
[{"$f":"A32276+TIME(0,15,0)","v":"1900-12-03T04:45:00"},{"$f":"B32274","v":0}]
[{"$f":"DATE($C$8075,$D$8075,$E$8075) + TIME($F$8075,0,0)","v":"1900-12-03T09:00:00"},{"$f":"IF(A32294<'PV Data'!$H$10,0,SUMIFS('PV Data'!D:D,'PV Data'!A:A,MONTH(Conversions!A32294),'PV Data'!B:B,DAY(Conversions!A32294),'PV Data'!C:C,HOUR(Conversions!A32294))/1000)","v":0}]
[{"$f":"A32310+TIME(0,15,0)","v":"1900-12-03T13:15:00"},{"$f":"B32310","v":0}]
[{"$f":"A32312+TIME(0,15,0)","v":"1900-12-03T13:45:00"},{"$f":"B32310","v":0}]
[{"$f":"DATE($C$8084,$D$8084,$E$8084) + TIME($F$8084,0,0)","v":"1900-12-03T18:00:00"},{"$f":"IF(A32330<'PV Data'!$H$10,0,SUMIFS('PV Data'!D:D,'PV Data'!A:A,MONTH(Conversions!A32330),'PV Data'!B:B,DAY(Conversions!A32330),'PV Data'!C:C,HOUR(Conversions!A32330))/1000)","v":0}]
[{"$f":"A32346+TIME(0,15,0)","v":"1900-12-03T22:15:00"},{"$f":"B32346","v":0}]
[{"$f":"A32362+TIME(0,15,0)","v":"1900-12-04T02:15:00"},{"$f":"B32362","v":0}]
[{"$f":"DATE($C$8097,$D$8097,$E$8097) + TIME($F$8097,0,0)","v":"1900-12-04T07:00:00"},{"$f":"IF(A32382<'PV Data'!$H$10,0,SUMIFS('PV Data'!D:D,'PV Data'!A:A,MONTH(Conversions!A32382),'PV Data'!B:B,DAY(Conversions!A32382),'PV Data'!C:C,HOUR(Conversions!A32382))/1000)","v":0}]
[{"$f":"A32398+TIME(0,15,0)","v":"1900-12-04T11:15:00"},{"$f":"B32398","v":0}]
[{"$f":"A32415+TIME(0,15,0)","v":"1900-12-04T15:30:00"},{"$f":"B32414","v":0}]
[{"$f":"DATE($C$8109,$D$8109,$E$8109) + TIME($F$8109,0,0)","v":"1900-12-04T19:00:00"},{"$f":"IF(A32430<'PV Data'!$H$10,0,SUMIFS('PV Data'!D:D,'PV Data'!A:A,MONTH(Conversions!A32430),'PV Data'!B:B,DAY(Conversions!A32430),'PV Data'!C:C,HOUR(Conversions!A32430))/1000)","v":0}]
[{"$f":"A32450+TIME(0,15,0)","v":"1900-12-05T00:15:00"},{"$f":"B32450","v":0}]
[{"$f":"A32467+TIME(0,15,0)","v":"1900-12-05T04:30:00"},{"$f":"B32466","v":0}]
[{"$f":"A32484+TIME(0,15,0)","v":"1900-12-05T08:45:00"},{"$f":"B32482","v":0}]
[{"$f":"A32495+TIME(0,15,0)","v":"1900-12-05T11:30:00"},{"$f":"B32494","v":0}]
[{"$f":"A32519+TIME(0,15,0)","v":"1900-12-05T17:30:00"},{"$f":"B32518","v":0}]
[{"$f":"A32536+TIME(0,15,0)","v":"1900-12-05T21:45:00"},{"$f":"B32534","v":0}]
[{"$f":"DATE($C$8140,$D$8140,$E$8140) + TIME($F$8140,0,0)","v":"1900-12-06T02:00:00"},{"$f":"IF(A32554<'PV Data'!$H$10,0,SUMIFS('PV Data'!D:D,'PV Data'!A:A,MONTH(Conversions!A32554),'PV Data'!B:B,DAY(Conversions!A32554),'PV Data'!C:C,HOUR(Conversions!A32554))/1000)","v":0}]
[{"$f":"A32562+TIME(0,15,0)","v":"1900-12-06T04:15:00"},{"$f":"B32562","v":0}]
[{"$f":"A32572+TIME(0,15,0)","v":"1900-12-06T06:45:00"},{"$f":"B32570","v":0}]
[{"$f":"DATE($C$8149,$D$8149,$E$8149) + TIME($F$8149,0,0)","v":"1900-12-06T11:00:00"},{"$f":"IF(A32590<'PV Data'!$H$10,0,SUMIFS('PV Data'!D:D,'PV Data'!A:A,MONTH(Conversions!A32590),'PV Data'!B:B,DAY(Conversions!A32590),'PV Data'!C:C,HOUR(Conversions!A32590))/1000)","v":0}]
[{"$f":"A32612+TIME(0,15,0)","v":"1900-12-06T16:45:00"},{"$f":"B32610","v":0}]
[{"$f":"A32624+TIME(0,15,0)","v":"1900-12-06T19:45:00"},{"$f":"B32622","v":0}]
[{"$f":"DATE($C$8162,$D$8162,$E$8162) + TIME($F$8162,0,0)","v":"1900-12-07"},{"$f":"IF(A32642<'PV Data'!$H$10,0,SUMIFS('PV Data'!D:D,'PV Data'!A:A,MONTH(Conversions!A32642),'PV Data'!B:B,DAY(Conversions!A32642),'PV Data'!C:C,HOUR(Conversions!A32642))/1000)","v":0}]
[{"$f":"A32658+TIME(0,15,0)","v":"1900-12-07T04:15:00"},{"$f":"B32658","v":0}]
[{"$f":"A32679+TIME(0,15,0)","v":"1900-12-07T09:30:00"},{"$f":"B32678","v":0}]
[{"$f":"DATE($C$8175,$D$8175,$E$8175) + TIME($F$8175,0,0)","v":"1900-12-07T13:00:00"},{"$f":"IF(A32694<'PV Data'!$H$10,0,SUMIFS('PV Data'!D:D,'PV Data'!A:A,MONTH(Conversions!A32694),'PV Data'!B:B,DAY(Conversions!A32694),'PV Data'!C:C,HOUR(Conversions!A32694))/1000)","v":0}]
[{"$f":"A32710+TIME(0,15,0)","v":"1900-12-07T17:15:00"},{"$f":"B32710","v":0}]
[{"$f":"A32727+TIME(0,15,0)","v":"1900-12-07T21:30:00"},{"$f":"B32726","v":0}]
[{"$f":"DATE($C$8188,$D$8188,$E$8188) + TIME($F$8188,0,0)","v":"1900-12-08T02:00:00"},{"$f":"IF(A32746<'PV Data'!$H$10,0,SUMIFS('PV Data'!D:D,'PV Data'!A:A,MONTH(Conversions!A32746),'PV Data'!B:B,DAY(Conversions!A32746),'PV Data'!C:C,HOUR(Conversions!A32746))/1000)","v":0}]
[{"$f":"A32762+TIME(0,15,0)","v":"1900-12-08T06:15:00"},{"$f":"B32762","v":0}]
[{"$f":"A32779+TIME(0,15,0)","v":"1900-12-08T10:30:00"},{"$f":"B32778","v":0}]
[{"$f":"A32795+TIME(0,15,0)","v":"1900-12-08T14:30:00"},{"$f":"B32794","v":0}]
[{"$f":"A32814+TIME(0,15,0)","v":"1900-12-08T19:15:00"},{"$f":"B32814","v":0}]
[{"$f":"A32831+TIME(0,15,0)","v":"1900-12-08T23:30:00"},{"$f":"B32830","v":0}]
[{"$f":"A32832+TIME(0,15,0)","v":"1900-12-08T23:45:00"},{"$f":"B32830","v":0}]
[{"$f":"A32862+TIME(0,15,0)","v":"1900-12-09T07:15:00"},{"$f":"B32862","v":0}]
[{"$f":"A32867+TIME(0,15,0)","v":"1900-12-09T08:30:00"},{"$f":"B32866","v":0}]
[{"$f":"A32884+TIME(0,15,0)","v":"1900-12-09T12:45:00"},{"$f":"B32882","v":0}]
[{"$f":"DATE($C$8227,$D$8227,$E$8227) + TIME($F$8227,0,0)","v":"1900-12-09T17:00:00"},{"$f":"IF(A32902<'PV Data'!$H$10,0,SUMIFS('PV Data'!D:D,'PV Data'!A:A,MONTH(Conversions!A32902),'PV Data'!B:B,DAY(Conversions!A32902),'PV Data'!C:C,HOUR(Conversions!A32902))/1000)","v":0}]
[{"$f":"A32928+TIME(0,15,0)","v":"1900-12-09T23:45:00"},{"$f":"B32926","v":0}]
[{"$f":"A32936+TIME(0,15,0)","v":"1900-12-10T01:45:00"},{"$f":"B32934","v":0}]
[{"$f":"DATE($C$8240,$D$8240,$E$8240) + TIME($F$8240,0,0)","v":"1900-12-10T06:00:00"},{"$f":"IF(A32954<'PV Data'!$H$10,0,SUMIFS('PV Data'!D:D,'PV Data'!A:A,MONTH(Conversions!A32954),'PV Data'!B:B,DAY(Conversions!A32954),'PV Data'!C:C,HOUR(Conversions!A32954))/1000)","v":0}]
[{"$f":"A32978+TIME(0,15,0)","v":"1900-12-10T12:15:00"},{"$f":"B32978","v":0}]
[{"$f":"A32988+TIME(0,15,0)","v":"1900-12-10T14:45:00"},{"$f":"B32986","v":0}]
[{"$f":"DATE($C$8253,$D$8253,$E$8253) + TIME($F$8253,0,0)","v":"1900-12-10T19:00:00"},{"$f":"IF(A33006<'PV Data'!$H$10,0,SUMIFS('PV Data'!D:D,'PV Data'!A:A,MONTH(Conversions!A33006),'PV Data'!B:B,DAY(Conversions!A33006),'PV Data'!C:C,HOUR(Conversions!A33006))/1000)","v":0}]
[{"$f":"A33022+TIME(0,15,0)","v":"1900-12-10T23:15:00"},{"$f":"B33022","v":0}]
[{"$f":"A33028+TIME(0,15,0)","v":"1900-12-11T00:45:00"},{"$f":"B33026","v":0}]
[{"$f":"DATE($C$8266,$D$8266,$E$8266) + TIME($F$8266,0,0)","v":"1900-12-11T08:00:00"},{"$f":"IF(A33058<'PV Data'!$H$10,0,SUMIFS('PV Data'!D:D,'PV Data'!A:A,MONTH(Conversions!A33058),'PV Data'!B:B,DAY(Conversions!A33058),'PV Data'!C:C,HOUR(Conversions!A33058))/1000)","v":0}]
[{"$f":"A33074+TIME(0,15,0)","v":"1900-12-11T12:15:00"},{"$f":"B33074","v":0}]
[{"$f":"A33091+TIME(0,15,0)","v":"1900-12-11T16:30:00"},{"$f":"B33090","v":0}]
[{"$f":"A33094+TIME(0,15,0)","v":"1900-12-11T17:15:00"},{"$f":"B33094","v":0}]
[{"$f":"A33110+TIME(0,15,0)","v":"1900-12-11T21:15:00"},{"$f":"B33110","v":0}]
[{"$f":"A33127+TIME(0,15,0)","v":"1900-12-12T01:30:00"},{"$f":"B33126","v":0}]
[{"$f":"DATE($C$8288,$D$8288,$E$8288) + TIME($F$8288,0,0)","v":"1900-12-12T06:00:00"},{"$f":"IF(A33146<'PV Data'!$H$10,0,SUMIFS('PV Data'!D:D,'PV Data'!A:A,MONTH(Conversions!A33146),'PV Data'!B:B,DAY(Conversions!A33146),'PV Data'!C:C,HOUR(Conversions!A33146))/1000)","v":0}]
[{"$f":"A33162+TIME(0,15,0)","v":"1900-12-12T10:15:00"},{"$f":"B33162","v":0}]
[{"$f":"A33179+TIME(0,15,0)","v":"1900-12-12T14:30:00"},{"$f":"B33178","v":0}]
[{"$f":"A33196+TIME(0,15,0)","v":"1900-12-12T18:45:00"},{"$f":"B33194","v":0}]
[{"$f":"A33211+TIME(0,15,0)","v":"1900-12-12T22:30:00"},{"$f":"B33210","v":0}]
[{"$f":"A33231+TIME(0,15,0)","v":"1900-12-13T03:30:00"},{"$f":"B33230","v":0}]
[{"$f":"A33248+TIME(0,15,0)","v":"1900-12-13T07:45:00"},{"$f":"B33246","v":0}]
[{"$f":"DATE($C$8318,$D$8318,$E$8318) + TIME($F$8318,0,0)","v":"1900-12-13T12:00:00"},{"$f":"IF(A33266<'PV Data'!$H$10,0,SUMIFS('PV Data'!D:D,'PV Data'!A:A,MONTH(Conversions!A33266),'PV Data'!B:B,DAY(Conversions!A33266),'PV Data'!C:C,HOUR(Conversions!A33266))/1000)","v":0}]
[{"$f":"A33278+TIME(0,15,0)","v":"1900-12-13T15:15:00"},{"$f":"B33278","v":0}]
[{"$f":"A33300+TIME(0,15,0)","v":"1900-12-13T20:45:00"},{"$f":"B33298","v":0}]
[{"$f":"DATE($C$8331,$D$8331,$E$8331) + TIME($F$8331,0,0)","v":"1900-12-14T01:00:00"},{"$f":"IF(A33318<'PV Data'!$H$10,0,SUMIFS('PV Data'!D:D,'PV Data'!A:A,MONTH(Conversions!A33318),'PV Data'!B:B,DAY(Conversions!A33318),'PV Data'!C:C,HOUR(Conversions!A33318))/1000)","v":0}]
[{"$f":"A33334+TIME(0,15,0)","v":"1900-12-14T05:15:00"},{"$f":"B33334","v":0}]
[{"$f":"A33344+TIME(0,15,0)","v":"1900-12-14T07:45:00"},{"$f":"B33342","v":0}]
[{"$f":"DATE($C$8340,$D$8340,$E$8340) + TIME($F$8340,0,0)","v":"1900-12-14T10:00:00"},{"$f":"IF(A33354<'PV Data'!$H$10,0,SUMIFS('PV Data'!D:D,'PV Data'!A:A,MONTH(Conversions!A33354),'PV Data'!B:B,DAY(Conversions!A33354),'PV Data'!C:C,HOUR(Conversions!A33354))/1000)","v":0}]
[{"$f":"A33370+TIME(0,15,0)","v":"1900-12-14T14:15:00"},{"$f":"B33370","v":0}]
[{"$f":"A33394+TIME(0,15,0)","v":"1900-12-14T20:15:00"},{"$f":"B33394","v":0}]
[{"$f":"DATE($C$8353,$D$8353,$E$8353) + TIME($F$8353,0,0)","v":"1900-12-14T23:00:00"},{"$f":"IF(A33406<'PV Data'!$H$10,0,SUMIFS('PV Data'!D:D,'PV Data'!A:A,MONTH(Conversions!A33406),'PV Data'!B:B,DAY(Conversions!A33406),'PV Data'!C:C,HOUR(Conversions!A33406))/1000)","v":0}]
[{"$f":"A33422+TIME(0,15,0)","v":"1900-12-15T03:15:00"},{"$f":"B33422","v":0}]
[{"$f":"A33439+TIME(0,15,0)","v":"1900-12-15T07:30:00"},{"$f":"B33438","v":0}]
[{"$f":"DATE($C$8367,$D$8367,$E$8367) + TIME($F$8367,0,0)","v":"1900-12-15T13:00:00"},{"$f":"IF(A33462<'PV Data'!$H$10,0,SUMIFS('PV Data'!D:D,'PV Data'!A:A,MONTH(Conversions!A33462),'PV Data'!B:B,DAY(Conversions!A33462),'PV Data'!C:C,HOUR(Conversions!A33462))/1000)","v":0}]
[{"$f":"A33474+TIME(0,15,0)","v":"1900-12-15T16:15:00"},{"$f":"B33474","v":0}]
[{"$f":"A33491+TIME(0,15,0)","v":"1900-12-15T20:30:00"},{"$f":"B33490","v":0}]
[{"$f":"A33508+TIME(0,15,0)","v":"1900-12-16T00:45:00"},{"$f":"B33506","v":0}]
[{"$f":"A33527+TIME(0,15,0)","v":"1900-12-16T05:30:00"},{"$f":"B33526","v":0}]
[{"$f":"A33543+TIME(0,15,0)","v":"1900-12-16T09:30:00"},{"$f":"B33542","v":0}]
[{"$f":"A33560+TIME(0,15,0)","v":"1900-12-16T13:45:00"},{"$f":"B33558","v":0}]
[{"$f":"A33578+TIME(0,15,0)","v":"1900-12-16T18:15:00"},{"$f":"B33578","v":0}]
[{"$f":"A33595+TIME(0,15,0)","v":"1900-12-16T22:30:00"},{"$f":"B33594","v":0}]
[{"$f":"A33612+TIME(0,15,0)","v":"1900-12-17T02:45:00"},{"$f":"B33610","v":0}]
[{"$f":"DATE($C$8405,$D$8405,$E$8405) + TIME($F$8405,0,0)","v":"1900-12-17T03:00:00"},{"$f":"IF(A33614<'PV Data'!$H$10,0,SUMIFS('PV Data'!D:D,'PV Data'!A:A,MONTH(Conversions!A33614),'PV Data'!B:B,DAY(Conversions!A33614),'PV Data'!C:C,HOUR(Conversions!A33614))/1000)","v":0}]
[{"$f":"A33644+TIME(0,15,0)","v":"1900-12-17T10:45:00"},{"$f":"B33642","v":0}]
[{"$f":"A33648+TIME(0,15,0)","v":"1900-12-17T11:45:00"},{"$f":"B33646","v":0}]
[{"$f":"DATE($C$8418,$D$8418,$E$8418) + TIME($F$8418,0,0)","v":"1900-12-17T16:00:00"},{"$f":"IF(A33666<'PV Data'!$H$10,0,SUMIFS('PV Data'!D:D,'PV Data'!A:A,MONTH(Conversions!A33666),'PV Data'!B:B,DAY(Conversions!A33666),'PV Data'!C:C,HOUR(Conversions!A33666))/1000)","v":0}]
[{"$f":"A33682+TIME(0,15,0)","v":"1900-12-17T20:15:00"},{"$f":"B33682","v":0}]
[{"$f":"A33694+TIME(0,15,0)","v":"1900-12-17T23:15:00"},{"$f":"B33694","v":0}]
[{"$f":"DATE($C$8431,$D$8431,$E$8431) + TIME($F$8431,0,0)","v":"1900-12-18T05:00:00"},{"$f":"IF(A33718<'PV Data'!$H$10,0,SUMIFS('PV Data'!D:D,'PV Data'!A:A,MONTH(Conversions!A33718),'PV Data'!B:B,DAY(Conversions!A33718),'PV Data'!C:C,HOUR(Conversions!A33718))/1000)","v":0}]
[{"$f":"A33734+TIME(0,15,0)","v":"1900-12-18T09:15:00"},{"$f":"B33734","v":0}]
[{"$f":"A33744+TIME(0,15,0)","v":"1900-12-18T11:45:00"},{"$f":"B33742","v":0}]
[{"$f":"DATE($C$8444,$D$8444,$E$8444) + TIME($F$8444,0,0)","v":"1900-12-18T18:00:00"},{"$f":"IF(A33770<'PV Data'!$H$10,0,SUMIFS('PV Data'!D:D,'PV Data'!A:A,MONTH(Conversions!A33770),'PV Data'!B:B,DAY(Conversions!A33770),'PV Data'!C:C,HOUR(Conversions!A33770))/1000)","v":0}]
[{"$f":"A33786+TIME(0,15,0)","v":"1900-12-18T22:15:00"},{"$f":"B33786","v":0}]
[{"$f":"A33803+TIME(0,15,0)","v":"1900-12-19T02:30:00"},{"$f":"B33802","v":0}]
[{"$f":"A33810+TIME(0,15,0)","v":"1900-12-19T04:15:00"},{"$f":"B33810","v":0}]
[{"$f":"A33838+TIME(0,15,0)","v":"1900-12-19T11:15:00"},{"$f":"B33838","v":0}]
[{"$f":"A33855+TIME(0,15,0)","v":"1900-12-19T15:30:00"},{"$f":"B33854","v":0}]
[{"$f":"A33872+TIME(0,15,0)","v":"1900-12-19T19:45:00"},{"$f":"B33870","v":0}]
[{"$f":"DATE($C$8471,$D$8471,$E$8471) + TIME($F$8471,0,0)","v":"1900-12-19T21:00:00"},{"$f":"IF(A33878<'PV Data'!$H$10,0,SUMIFS('PV Data'!D:D,'PV Data'!A:A,MONTH(Conversions!A33878),'PV Data'!B:B,DAY(Conversions!A33878),'PV Data'!C:C,HOUR(Conversions!A33878))/1000)","v":0}]
[{"$f":"A33891+TIME(0,15,0)","v":"1900-12-20T00:30:00"},{"$f":"B33890","v":0}]
[{"$f":"A33908+TIME(0,15,0)","v":"1900-12-20T04:45:00"},{"$f":"B33906","v":0}]
[{"$f":"DATE($C$8483,$D$8483,$E$8483) + TIME($F$8483,0,0)","v":"1900-12-20T09:00:00"},{"$f":"IF(A33926<'PV Data'!$H$10,0,SUMIFS('PV Data'!D:D,'PV Data'!A:A,MONTH(Conversions!A33926),'PV Data'!B:B,DAY(Conversions!A33926),'PV Data'!C:C,HOUR(Conversions!A33926))/1000)","v":0}]
[{"$f":"A33943+TIME(0,15,0)","v":"1900-12-20T13:30:00"},{"$f":"B33942","v":0}]
[{"$f":"A33960+TIME(0,15,0)","v":"1900-12-20T17:45:00"},{"$f":"B33958","v":0}]
[{"$f":"DATE($C$8496,$D$8496,$E$8496) + TIME($F$8496,0,0)","v":"1900-12-20T22:00:00"},{"$f":"IF(A33978<'PV Data'!$H$10,0,SUMIFS('PV Data'!D:D,'PV Data'!A:A,MONTH(Conversions!A33978),'PV Data'!B:B,DAY(Conversions!A33978),'PV Data'!C:C,HOUR(Conversions!A33978))/1000)","v":0}]
[{"$f":"DATE($C$8500,$D$8500,$E$8500) + TIME($F$8500,0,0)","v":"1900-12-21T02:00:00"},{"$f":"IF(A33994<'PV Data'!$H$10,0,SUMIFS('PV Data'!D:D,'PV Data'!A:A,MONTH(Conversions!A33994),'PV Data'!B:B,DAY(Conversions!A33994),'PV Data'!C:C,HOUR(Conversions!A33994))/1000)","v":0}]
[{"$f":"A34012+TIME(0,15,0)","v":"1900-12-21T06:45:00"},{"$f":"B34010","v":0}]
[{"$f":"DATE($C$8509,$D$8509,$E$8509) + TIME($F$8509,0,0)","v":"1900-12-21T11:00:00"},{"$f":"IF(A34030<'PV Data'!$H$10,0,SUMIFS('PV Data'!D:D,'PV Data'!A:A,MONTH(Conversions!A34030),'PV Data'!B:B,DAY(Conversions!A34030),'PV Data'!C:C,HOUR(Conversions!A34030))/1000)","v":0}]
[{"$f":"A34046+TIME(0,15,0)","v":"1900-12-21T15:15:00"},{"$f":"B34046","v":0}]
[{"$f":"A34060+TIME(0,15,0)","v":"1900-12-21T18:45:00"},{"$f":"B34058","v":0}]
[{"$f":"DATE($C$8522,$D$8522,$E$8522) + TIME($F$8522,0,0)","v":"1900-12-22"},{"$f":"IF(A34082<'PV Data'!$H$10,0,SUMIFS('PV Data'!D:D,'PV Data'!A:A,MONTH(Conversions!A34082),'PV Data'!B:B,DAY(Conversions!A34082),'PV Data'!C:C,HOUR(Conversions!A34082))/1000)","v":0}]
[{"$f":"A34098+TIME(0,15,0)","v":"1900-12-22T04:15:00"},{"$f":"B34098","v":0}]
[{"$f":"A34115+TIME(0,15,0)","v":"1900-12-22T08:30:00"},{"$f":"B34114","v":0}]
[{"$f":"A34127+TIME(0,15,0)","v":"1900-12-22T11:30:00"},{"$f":"B34126","v":0}]
[{"$f":"A34134+TIME(0,15,0)","v":"1900-12-22T13:15:00"},{"$f":"B34134","v":0}]
[{"$f":"A34151+TIME(0,15,0)","v":"1900-12-22T17:30:00"},{"$f":"B34150","v":0}]
[{"$f":"DATE($C$8546,$D$8546,$E$8546) + TIME($F$8546,0,0)","v":"1900-12-23"},{"$f":"IF(A34178<'PV Data'!$H$10,0,SUMIFS('PV Data'!D:D,'PV Data'!A:A,MONTH(Conversions!A34178),'PV Data'!B:B,DAY(Conversions!A34178),'PV Data'!C:C,HOUR(Conversions!A34178))/1000)","v":0}]
[{"$f":"A34186+TIME(0,15,0)","v":"1900-12-23T02:15:00"},{"$f":"B34186","v":0}]
[{"$f":"A34203+TIME(0,15,0)","v":"1900-12-23T06:30:00"},{"$f":"B34202","v":0}]
[{"$f":"A34220+TIME(0,15,0)","v":"1900-12-23T10:45:00"},{"$f":"B34218","v":0}]
[{"$f":"A34243+TIME(0,15,0)","v":"1900-12-23T16:30:00"},{"$f":"B34242","v":0}]
[{"$f":"A34255+TIME(0,15,0)","v":"1900-12-23T19:30:00"},{"$f":"B34254","v":0}]
[{"$f":"A34272+TIME(0,15,0)","v":"1900-12-23T23:45:00"},{"$f":"B34270","v":0}]
[{"$f":"DATE($C$8574,$D$8574,$E$8574) + TIME($F$8574,0,0)","v":"1900-12-24T04:00:00"},{"$f":"IF(A34290<'PV Data'!$H$10,0,SUMIFS('PV Data'!D:D,'PV Data'!A:A,MONTH(Conversions!A34290),'PV Data'!B:B,DAY(Conversions!A34290),'PV Data'!C:C,HOUR(Conversions!A34290))/1000)","v":0}]
[{"$f":"A34310+TIME(0,15,0)","v":"1900-12-24T09:15:00"},{"$f":"B34310","v":0}]
[{"$f":"A34324+TIME(0,15,0)","v":"1900-12-24T12:45:00"},{"$f":"B34322","v":0}]
[{"$f":"DATE($C$8587,$D$8587,$E$8587) + TIME($F$8587,0,0)","v":"1900-12-24T17:00:00"},{"$f":"IF(A34342<'PV Data'!$H$10,0,SUMIFS('PV Data'!D:D,'PV Data'!A:A,MONTH(Conversions!A34342),'PV Data'!B:B,DAY(Conversions!A34342),'PV Data'!C:C,HOUR(Conversions!A34342))/1000)","v":0}]
[{"$f":"A34360+TIME(0,15,0)","v":"1900-12-24T21:45:00"},{"$f":"B34358","v":0}]
[{"$f":"A34376+TIME(0,15,0)","v":"1900-12-25T01:45:00"},{"$f":"B34374","v":0}]
[{"$f":"DATE($C$8600,$D$8600,$E$8600) + TIME($F$8600,0,0)","v":"1900-12-25T06:00:00"},{"$f":"IF(A34394<'PV Data'!$H$10,0,SUMIFS('PV Data'!D:D,'PV Data'!A:A,MONTH(Conversions!A34394),'PV Data'!B:B,DAY(Conversions!A34394),'PV Data'!C:C,HOUR(Conversions!A34394))/1000)","v":0}]
[{"$f":"A34394+TIME(0,15,0)","v":"1900-12-25T06:15:00"},{"$f":"B34394","v":0}]
[{"$f":"A34426+TIME(0,15,0)","v":"1900-12-25T14:15:00"},{"$f":"B34426","v":0}]
[{"$f":"DATE($C$8609,$D$8609,$E$8609) + TIME($F$8609,0,0)","v":"1900-12-25T15:00:00"},{"$f":"IF(A34430<'PV Data'!$H$10,0,SUMIFS('PV Data'!D:D,'PV Data'!A:A,MONTH(Conversions!A34430),'PV Data'!B:B,DAY(Conversions!A34430),'PV Data'!C:C,HOUR(Conversions!A34430))/1000)","v":0}]
[{"$f":"A34446+TIME(0,15,0)","v":"1900-12-25T19:15:00"},{"$f":"B34446","v":0}]
[{"$f":"A34463+TIME(0,15,0)","v":"1900-12-25T23:30:00"},{"$f":"B34462","v":0}]
[{"$f":"A34476+TIME(0,15,0)","v":"1900-12-26T02:45:00"},{"$f":"B34474","v":0}]
[{"$f":"A34498+TIME(0,15,0)","v":"1900-12-26T08:15:00"},{"$f":"B34498","v":0}]
[{"$f":"A34515+TIME(0,15,0)","v":"1900-12-26T12:30:00"},{"$f":"B34514","v":0}]
[{"$f":"A34526+TIME(0,15,0)","v":"1900-12-26T15:15:00"},{"$f":"B34526","v":0}]
[{"$f":"DATE($C$8637,$D$8637,$E$8637) + TIME($F$8637,0,0)","v":"1900-12-26T19:00:00"},{"$f":"IF(A34542<'PV Data'!$H$10,0,SUMIFS('PV Data'!D:D,'PV Data'!A:A,MONTH(Conversions!A34542),'PV Data'!B:B,DAY(Conversions!A34542),'PV Data'!C:C,HOUR(Conversions!A34542))/1000)","v":0}]
[{"$f":"A34542+TIME(0,15,0)","v":"1900-12-26T19:15:00"},{"$f":"B34542","v":0}]
[{"$f":"A34543+TIME(0,15,0)","v":"1900-12-26T19:30:00"},{"$f":"B34542","v":0}]
[{"$f":"A34544+TIME(0,15,0)","v":"1900-12-26T19:45:00"},{"$f":"B34542","v":0}]
[{"$f":"DATE($C$8638,$D$8638,$E$8638) + TIME($F$8638,0,0)","v":"1900-12-26T20:00:00"},{"$f":"IF(A34546<'PV Data'!$H$10,0,SUMIFS('PV Data'!D:D,'PV Data'!A:A,MONTH(Conversions!A34546),'PV Data'!B:B,DAY(Conversions!A34546),'PV Data'!C:C,HOUR(Conversions!A34546))/1000)","v":0}]
[{"$f":"A34546+TIME(0,15,0)","v":"1900-12-26T20:15:00"},{"$f":"B34546","v":0}]
[{"$f":"A34547+TIME(0,15,0)","v":"1900-12-26T20:30:00"},{"$f":"B34546","v":0}]
[{"$f":"A34548+TIME(0,15,0)","v":"1900-12-26T20:45:00"},{"$f":"B34546","v":0}]
[{"$f":"DATE($C$8639,$D$8639,$E$8639) + TIME($F$8639,0,0)","v":"1900-12-26T21:00:00"},{"$f":"IF(A34550<'PV Data'!$H$10,0,SUMIFS('PV Data'!D:D,'PV Data'!A:A,MONTH(Conversions!A34550),'PV Data'!B:B,DAY(Conversions!A34550),'PV Data'!C:C,HOUR(Conversions!A34550))/1000)","v":0}]
[{"$f":"A34550+TIME(0,15,0)","v":"1900-12-26T21:15:00"},{"$f":"B34550","v":0}]
[{"$f":"A34551+TIME(0,15,0)","v":"1900-12-26T21:30:00"},{"$f":"B34550","v":0}]
[{"$f":"A34552+TIME(0,15,0)","v":"1900-12-26T21:45:00"},{"$f":"B34550","v":0}]
[{"$f":"DATE($C$8640,$D$8640,$E$8640) + TIME($F$8640,0,0)","v":"1900-12-26T22:00:00"},{"$f":"IF(A34554<'PV Data'!$H$10,0,SUMIFS('PV Data'!D:D,'PV Data'!A:A,MONTH(Conversions!A34554),'PV Data'!B:B,DAY(Conversions!A34554),'PV Data'!C:C,HOUR(Conversions!A34554))/1000)","v":0}]
[{"$f":"A34554+TIME(0,15,0)","v":"1900-12-26T22:15:00"},{"$f":"B34554","v":0}]
[{"$f":"A34555+TIME(0,15,0)","v":"1900-12-26T22:30:00"},{"$f":"B34554","v":0}]
[{"$f":"A34556+TIME(0,15,0)","v":"1900-12-26T22:45:00"},{"$f":"B34554","v":0}]
[{"$f":"DATE($C$8641,$D$8641,$E$8641) + TIME($F$8641,0,0)","v":"1900-12-26T23:00:00"},{"$f":"IF(A34558<'PV Data'!$H$10,0,SUMIFS('PV Data'!D:D,'PV Data'!A:A,MONTH(Conversions!A34558),'PV Data'!B:B,DAY(Conversions!A34558),'PV Data'!C:C,HOUR(Conversions!A34558))/1000)","v":0}]
[{"$f":"A34558+TIME(0,15,0)","v":"1900-12-26T23:15:00"},{"$f":"B34558","v":0}]
[{"$f":"A34559+TIME(0,15,0)","v":"1900-12-26T23:30:00"},{"$f":"B34558","v":0}]
[{"$f":"A34560+TIME(0,15,0)","v":"1900-12-26T23:45:00"},{"$f":"B34558","v":0}]
[{"$f":"DATE($C$8642,$D$8642,$E$8642) + TIME($F$8642,0,0)","v":"1900-12-27"},{"$f":"IF(A34562<'PV Data'!$H$10,0,SUMIFS('PV Data'!D:D,'PV Data'!A:A,MONTH(Conversions!A34562),'PV Data'!B:B,DAY(Conversions!A34562),'PV Data'!C:C,HOUR(Conversions!A34562))/1000)","v":0}]
[{"$f":"A34562+TIME(0,15,0)","v":"1900-12-27T00:15:00"},{"$f":"B34562","v":0}]
[{"$f":"A34563+TIME(0,15,0)","v":"1900-12-27T00:30:00"},{"$f":"B34562","v":0}]
[{"$f":"A34564+TIME(0,15,0)","v":"1900-12-27T00:45:00"},{"$f":"B34562","v":0}]
[{"$f":"DATE($C$8643,$D$8643,$E$8643) + TIME($F$8643,0,0)","v":"1900-12-27T01:00:00"},{"$f":"IF(A34566<'PV Data'!$H$10,0,SUMIFS('PV Data'!D:D,'PV Data'!A:A,MONTH(Conversions!A34566),'PV Data'!B:B,DAY(Conversions!A34566),'PV Data'!C:C,HOUR(Conversions!A34566))/1000)","v":0}]
[{"$f":"A34566+TIME(0,15,0)","v":"1900-12-27T01:15:00"},{"$f":"B34566","v":0}]
[{"$f":"A34567+TIME(0,15,0)","v":"1900-12-27T01:30:00"},{"$f":"B34566","v":0}]
[{"$f":"A34568+TIME(0,15,0)","v":"1900-12-27T01:45:00"},{"$f":"B34566","v":0}]
[{"$f":"DATE($C$8644,$D$8644,$E$8644) + TIME($F$8644,0,0)","v":"1900-12-27T02:00:00"},{"$f":"IF(A34570<'PV Data'!$H$10,0,SUMIFS('PV Data'!D:D,'PV Data'!A:A,MONTH(Conversions!A34570),'PV Data'!B:B,DAY(Conversions!A34570),'PV Data'!C:C,HOUR(Conversions!A34570))/1000)","v":0}]
[{"$f":"A34570+TIME(0,15,0)","v":"1900-12-27T02:15:00"},{"$f":"B34570","v":0}]
[{"$f":"A34571+TIME(0,15,0)","v":"1900-12-27T02:30:00"},{"$f":"B34570","v":0}]
[{"$f":"A34572+TIME(0,15,0)","v":"1900-12-27T02:45:00"},{"$f":"B34570","v":0}]
[{"$f":"DATE($C$8645,$D$8645,$E$8645) + TIME($F$8645,0,0)","v":"1900-12-27T03:00:00"},{"$f":"IF(A34574<'PV Data'!$H$10,0,SUMIFS('PV Data'!D:D,'PV Data'!A:A,MONTH(Conversions!A34574),'PV Data'!B:B,DAY(Conversions!A34574),'PV Data'!C:C,HOUR(Conversions!A34574))/1000)","v":0}]
[{"$f":"A34574+TIME(0,15,0)","v":"1900-12-27T03:15:00"},{"$f":"B34574","v":0}]
[{"$f":"A34575+TIME(0,15,0)","v":"1900-12-27T03:30:00"},{"$f":"B34574","v":0}]
[{"$f":"A34576+TIME(0,15,0)","v":"1900-12-27T03:45:00"},{"$f":"B34574","v":0}]
[{"$f":"DATE($C$8646,$D$8646,$E$8646) + TIME($F$8646,0,0)","v":"1900-12-27T04:00:00"},{"$f":"IF(A34578<'PV Data'!$H$10,0,SUMIFS('PV Data'!D:D,'PV Data'!A:A,MONTH(Conversions!A34578),'PV Data'!B:B,DAY(Conversions!A34578),'PV Data'!C:C,HOUR(Conversions!A34578))/1000)","v":0}]
[{"$f":"A34578+TIME(0,15,0)","v":"1900-12-27T04:15:00"},{"$f":"B34578","v":0}]
[{"$f":"A34579+TIME(0,15,0)","v":"1900-12-27T04:30:00"},{"$f":"B34578","v":0}]
[{"$f":"A34580+TIME(0,15,0)","v":"1900-12-27T04:45:00"},{"$f":"B34578","v":0}]
[{"$f":"DATE($C$8647,$D$8647,$E$8647) + TIME($F$8647,0,0)","v":"1900-12-27T05:00:00"},{"$f":"IF(A34582<'PV Data'!$H$10,0,SUMIFS('PV Data'!D:D,'PV Data'!A:A,MONTH(Conversions!A34582),'PV Data'!B:B,DAY(Conversions!A34582),'PV Data'!C:C,HOUR(Conversions!A34582))/1000)","v":0}]
[{"$f":"A34582+TIME(0,15,0)","v":"1900-12-27T05:15:00"},{"$f":"B34582","v":0}]
[{"$f":"A34583+TIME(0,15,0)","v":"1900-12-27T05:30:00"},{"$f":"B34582","v":0}]
[{"$f":"A34584+TIME(0,15,0)","v":"1900-12-27T05:45:00"},{"$f":"B34582","v":0}]
[{"$f":"DATE($C$8648,$D$8648,$E$8648) + TIME($F$8648,0,0)","v":"1900-12-27T06:00:00"},{"$f":"IF(A34586<'PV Data'!$H$10,0,SUMIFS('PV Data'!D:D,'PV Data'!A:A,MONTH(Conversions!A34586),'PV Data'!B:B,DAY(Conversions!A34586),'PV Data'!C:C,HOUR(Conversions!A34586))/1000)","v":0}]
[{"$f":"A34586+TIME(0,15,0)","v":"1900-12-27T06:15:00"},{"$f":"B34586","v":0}]
[{"$f":"A34587+TIME(0,15,0)","v":"1900-12-27T06:30:00"},{"$f":"B34586","v":0}]
[{"$f":"A34588+TIME(0,15,0)","v":"1900-12-27T06:45:00"},{"$f":"B34586","v":0}]
[{"$f":"DATE($C$8649,$D$8649,$E$8649) + TIME($F$8649,0,0)","v":"1900-12-27T07:00:00"},{"$f":"IF(A34590<'PV Data'!$H$10,0,SUMIFS('PV Data'!D:D,'PV Data'!A:A,MONTH(Conversions!A34590),'PV Data'!B:B,DAY(Conversions!A34590),'PV Data'!C:C,HOUR(Conversions!A34590))/1000)","v":0}]
[{"$f":"A34590+TIME(0,15,0)","v":"1900-12-27T07:15:00"},{"$f":"B34590","v":0}]
[{"$f":"A34591+TIME(0,15,0)","v":"1900-12-27T07:30:00"},{"$f":"B34590","v":0}]
[{"$f":"A34592+TIME(0,15,0)","v":"1900-12-27T07:45:00"},{"$f":"B34590","v":0}]
[{"$f":"DATE($C$8650,$D$8650,$E$8650) + TIME($F$8650,0,0)","v":"1900-12-27T08:00:00"},{"$f":"IF(A34594<'PV Data'!$H$10,0,SUMIFS('PV Data'!D:D,'PV Data'!A:A,MONTH(Conversions!A34594),'PV Data'!B:B,DAY(Conversions!A34594),'PV Data'!C:C,HOUR(Conversions!A34594))/1000)","v":0}]
[{"$f":"A34594+TIME(0,15,0)","v":"1900-12-27T08:15:00"},{"$f":"B34594","v":0}]
[{"$f":"A34595+TIME(0,15,0)","v":"1900-12-27T08:30:00"},{"$f":"B34594","v":0}]
[{"$f":"A34596+TIME(0,15,0)","v":"1900-12-27T08:45:00"},{"$f":"B34594","v":0}]
[{"$f":"DATE($C$8651,$D$8651,$E$8651) + TIME($F$8651,0,0)","v":"1900-12-27T09:00:00"},{"$f":"IF(A34598<'PV Data'!$H$10,0,SUMIFS('PV Data'!D:D,'PV Data'!A:A,MONTH(Conversions!A34598),'PV Data'!B:B,DAY(Conversions!A34598),'PV Data'!C:C,HOUR(Conversions!A34598))/1000)","v":0}]
[{"$f":"A34598+TIME(0,15,0)","v":"1900-12-27T09:15:00"},{"$f":"B34598","v":0}]
[{"$f":"A34599+TIME(0,15,0)","v":"1900-12-27T09:30:00"},{"$f":"B34598","v":0}]
[{"$f":"A34600+TIME(0,15,0)","v":"1900-12-27T09:45:00"},{"$f":"B34598","v":0}]
[{"$f":"DATE($C$8652,$D$8652,$E$8652) + TIME($F$8652,0,0)","v":"1900-12-27T10:00:00"},{"$f":"IF(A34602<'PV Data'!$H$10,0,SUMIFS('PV Data'!D:D,'PV Data'!A:A,MONTH(Conversions!A34602),'PV Data'!B:B,DAY(Conversions!A34602),'PV Data'!C:C,HOUR(Conversions!A34602))/1000)","v":0}]
[{"$f":"A34602+TIME(0,15,0)","v":"1900-12-27T10:15:00"},{"$f":"B34602","v":0}]
[{"$f":"A34603+TIME(0,15,0)","v":"1900-12-27T10:30:00"},{"$f":"B34602","v":0}]
[{"$f":"A34604+TIME(0,15,0)","v":"1900-12-27T10:45:00"},{"$f":"B34602","v":0}]
[{"$f":"DATE($C$8653,$D$8653,$E$8653) + TIME($F$8653,0,0)","v":"1900-12-27T11:00:00"},{"$f":"IF(A34606<'PV Data'!$H$10,0,SUMIFS('PV Data'!D:D,'PV Data'!A:A,MONTH(Conversions!A34606),'PV Data'!B:B,DAY(Conversions!A34606),'PV Data'!C:C,HOUR(Conversions!A34606))/1000)","v":0}]
[{"$f":"A34606+TIME(0,15,0)","v":"1900-12-27T11:15:00"},{"$f":"B34606","v":0}]
[{"$f":"A34607+TIME(0,15,0)","v":"1900-12-27T11:30:00"},{"$f":"B34606","v":0}]
[{"$f":"A34608+TIME(0,15,0)","v":"1900-12-27T11:45:00"},{"$f":"B34606","v":0}]
[{"$f":"DATE($C$8654,$D$8654,$E$8654) + TIME($F$8654,0,0)","v":"1900-12-27T12:00:00"},{"$f":"IF(A34610<'PV Data'!$H$10,0,SUMIFS('PV Data'!D:D,'PV Data'!A:A,MONTH(Conversions!A34610),'PV Data'!B:B,DAY(Conversions!A34610),'PV Data'!C:C,HOUR(Conversions!A34610))/1000)","v":0}]
[{"$f":"A34610+TIME(0,15,0)","v":"1900-12-27T12:15:00"},{"$f":"B34610","v":0}]
[{"$f":"A34611+TIME(0,15,0)","v":"1900-12-27T12:30:00"},{"$f":"B34610","v":0}]
[{"$f":"A34612+TIME(0,15,0)","v":"1900-12-27T12:45:00"},{"$f":"B34610","v":0}]
[{"$f":"DATE($C$8655,$D$8655,$E$8655) + TIME($F$8655,0,0)","v":"1900-12-27T13:00:00"},{"$f":"IF(A34614<'PV Data'!$H$10,0,SUMIFS('PV Data'!D:D,'PV Data'!A:A,MONTH(Conversions!A34614),'PV Data'!B:B,DAY(Conversions!A34614),'PV Data'!C:C,HOUR(Conversions!A34614))/1000)","v":0}]
[{"$f":"A34614+TIME(0,15,0)","v":"1900-12-27T13:15:00"},{"$f":"B34614","v":0}]
[{"$f":"A34615+TIME(0,15,0)","v":"1900-12-27T13:30:00"},{"$f":"B34614","v":0}]
[{"$f":"A34616+TIME(0,15,0)","v":"1900-12-27T13:45:00"},{"$f":"B34614","v":0}]
[{"$f":"DATE($C$8656,$D$8656,$E$8656) + TIME($F$8656,0,0)","v":"1900-12-27T14:00:00"},{"$f":"IF(A34618<'PV Data'!$H$10,0,SUMIFS('PV Data'!D:D,'PV Data'!A:A,MONTH(Conversions!A34618),'PV Data'!B:B,DAY(Conversions!A34618),'PV Data'!C:C,HOUR(Conversions!A34618))/1000)","v":0}]
[{"$f":"A34618+TIME(0,15,0)","v":"1900-12-27T14:15:00"},{"$f":"B34618","v":0}]
[{"$f":"A34619+TIME(0,15,0)","v":"1900-12-27T14:30:00"},{"$f":"B34618","v":0}]
[{"$f":"A34620+TIME(0,15,0)","v":"1900-12-27T14:45:00"},{"$f":"B34618","v":0}]
[{"$f":"DATE($C$8657,$D$8657,$E$8657) + TIME($F$8657,0,0)","v":"1900-12-27T15:00:00"},{"$f":"IF(A34622<'PV Data'!$H$10,0,SUMIFS('PV Data'!D:D,'PV Data'!A:A,MONTH(Conversions!A34622),'PV Data'!B:B,DAY(Conversions!A34622),'PV Data'!C:C,HOUR(Conversions!A34622))/1000)","v":0}]
[{"$f":"A34622+TIME(0,15,0)","v":"1900-12-27T15:15:00"},{"$f":"B34622","v":0}]
[{"$f":"A34623+TIME(0,15,0)","v":"1900-12-27T15:30:00"},{"$f":"B34622","v":0}]
[{"$f":"A34624+TIME(0,15,0)","v":"1900-12-27T15:45:00"},{"$f":"B34622","v":0}]
[{"$f":"DATE($C$8658,$D$8658,$E$8658) + TIME($F$8658,0,0)","v":"1900-12-27T16:00:00"},{"$f":"IF(A34626<'PV Data'!$H$10,0,SUMIFS('PV Data'!D:D,'PV Data'!A:A,MONTH(Conversions!A34626),'PV Data'!B:B,DAY(Conversions!A34626),'PV Data'!C:C,HOUR(Conversions!A34626))/1000)","v":0}]
[{"$f":"A34626+TIME(0,15,0)","v":"1900-12-27T16:15:00"},{"$f":"B34626","v":0}]
[{"$f":"A34627+TIME(0,15,0)","v":"1900-12-27T16:30:00"},{"$f":"B34626","v":0}]
[{"$f":"A34628+TIME(0,15,0)","v":"1900-12-27T16:45:00"},{"$f":"B34626","v":0}]
[{"$f":"DATE($C$8659,$D$8659,$E$8659) + TIME($F$8659,0,0)","v":"1900-12-27T17:00:00"},{"$f":"IF(A34630<'PV Data'!$H$10,0,SUMIFS('PV Data'!D:D,'PV Data'!A:A,MONTH(Conversions!A34630),'PV Data'!B:B,DAY(Conversions!A34630),'PV Data'!C:C,HOUR(Conversions!A34630))/1000)","v":0}]
[{"$f":"A34630+TIME(0,15,0)","v":"1900-12-27T17:15:00"},{"$f":"B34630","v":0}]
[{"$f":"A34631+TIME(0,15,0)","v":"1900-12-27T17:30:00"},{"$f":"B34630","v":0}]
[{"$f":"A34632+TIME(0,15,0)","v":"1900-12-27T17:45:00"},{"$f":"B34630","v":0}]
[{"$f":"DATE($C$8660,$D$8660,$E$8660) + TIME($F$8660,0,0)","v":"1900-12-27T18:00:00"},{"$f":"IF(A34634<'PV Data'!$H$10,0,SUMIFS('PV Data'!D:D,'PV Data'!A:A,MONTH(Conversions!A34634),'PV Data'!B:B,DAY(Conversions!A34634),'PV Data'!C:C,HOUR(Conversions!A34634))/1000)","v":0}]
[{"$f":"A34634+TIME(0,15,0)","v":"1900-12-27T18:15:00"},{"$f":"B34634","v":0}]
[{"$f":"A34635+TIME(0,15,0)","v":"1900-12-27T18:30:00"},{"$f":"B34634","v":0}]
[{"$f":"A34636+TIME(0,15,0)","v":"1900-12-27T18:45:00"},{"$f":"B34634","v":0}]
[{"$f":"DATE($C$8661,$D$8661,$E$8661) + TIME($F$8661,0,0)","v":"1900-12-27T19:00:00"},{"$f":"IF(A34638<'PV Data'!$H$10,0,SUMIFS('PV Data'!D:D,'PV Data'!A:A,MONTH(Conversions!A34638),'PV Data'!B:B,DAY(Conversions!A34638),'PV Data'!C:C,HOUR(Conversions!A34638))/1000)","v":0}]
[{"$f":"A34638+TIME(0,15,0)","v":"1900-12-27T19:15:00"},{"$f":"B34638","v":0}]
[{"$f":"A34639+TIME(0,15,0)","v":"1900-12-27T19:30:00"},{"$f":"B34638","v":0}]
[{"$f":"A34640+TIME(0,15,0)","v":"1900-12-27T19:45:00"},{"$f":"B34638","v":0}]
[{"$f":"DATE($C$8662,$D$8662,$E$8662) + TIME($F$8662,0,0)","v":"1900-12-27T20:00:00"},{"$f":"IF(A34642<'PV Data'!$H$10,0,SUMIFS('PV Data'!D:D,'PV Data'!A:A,MONTH(Conversions!A34642),'PV Data'!B:B,DAY(Conversions!A34642),'PV Data'!C:C,HOUR(Conversions!A34642))/1000)","v":0}]
[{"$f":"A34642+TIME(0,15,0)","v":"1900-12-27T20:15:00"},{"$f":"B34642","v":0}]
[{"$f":"A34643+TIME(0,15,0)","v":"1900-12-27T20:30:00"},{"$f":"B34642","v":0}]
[{"$f":"A34644+TIME(0,15,0)","v":"1900-12-27T20:45:00"},{"$f":"B34642","v":0}]
[{"$f":"DATE($C$8663,$D$8663,$E$8663) + TIME($F$8663,0,0)","v":"1900-12-27T21:00:00"},{"$f":"IF(A34646<'PV Data'!$H$10,0,SUMIFS('PV Data'!D:D,'PV Data'!A:A,MONTH(Conversions!A34646),'PV Data'!B:B,DAY(Conversions!A34646),'PV Data'!C:C,HOUR(Conversions!A34646))/1000)","v":0}]
[{"$f":"A34646+TIME(0,15,0)","v":"1900-12-27T21:15:00"},{"$f":"B34646","v":0}]
[{"$f":"A34647+TIME(0,15,0)","v":"1900-12-27T21:30:00"},{"$f":"B34646","v":0}]
[{"$f":"A34648+TIME(0,15,0)","v":"1900-12-27T21:45:00"},{"$f":"B34646","v":0}]
[{"$f":"DATE($C$8664,$D$8664,$E$8664) + TIME($F$8664,0,0)","v":"1900-12-27T22:00:00"},{"$f":"IF(A34650<'PV Data'!$H$10,0,SUMIFS('PV Data'!D:D,'PV Data'!A:A,MONTH(Conversions!A34650),'PV Data'!B:B,DAY(Conversions!A34650),'PV Data'!C:C,HOUR(Conversions!A34650))/1000)","v":0}]
[{"$f":"A34650+TIME(0,15,0)","v":"1900-12-27T22:15:00"},{"$f":"B34650","v":0}]
[{"$f":"A34651+TIME(0,15,0)","v":"1900-12-27T22:30:00"},{"$f":"B34650","v":0}]
[{"$f":"A34652+TIME(0,15,0)","v":"1900-12-27T22:45:00"},{"$f":"B34650","v":0}]
[{"$f":"DATE($C$8665,$D$8665,$E$8665) + TIME($F$8665,0,0)","v":"1900-12-27T23:00:00"},{"$f":"IF(A34654<'PV Data'!$H$10,0,SUMIFS('PV Data'!D:D,'PV Data'!A:A,MONTH(Conversions!A34654),'PV Data'!B:B,DAY(Conversions!A34654),'PV Data'!C:C,HOUR(Conversions!A34654))/1000)","v":0}]
[{"$f":"A34654+TIME(0,15,0)","v":"1900-12-27T23:15:00"},{"$f":"B34654","v":0}]
[{"$f":"A34655+TIME(0,15,0)","v":"1900-12-27T23:30:00"},{"$f":"B34654","v":0}]
[{"$f":"A34656+TIME(0,15,0)","v":"1900-12-27T23:45:00"},{"$f":"B34654","v":0}]
[{"$f":"DATE($C$8666,$D$8666,$E$8666) + TIME($F$8666,0,0)","v":"1900-12-28"},{"$f":"IF(A34658<'PV Data'!$H$10,0,SUMIFS('PV Data'!D:D,'PV Data'!A:A,MONTH(Conversions!A34658),'PV Data'!B:B,DAY(Conversions!A34658),'PV Data'!C:C,HOUR(Conversions!A34658))/1000)","v":0}]
[{"$f":"A34658+TIME(0,15,0)","v":"1900-12-28T00:15:00"},{"$f":"B34658","v":0}]
[{"$f":"A34659+TIME(0,15,0)","v":"1900-12-28T00:30:00"},{"$f":"B34658","v":0}]
[{"$f":"A34660+TIME(0,15,0)","v":"1900-12-28T00:45:00"},{"$f":"B34658","v":0}]
[{"$f":"DATE($C$8667,$D$8667,$E$8667) + TIME($F$8667,0,0)","v":"1900-12-28T01:00:00"},{"$f":"IF(A34662<'PV Data'!$H$10,0,SUMIFS('PV Data'!D:D,'PV Data'!A:A,MONTH(Conversions!A34662),'PV Data'!B:B,DAY(Conversions!A34662),'PV Data'!C:C,HOUR(Conversions!A34662))/1000)","v":0}]
[{"$f":"A34662+TIME(0,15,0)","v":"1900-12-28T01:15:00"},{"$f":"B34662","v":0}]
[{"$f":"A34663+TIME(0,15,0)","v":"1900-12-28T01:30:00"},{"$f":"B34662","v":0}]
[{"$f":"A34664+TIME(0,15,0)","v":"1900-12-28T01:45:00"},{"$f":"B34662","v":0}]
[{"$f":"DATE($C$8668,$D$8668,$E$8668) + TIME($F$8668,0,0)","v":"1900-12-28T02:00:00"},{"$f":"IF(A34666<'PV Data'!$H$10,0,SUMIFS('PV Data'!D:D,'PV Data'!A:A,MONTH(Conversions!A34666),'PV Data'!B:B,DAY(Conversions!A34666),'PV Data'!C:C,HOUR(Conversions!A34666))/1000)","v":0}]
[{"$f":"A34666+TIME(0,15,0)","v":"1900-12-28T02:15:00"},{"$f":"B34666","v":0}]
[{"$f":"A34667+TIME(0,15,0)","v":"1900-12-28T02:30:00"},{"$f":"B34666","v":0}]
[{"$f":"A34668+TIME(0,15,0)","v":"1900-12-28T02:45:00"},{"$f":"B34666","v":0}]
[{"$f":"DATE($C$8669,$D$8669,$E$8669) + TIME($F$8669,0,0)","v":"1900-12-28T03:00:00"},{"$f":"IF(A34670<'PV Data'!$H$10,0,SUMIFS('PV Data'!D:D,'PV Data'!A:A,MONTH(Conversions!A34670),'PV Data'!B:B,DAY(Conversions!A34670),'PV Data'!C:C,HOUR(Conversions!A34670))/1000)","v":0}]
[{"$f":"A34670+TIME(0,15,0)","v":"1900-12-28T03:15:00"},{"$f":"B34670","v":0}]
[{"$f":"A34671+TIME(0,15,0)","v":"1900-12-28T03:30:00"},{"$f":"B34670","v":0}]
[{"$f":"A34672+TIME(0,15,0)","v":"1900-12-28T03:45:00"},{"$f":"B34670","v":0}]
[{"$f":"DATE($C$8670,$D$8670,$E$8670) + TIME($F$8670,0,0)","v":"1900-12-28T04:00:00"},{"$f":"IF(A34674<'PV Data'!$H$10,0,SUMIFS('PV Data'!D:D,'PV Data'!A:A,MONTH(Conversions!A34674),'PV Data'!B:B,DAY(Conversions!A34674),'PV Data'!C:C,HOUR(Conversions!A34674))/1000)","v":0}]
[{"$f":"A34674+TIME(0,15,0)","v":"1900-12-28T04:15:00"},{"$f":"B34674","v":0}]
[{"$f":"A34675+TIME(0,15,0)","v":"1900-12-28T04:30:00"},{"$f":"B34674","v":0}]
[{"$f":"A34676+TIME(0,15,0)","v":"1900-12-28T04:45:00"},{"$f":"B34674","v":0}]
[{"$f":"DATE($C$8671,$D$8671,$E$8671) + TIME($F$8671,0,0)","v":"1900-12-28T05:00:00"},{"$f":"IF(A34678<'PV Data'!$H$10,0,SUMIFS('PV Data'!D:D,'PV Data'!A:A,MONTH(Conversions!A34678),'PV Data'!B:B,DAY(Conversions!A34678),'PV Data'!C:C,HOUR(Conversions!A34678))/1000)","v":0}]
[{"$f":"A34678+TIME(0,15,0)","v":"1900-12-28T05:15:00"},{"$f":"B34678","v":0}]
[{"$f":"A34679+TIME(0,15,0)","v":"1900-12-28T05:30:00"},{"$f":"B34678","v":0}]
[{"$f":"A34680+TIME(0,15,0)","v":"1900-12-28T05:45:00"},{"$f":"B34678","v":0}]
[{"$f":"DATE($C$8672,$D$8672,$E$8672) + TIME($F$8672,0,0)","v":"1900-12-28T06:00:00"},{"$f":"IF(A34682<'PV Data'!$H$10,0,SUMIFS('PV Data'!D:D,'PV Data'!A:A,MONTH(Conversions!A34682),'PV Data'!B:B,DAY(Conversions!A34682),'PV Data'!C:C,HOUR(Conversions!A34682))/1000)","v":0}]
[{"$f":"A34682+TIME(0,15,0)","v":"1900-12-28T06:15:00"},{"$f":"B34682","v":0}]
[{"$f":"A34683+TIME(0,15,0)","v":"1900-12-28T06:30:00"},{"$f":"B34682","v":0}]
[{"$f":"A34684+TIME(0,15,0)","v":"1900-12-28T06:45:00"},{"$f":"B34682","v":0}]
[{"$f":"DATE($C$8673,$D$8673,$E$8673) + TIME($F$8673,0,0)","v":"1900-12-28T07:00:00"},{"$f":"IF(A34686<'PV Data'!$H$10,0,SUMIFS('PV Data'!D:D,'PV Data'!A:A,MONTH(Conversions!A34686),'PV Data'!B:B,DAY(Conversions!A34686),'PV Data'!C:C,HOUR(Conversions!A34686))/1000)","v":0}]
[{"$f":"A34686+TIME(0,15,0)","v":"1900-12-28T07:15:00"},{"$f":"B34686","v":0}]
[{"$f":"A34687+TIME(0,15,0)","v":"1900-12-28T07:30:00"},{"$f":"B34686","v":0}]
[{"$f":"A34688+TIME(0,15,0)","v":"1900-12-28T07:45:00"},{"$f":"B34686","v":0}]
[{"$f":"DATE($C$8674,$D$8674,$E$8674) + TIME($F$8674,0,0)","v":"1900-12-28T08:00:00"},{"$f":"IF(A34690<'PV Data'!$H$10,0,SUMIFS('PV Data'!D:D,'PV Data'!A:A,MONTH(Conversions!A34690),'PV Data'!B:B,DAY(Conversions!A34690),'PV Data'!C:C,HOUR(Conversions!A34690))/1000)","v":0}]
[{"$f":"A34690+TIME(0,15,0)","v":"1900-12-28T08:15:00"},{"$f":"B34690","v":0}]
[{"$f":"A34691+TIME(0,15,0)","v":"1900-12-28T08:30:00"},{"$f":"B34690","v":0}]
[{"$f":"A34692+TIME(0,15,0)","v":"1900-12-28T08:45:00"},{"$f":"B34690","v":0}]
[{"$f":"DATE($C$8675,$D$8675,$E$8675) + TIME($F$8675,0,0)","v":"1900-12-28T09:00:00"},{"$f":"IF(A34694<'PV Data'!$H$10,0,SUMIFS('PV Data'!D:D,'PV Data'!A:A,MONTH(Conversions!A34694),'PV Data'!B:B,DAY(Conversions!A34694),'PV Data'!C:C,HOUR(Conversions!A34694))/1000)","v":0}]
[{"$f":"A34694+TIME(0,15,0)","v":"1900-12-28T09:15:00"},{"$f":"B34694","v":0}]
[{"$f":"A34695+TIME(0,15,0)","v":"1900-12-28T09:30:00"},{"$f":"B34694","v":0}]
[{"$f":"A34696+TIME(0,15,0)","v":"1900-12-28T09:45:00"},{"$f":"B34694","v":0}]
[{"$f":"DATE($C$8676,$D$8676,$E$8676) + TIME($F$8676,0,0)","v":"1900-12-28T10:00:00"},{"$f":"IF(A34698<'PV Data'!$H$10,0,SUMIFS('PV Data'!D:D,'PV Data'!A:A,MONTH(Conversions!A34698),'PV Data'!B:B,DAY(Conversions!A34698),'PV Data'!C:C,HOUR(Conversions!A34698))/1000)","v":0}]
[{"$f":"A34698+TIME(0,15,0)","v":"1900-12-28T10:15:00"},{"$f":"B34698","v":0}]
[{"$f":"A34699+TIME(0,15,0)","v":"1900-12-28T10:30:00"},{"$f":"B34698","v":0}]
[{"$f":"A34700+TIME(0,15,0)","v":"1900-12-28T10:45:00"},{"$f":"B34698","v":0}]
[{"$f":"DATE($C$8677,$D$8677,$E$8677) + TIME($F$8677,0,0)","v":"1900-12-28T11:00:00"},{"$f":"IF(A34702<'PV Data'!$H$10,0,SUMIFS('PV Data'!D:D,'PV Data'!A:A,MONTH(Conversions!A34702),'PV Data'!B:B,DAY(Conversions!A34702),'PV Data'!C:C,HOUR(Conversions!A34702))/1000)","v":0}]
[{"$f":"A34702+TIME(0,15,0)","v":"1900-12-28T11:15:00"},{"$f":"B34702","v":0}]
[{"$f":"A34703+TIME(0,15,0)","v":"1900-12-28T11:30:00"},{"$f":"B34702","v":0}]
[{"$f":"A34704+TIME(0,15,0)","v":"1900-12-28T11:45:00"},{"$f":"B34702","v":0}]
[{"$f":"DATE($C$8678,$D$8678,$E$8678) + TIME($F$8678,0,0)","v":"1900-12-28T12:00:00"},{"$f":"IF(A34706<'PV Data'!$H$10,0,SUMIFS('PV Data'!D:D,'PV Data'!A:A,MONTH(Conversions!A34706),'PV Data'!B:B,DAY(Conversions!A34706),'PV Data'!C:C,HOUR(Conversions!A34706))/1000)","v":0}]
[{"$f":"A34706+TIME(0,15,0)","v":"1900-12-28T12:15:00"},{"$f":"B34706","v":0}]
[{"$f":"A34707+TIME(0,15,0)","v":"1900-12-28T12:30:00"},{"$f":"B34706","v":0}]
[{"$f":"A34708+TIME(0,15,0)","v":"1900-12-28T12:45:00"},{"$f":"B34706","v":0}]
[{"$f":"DATE($C$8679,$D$8679,$E$8679) + TIME($F$8679,0,0)","v":"1900-12-28T13:00:00"},{"$f":"IF(A34710<'PV Data'!$H$10,0,SUMIFS('PV Data'!D:D,'PV Data'!A:A,MONTH(Conversions!A34710),'PV Data'!B:B,DAY(Conversions!A34710),'PV Data'!C:C,HOUR(Conversions!A34710))/1000)","v":0}]
[{"$f":"A34710+TIME(0,15,0)","v":"1900-12-28T13:15:00"},{"$f":"B34710","v":0}]
[{"$f":"A34711+TIME(0,15,0)","v":"1900-12-28T13:30:00"},{"$f":"B34710","v":0}]
[{"$f":"A34712+TIME(0,15,0)","v":"1900-12-28T13:45:00"},{"$f":"B34710","v":0}]
[{"$f":"DATE($C$8680,$D$8680,$E$8680) + TIME($F$8680,0,0)","v":"1900-12-28T14:00:00"},{"$f":"IF(A34714<'PV Data'!$H$10,0,SUMIFS('PV Data'!D:D,'PV Data'!A:A,MONTH(Conversions!A34714),'PV Data'!B:B,DAY(Conversions!A34714),'PV Data'!C:C,HOUR(Conversions!A34714))/1000)","v":0}]
[{"$f":"A34714+TIME(0,15,0)","v":"1900-12-28T14:15:00"},{"$f":"B34714","v":0}]
[{"$f":"A34715+TIME(0,15,0)","v":"1900-12-28T14:30:00"},{"$f":"B34714","v":0}]
[{"$f":"A34716+TIME(0,15,0)","v":"1900-12-28T14:45:00"},{"$f":"B34714","v":0}]
[{"$f":"DATE($C$8681,$D$8681,$E$8681) + TIME($F$8681,0,0)","v":"1900-12-28T15:00:00"},{"$f":"IF(A34718<'PV Data'!$H$10,0,SUMIFS('PV Data'!D:D,'PV Data'!A:A,MONTH(Conversions!A34718),'PV Data'!B:B,DAY(Conversions!A34718),'PV Data'!C:C,HOUR(Conversions!A34718))/1000)","v":0}]
[{"$f":"A34718+TIME(0,15,0)","v":"1900-12-28T15:15:00"},{"$f":"B34718","v":0}]
[{"$f":"A34719+TIME(0,15,0)","v":"1900-12-28T15:30:00"},{"$f":"B34718","v":0}]
[{"$f":"A34720+TIME(0,15,0)","v":"1900-12-28T15:45:00"},{"$f":"B34718","v":0}]
[{"$f":"DATE($C$8682,$D$8682,$E$8682) + TIME($F$8682,0,0)","v":"1900-12-28T16:00:00"},{"$f":"IF(A34722<'PV Data'!$H$10,0,SUMIFS('PV Data'!D:D,'PV Data'!A:A,MONTH(Conversions!A34722),'PV Data'!B:B,DAY(Conversions!A34722),'PV Data'!C:C,HOUR(Conversions!A34722))/1000)","v":0}]
[{"$f":"A34722+TIME(0,15,0)","v":"1900-12-28T16:15:00"},{"$f":"B34722","v":0}]
[{"$f":"A34723+TIME(0,15,0)","v":"1900-12-28T16:30:00"},{"$f":"B34722","v":0}]
[{"$f":"A34724+TIME(0,15,0)","v":"1900-12-28T16:45:00"},{"$f":"B34722","v":0}]
[{"$f":"DATE($C$8683,$D$8683,$E$8683) + TIME($F$8683,0,0)","v":"1900-12-28T17:00:00"},{"$f":"IF(A34726<'PV Data'!$H$10,0,SUMIFS('PV Data'!D:D,'PV Data'!A:A,MONTH(Conversions!A34726),'PV Data'!B:B,DAY(Conversions!A34726),'PV Data'!C:C,HOUR(Conversions!A34726))/1000)","v":0}]
[{"$f":"A34726+TIME(0,15,0)","v":"1900-12-28T17:15:00"},{"$f":"B34726","v":0}]
[{"$f":"A34727+TIME(0,15,0)","v":"1900-12-28T17:30:00"},{"$f":"B34726","v":0}]
[{"$f":"A34728+TIME(0,15,0)","v":"1900-12-28T17:45:00"},{"$f":"B34726","v":0}]
[{"$f":"DATE($C$8684,$D$8684,$E$8684) + TIME($F$8684,0,0)","v":"1900-12-28T18:00:00"},{"$f":"IF(A34730<'PV Data'!$H$10,0,SUMIFS('PV Data'!D:D,'PV Data'!A:A,MONTH(Conversions!A34730),'PV Data'!B:B,DAY(Conversions!A34730),'PV Data'!C:C,HOUR(Conversions!A34730))/1000)","v":0}]
[{"$f":"A34730+TIME(0,15,0)","v":"1900-12-28T18:15:00"},{"$f":"B34730","v":0}]
[{"$f":"A34731+TIME(0,15,0)","v":"1900-12-28T18:30:00"},{"$f":"B34730","v":0}]
[{"$f":"A34732+TIME(0,15,0)","v":"1900-12-28T18:45:00"},{"$f":"B34730","v":0}]
[{"$f":"DATE($C$8685,$D$8685,$E$8685) + TIME($F$8685,0,0)","v":"1900-12-28T19:00:00"},{"$f":"IF(A34734<'PV Data'!$H$10,0,SUMIFS('PV Data'!D:D,'PV Data'!A:A,MONTH(Conversions!A34734),'PV Data'!B:B,DAY(Conversions!A34734),'PV Data'!C:C,HOUR(Conversions!A34734))/1000)","v":0}]
[{"$f":"A34734+TIME(0,15,0)","v":"1900-12-28T19:15:00"},{"$f":"B34734","v":0}]
[{"$f":"A34735+TIME(0,15,0)","v":"1900-12-28T19:30:00"},{"$f":"B34734","v":0}]
[{"$f":"A34736+TIME(0,15,0)","v":"1900-12-28T19:45:00"},{"$f":"B34734","v":0}]
[{"$f":"DATE($C$8686,$D$8686,$E$8686) + TIME($F$8686,0,0)","v":"1900-12-28T20:00:00"},{"$f":"IF(A34738<'PV Data'!$H$10,0,SUMIFS('PV Data'!D:D,'PV Data'!A:A,MONTH(Conversions!A34738),'PV Data'!B:B,DAY(Conversions!A34738),'PV Data'!C:C,HOUR(Conversions!A34738))/1000)","v":0}]
[{"$f":"A34738+TIME(0,15,0)","v":"1900-12-28T20:15:00"},{"$f":"B34738","v":0}]
[{"$f":"A34739+TIME(0,15,0)","v":"1900-12-28T20:30:00"},{"$f":"B34738","v":0}]
[{"$f":"A34740+TIME(0,15,0)","v":"1900-12-28T20:45:00"},{"$f":"B34738","v":0}]
[{"$f":"DATE($C$8687,$D$8687,$E$8687) + TIME($F$8687,0,0)","v":"1900-12-28T21:00:00"},{"$f":"IF(A34742<'PV Data'!$H$10,0,SUMIFS('PV Data'!D:D,'PV Data'!A:A,MONTH(Conversions!A34742),'PV Data'!B:B,DAY(Conversions!A34742),'PV Data'!C:C,HOUR(Conversions!A34742))/1000)","v":0}]
[{"$f":"A34742+TIME(0,15,0)","v":"1900-12-28T21:15:00"},{"$f":"B34742","v":0}]
[{"$f":"A34743+TIME(0,15,0)","v":"1900-12-28T21:30:00"},{"$f":"B34742","v":0}]
[{"$f":"A34744+TIME(0,15,0)","v":"1900-12-28T21:45:00"},{"$f":"B34742","v":0}]
[{"$f":"DATE($C$8688,$D$8688,$E$8688) + TIME($F$8688,0,0)","v":"1900-12-28T22:00:00"},{"$f":"IF(A34746<'PV Data'!$H$10,0,SUMIFS('PV Data'!D:D,'PV Data'!A:A,MONTH(Conversions!A34746),'PV Data'!B:B,DAY(Conversions!A34746),'PV Data'!C:C,HOUR(Conversions!A34746))/1000)","v":0}]
[{"$f":"A34746+TIME(0,15,0)","v":"1900-12-28T22:15:00"},{"$f":"B34746","v":0}]
[{"$f":"A34747+TIME(0,15,0)","v":"1900-12-28T22:30:00"},{"$f":"B34746","v":0}]
[{"$f":"A34748+TIME(0,15,0)","v":"1900-12-28T22:45:00"},{"$f":"B34746","v":0}]
[{"$f":"DATE($C$8689,$D$8689,$E$8689) + TIME($F$8689,0,0)","v":"1900-12-28T23:00:00"},{"$f":"IF(A34750<'PV Data'!$H$10,0,SUMIFS('PV Data'!D:D,'PV Data'!A:A,MONTH(Conversions!A34750),'PV Data'!B:B,DAY(Conversions!A34750),'PV Data'!C:C,HOUR(Conversions!A34750))/1000)","v":0}]
[{"$f":"A34750+TIME(0,15,0)","v":"1900-12-28T23:15:00"},{"$f":"B34750","v":0}]
[{"$f":"A34751+TIME(0,15,0)","v":"1900-12-28T23:30:00"},{"$f":"B34750","v":0}]
[{"$f":"A34752+TIME(0,15,0)","v":"1900-12-28T23:45:00"},{"$f":"B34750","v":0}]
[{"$f":"DATE($C$8690,$D$8690,$E$8690) + TIME($F$8690,0,0)","v":"1900-12-29"},{"$f":"IF(A34754<'PV Data'!$H$10,0,SUMIFS('PV Data'!D:D,'PV Data'!A:A,MONTH(Conversions!A34754),'PV Data'!B:B,DAY(Conversions!A34754),'PV Data'!C:C,HOUR(Conversions!A34754))/1000)","v":0}]
[{"$f":"A34754+TIME(0,15,0)","v":"1900-12-29T00:15:00"},{"$f":"B34754","v":0}]
[{"$f":"A34755+TIME(0,15,0)","v":"1900-12-29T00:30:00"},{"$f":"B34754","v":0}]
[{"$f":"A34756+TIME(0,15,0)","v":"1900-12-29T00:45:00"},{"$f":"B34754","v":0}]
[{"$f":"DATE($C$8691,$D$8691,$E$8691) + TIME($F$8691,0,0)","v":"1900-12-29T01:00:00"},{"$f":"IF(A34758<'PV Data'!$H$10,0,SUMIFS('PV Data'!D:D,'PV Data'!A:A,MONTH(Conversions!A34758),'PV Data'!B:B,DAY(Conversions!A34758),'PV Data'!C:C,HOUR(Conversions!A34758))/1000)","v":0}]
[{"$f":"A34758+TIME(0,15,0)","v":"1900-12-29T01:15:00"},{"$f":"B34758","v":0}]
[{"$f":"A34759+TIME(0,15,0)","v":"1900-12-29T01:30:00"},{"$f":"B34758","v":0}]
[{"$f":"A34760+TIME(0,15,0)","v":"1900-12-29T01:45:00"},{"$f":"B34758","v":0}]
[{"$f":"DATE($C$8692,$D$8692,$E$8692) + TIME($F$8692,0,0)","v":"1900-12-29T02:00:00"},{"$f":"IF(A34762<'PV Data'!$H$10,0,SUMIFS('PV Data'!D:D,'PV Data'!A:A,MONTH(Conversions!A34762),'PV Data'!B:B,DAY(Conversions!A34762),'PV Data'!C:C,HOUR(Conversions!A34762))/1000)","v":0}]
[{"$f":"A34762+TIME(0,15,0)","v":"1900-12-29T02:15:00"},{"$f":"B34762","v":0}]
[{"$f":"A34763+TIME(0,15,0)","v":"1900-12-29T02:30:00"},{"$f":"B34762","v":0}]
[{"$f":"A34764+TIME(0,15,0)","v":"1900-12-29T02:45:00"},{"$f":"B34762","v":0}]
[{"$f":"DATE($C$8693,$D$8693,$E$8693) + TIME($F$8693,0,0)","v":"1900-12-29T03:00:00"},{"$f":"IF(A34766<'PV Data'!$H$10,0,SUMIFS('PV Data'!D:D,'PV Data'!A:A,MONTH(Conversions!A34766),'PV Data'!B:B,DAY(Conversions!A34766),'PV Data'!C:C,HOUR(Conversions!A34766))/1000)","v":0}]
[{"$f":"A34766+TIME(0,15,0)","v":"1900-12-29T03:15:00"},{"$f":"B34766","v":0}]
[{"$f":"A34767+TIME(0,15,0)","v":"1900-12-29T03:30:00"},{"$f":"B34766","v":0}]
[{"$f":"A34768+TIME(0,15,0)","v":"1900-12-29T03:45:00"},{"$f":"B34766","v":0}]
[{"$f":"DATE($C$8694,$D$8694,$E$8694) + TIME($F$8694,0,0)","v":"1900-12-29T04:00:00"},{"$f":"IF(A34770<'PV Data'!$H$10,0,SUMIFS('PV Data'!D:D,'PV Data'!A:A,MONTH(Conversions!A34770),'PV Data'!B:B,DAY(Conversions!A34770),'PV Data'!C:C,HOUR(Conversions!A34770))/1000)","v":0}]
[{"$f":"A34770+TIME(0,15,0)","v":"1900-12-29T04:15:00"},{"$f":"B34770","v":0}]
[{"$f":"A34771+TIME(0,15,0)","v":"1900-12-29T04:30:00"},{"$f":"B34770","v":0}]
[{"$f":"A34772+TIME(0,15,0)","v":"1900-12-29T04:45:00"},{"$f":"B34770","v":0}]
[{"$f":"DATE($C$8695,$D$8695,$E$8695) + TIME($F$8695,0,0)","v":"1900-12-29T05:00:00"},{"$f":"IF(A34774<'PV Data'!$H$10,0,SUMIFS('PV Data'!D:D,'PV Data'!A:A,MONTH(Conversions!A34774),'PV Data'!B:B,DAY(Conversions!A34774),'PV Data'!C:C,HOUR(Conversions!A34774))/1000)","v":0}]
[{"$f":"A34774+TIME(0,15,0)","v":"1900-12-29T05:15:00"},{"$f":"B34774","v":0}]
[{"$f":"A34775+TIME(0,15,0)","v":"1900-12-29T05:30:00"},{"$f":"B34774","v":0}]
[{"$f":"A34776+TIME(0,15,0)","v":"1900-12-29T05:45:00"},{"$f":"B34774","v":0}]
[{"$f":"DATE($C$8696,$D$8696,$E$8696) + TIME($F$8696,0,0)","v":"1900-12-29T06:00:00"},{"$f":"IF(A34778<'PV Data'!$H$10,0,SUMIFS('PV Data'!D:D,'PV Data'!A:A,MONTH(Conversions!A34778),'PV Data'!B:B,DAY(Conversions!A34778),'PV Data'!C:C,HOUR(Conversions!A34778))/1000)","v":0}]
[{"$f":"A34778+TIME(0,15,0)","v":"1900-12-29T06:15:00"},{"$f":"B34778","v":0}]
[{"$f":"A34779+TIME(0,15,0)","v":"1900-12-29T06:30:00"},{"$f":"B34778","v":0}]
[{"$f":"A34780+TIME(0,15,0)","v":"1900-12-29T06:45:00"},{"$f":"B34778","v":0}]
[{"$f":"DATE($C$8697,$D$8697,$E$8697) + TIME($F$8697,0,0)","v":"1900-12-29T07:00:00"},{"$f":"IF(A34782<'PV Data'!$H$10,0,SUMIFS('PV Data'!D:D,'PV Data'!A:A,MONTH(Conversions!A34782),'PV Data'!B:B,DAY(Conversions!A34782),'PV Data'!C:C,HOUR(Conversions!A34782))/1000)","v":0}]
[{"$f":"A34782+TIME(0,15,0)","v":"1900-12-29T07:15:00"},{"$f":"B34782","v":0}]
[{"$f":"A34783+TIME(0,15,0)","v":"1900-12-29T07:30:00"},{"$f":"B34782","v":0}]
[{"$f":"A34784+TIME(0,15,0)","v":"1900-12-29T07:45:00"},{"$f":"B34782","v":0}]
[{"$f":"DATE($C$8698,$D$8698,$E$8698) + TIME($F$8698,0,0)","v":"1900-12-29T08:00:00"},{"$f":"IF(A34786<'PV Data'!$H$10,0,SUMIFS('PV Data'!D:D,'PV Data'!A:A,MONTH(Conversions!A34786),'PV Data'!B:B,DAY(Conversions!A34786),'PV Data'!C:C,HOUR(Conversions!A34786))/1000)","v":0}]
[{"$f":"A34786+TIME(0,15,0)","v":"1900-12-29T08:15:00"},{"$f":"B34786","v":0}]
[{"$f":"A34787+TIME(0,15,0)","v":"1900-12-29T08:30:00"},{"$f":"B34786","v":0}]
[{"$f":"A34788+TIME(0,15,0)","v":"1900-12-29T08:45:00"},{"$f":"B34786","v":0}]
[{"$f":"DATE($C$8699,$D$8699,$E$8699) + TIME($F$8699,0,0)","v":"1900-12-29T09:00:00"},{"$f":"IF(A34790<'PV Data'!$H$10,0,SUMIFS('PV Data'!D:D,'PV Data'!A:A,MONTH(Conversions!A34790),'PV Data'!B:B,DAY(Conversions!A34790),'PV Data'!C:C,HOUR(Conversions!A34790))/1000)","v":0}]
[{"$f":"A34790+TIME(0,15,0)","v":"1900-12-29T09:15:00"},{"$f":"B34790","v":0}]
[{"$f":"A34791+TIME(0,15,0)","v":"1900-12-29T09:30:00"},{"$f":"B34790","v":0}]
[{"$f":"A34792+TIME(0,15,0)","v":"1900-12-29T09:45:00"},{"$f":"B34790","v":0}]
[{"$f":"DATE($C$8700,$D$8700,$E$8700) + TIME($F$8700,0,0)","v":"1900-12-29T10:00:00"},{"$f":"IF(A34794<'PV Data'!$H$10,0,SUMIFS('PV Data'!D:D,'PV Data'!A:A,MONTH(Conversions!A34794),'PV Data'!B:B,DAY(Conversions!A34794),'PV Data'!C:C,HOUR(Conversions!A34794))/1000)","v":0}]
[{"$f":"A34794+TIME(0,15,0)","v":"1900-12-29T10:15:00"},{"$f":"B34794","v":0}]
[{"$f":"A34795+TIME(0,15,0)","v":"1900-12-29T10:30:00"},{"$f":"B34794","v":0}]
[{"$f":"A34796+TIME(0,15,0)","v":"1900-12-29T10:45:00"},{"$f":"B34794","v":0}]
[{"$f":"DATE($C$8701,$D$8701,$E$8701) + TIME($F$8701,0,0)","v":"1900-12-29T11:00:00"},{"$f":"IF(A34798<'PV Data'!$H$10,0,SUMIFS('PV Data'!D:D,'PV Data'!A:A,MONTH(Conversions!A34798),'PV Data'!B:B,DAY(Conversions!A34798),'PV Data'!C:C,HOUR(Conversions!A34798))/1000)","v":0}]
[{"$f":"A34798+TIME(0,15,0)","v":"1900-12-29T11:15:00"},{"$f":"B34798","v":0}]
[{"$f":"A34799+TIME(0,15,0)","v":"1900-12-29T11:30:00"},{"$f":"B34798","v":0}]
[{"$f":"A34800+TIME(0,15,0)","v":"1900-12-29T11:45:00"},{"$f":"B34798","v":0}]
[{"$f":"DATE($C$8702,$D$8702,$E$8702) + TIME($F$8702,0,0)","v":"1900-12-29T12:00:00"},{"$f":"IF(A34802<'PV Data'!$H$10,0,SUMIFS('PV Data'!D:D,'PV Data'!A:A,MONTH(Conversions!A34802),'PV Data'!B:B,DAY(Conversions!A34802),'PV Data'!C:C,HOUR(Conversions!A34802))/1000)","v":0}]
[{"$f":"A34802+TIME(0,15,0)","v":"1900-12-29T12:15:00"},{"$f":"B34802","v":0}]
[{"$f":"A34803+TIME(0,15,0)","v":"1900-12-29T12:30:00"},{"$f":"B34802","v":0}]
[{"$f":"A34804+TIME(0,15,0)","v":"1900-12-29T12:45:00"},{"$f":"B34802","v":0}]
[{"$f":"DATE($C$8703,$D$8703,$E$8703) + TIME($F$8703,0,0)","v":"1900-12-29T13:00:00"},{"$f":"IF(A34806<'PV Data'!$H$10,0,SUMIFS('PV Data'!D:D,'PV Data'!A:A,MONTH(Conversions!A34806),'PV Data'!B:B,DAY(Conversions!A34806),'PV Data'!C:C,HOUR(Conversions!A34806))/1000)","v":0}]
[{"$f":"A34806+TIME(0,15,0)","v":"1900-12-29T13:15:00"},{"$f":"B34806","v":0}]
[{"$f":"A34807+TIME(0,15,0)","v":"1900-12-29T13:30:00"},{"$f":"B34806","v":0}]
[{"$f":"A34808+TIME(0,15,0)","v":"1900-12-29T13:45:00"},{"$f":"B34806","v":0}]
[{"$f":"DATE($C$8704,$D$8704,$E$8704) + TIME($F$8704,0,0)","v":"1900-12-29T14:00:00"},{"$f":"IF(A34810<'PV Data'!$H$10,0,SUMIFS('PV Data'!D:D,'PV Data'!A:A,MONTH(Conversions!A34810),'PV Data'!B:B,DAY(Conversions!A34810),'PV Data'!C:C,HOUR(Conversions!A34810))/1000)","v":0}]
[{"$f":"A34810+TIME(0,15,0)","v":"1900-12-29T14:15:00"},{"$f":"B34810","v":0}]
[{"$f":"A34811+TIME(0,15,0)","v":"1900-12-29T14:30:00"},{"$f":"B34810","v":0}]
[{"$f":"A34812+TIME(0,15,0)","v":"1900-12-29T14:45:00"},{"$f":"B34810","v":0}]
[{"$f":"DATE($C$8705,$D$8705,$E$8705) + TIME($F$8705,0,0)","v":"1900-12-29T15:00:00"},{"$f":"IF(A34814<'PV Data'!$H$10,0,SUMIFS('PV Data'!D:D,'PV Data'!A:A,MONTH(Conversions!A34814),'PV Data'!B:B,DAY(Conversions!A34814),'PV Data'!C:C,HOUR(Conversions!A34814))/1000)","v":0}]
[{"$f":"A34814+TIME(0,15,0)","v":"1900-12-29T15:15:00"},{"$f":"B34814","v":0}]
[{"$f":"A34815+TIME(0,15,0)","v":"1900-12-29T15:30:00"},{"$f":"B34814","v":0}]
[{"$f":"A34816+TIME(0,15,0)","v":"1900-12-29T15:45:00"},{"$f":"B34814","v":0}]
[{"$f":"DATE($C$8706,$D$8706,$E$8706) + TIME($F$8706,0,0)","v":"1900-12-29T16:00:00"},{"$f":"IF(A34818<'PV Data'!$H$10,0,SUMIFS('PV Data'!D:D,'PV Data'!A:A,MONTH(Conversions!A34818),'PV Data'!B:B,DAY(Conversions!A34818),'PV Data'!C:C,HOUR(Conversions!A34818))/1000)","v":0}]
[{"$f":"A34818+TIME(0,15,0)","v":"1900-12-29T16:15:00"},{"$f":"B34818","v":0}]
[{"$f":"A34819+TIME(0,15,0)","v":"1900-12-29T16:30:00"},{"$f":"B34818","v":0}]
[{"$f":"A34820+TIME(0,15,0)","v":"1900-12-29T16:45:00"},{"$f":"B34818","v":0}]
[{"$f":"DATE($C$8707,$D$8707,$E$8707) + TIME($F$8707,0,0)","v":"1900-12-29T17:00:00"},{"$f":"IF(A34822<'PV Data'!$H$10,0,SUMIFS('PV Data'!D:D,'PV Data'!A:A,MONTH(Conversions!A34822),'PV Data'!B:B,DAY(Conversions!A34822),'PV Data'!C:C,HOUR(Conversions!A34822))/1000)","v":0}]
[{"$f":"A34822+TIME(0,15,0)","v":"1900-12-29T17:15:00"},{"$f":"B34822","v":0}]
[{"$f":"A34823+TIME(0,15,0)","v":"1900-12-29T17:30:00"},{"$f":"B34822","v":0}]
[{"$f":"A34824+TIME(0,15,0)","v":"1900-12-29T17:45:00"},{"$f":"B34822","v":0}]
[{"$f":"DATE($C$8708,$D$8708,$E$8708) + TIME($F$8708,0,0)","v":"1900-12-29T18:00:00"},{"$f":"IF(A34826<'PV Data'!$H$10,0,SUMIFS('PV Data'!D:D,'PV Data'!A:A,MONTH(Conversions!A34826),'PV Data'!B:B,DAY(Conversions!A34826),'PV Data'!C:C,HOUR(Conversions!A34826))/1000)","v":0}]
[{"$f":"A34826+TIME(0,15,0)","v":"1900-12-29T18:15:00"},{"$f":"B34826","v":0}]
[{"$f":"A34827+TIME(0,15,0)","v":"1900-12-29T18:30:00"},{"$f":"B34826","v":0}]
[{"$f":"A34828+TIME(0,15,0)","v":"1900-12-29T18:45:00"},{"$f":"B34826","v":0}]
[{"$f":"DATE($C$8709,$D$8709,$E$8709) + TIME($F$8709,0,0)","v":"1900-12-29T19:00:00"},{"$f":"IF(A34830<'PV Data'!$H$10,0,SUMIFS('PV Data'!D:D,'PV Data'!A:A,MONTH(Conversions!A34830),'PV Data'!B:B,DAY(Conversions!A34830),'PV Data'!C:C,HOUR(Conversions!A34830))/1000)","v":0}]
[{"$f":"A34830+TIME(0,15,0)","v":"1900-12-29T19:15:00"},{"$f":"B34830","v":0}]
[{"$f":"A34831+TIME(0,15,0)","v":"1900-12-29T19:30:00"},{"$f":"B34830","v":0}]
[{"$f":"A34832+TIME(0,15,0)","v":"1900-12-29T19:45:00"},{"$f":"B34830","v":0}]
[{"$f":"DATE($C$8710,$D$8710,$E$8710) + TIME($F$8710,0,0)","v":"1900-12-29T20:00:00"},{"$f":"IF(A34834<'PV Data'!$H$10,0,SUMIFS('PV Data'!D:D,'PV Data'!A:A,MONTH(Conversions!A34834),'PV Data'!B:B,DAY(Conversions!A34834),'PV Data'!C:C,HOUR(Conversions!A34834))/1000)","v":0}]
[{"$f":"A34834+TIME(0,15,0)","v":"1900-12-29T20:15:00"},{"$f":"B34834","v":0}]
[{"$f":"A34835+TIME(0,15,0)","v":"1900-12-29T20:30:00"},{"$f":"B34834","v":0}]
[{"$f":"A34836+TIME(0,15,0)","v":"1900-12-29T20:45:00"},{"$f":"B34834","v":0}]
[{"$f":"DATE($C$8711,$D$8711,$E$8711) + TIME($F$8711,0,0)","v":"1900-12-29T21:00:00"},{"$f":"IF(A34838<'PV Data'!$H$10,0,SUMIFS('PV Data'!D:D,'PV Data'!A:A,MONTH(Conversions!A34838),'PV Data'!B:B,DAY(Conversions!A34838),'PV Data'!C:C,HOUR(Conversions!A34838))/1000)","v":0}]
[{"$f":"A34838+TIME(0,15,0)","v":"1900-12-29T21:15:00"},{"$f":"B34838","v":0}]
[{"$f":"A34839+TIME(0,15,0)","v":"1900-12-29T21:30:00"},{"$f":"B34838","v":0}]
[{"$f":"A34840+TIME(0,15,0)","v":"1900-12-29T21:45:00"},{"$f":"B34838","v":0}]
[{"$f":"DATE($C$8712,$D$8712,$E$8712) + TIME($F$8712,0,0)","v":"1900-12-29T22:00:00"},{"$f":"IF(A34842<'PV Data'!$H$10,0,SUMIFS('PV Data'!D:D,'PV Data'!A:A,MONTH(Conversions!A34842),'PV Data'!B:B,DAY(Conversions!A34842),'PV Data'!C:C,HOUR(Conversions!A34842))/1000)","v":0}]
[{"$f":"A34842+TIME(0,15,0)","v":"1900-12-29T22:15:00"},{"$f":"B34842","v":0}]
[{"$f":"A34843+TIME(0,15,0)","v":"1900-12-29T22:30:00"},{"$f":"B34842","v":0}]
[{"$f":"A34844+TIME(0,15,0)","v":"1900-12-29T22:45:00"},{"$f":"B34842","v":0}]
[{"$f":"DATE($C$8713,$D$8713,$E$8713) + TIME($F$8713,0,0)","v":"1900-12-29T23:00:00"},{"$f":"IF(A34846<'PV Data'!$H$10,0,SUMIFS('PV Data'!D:D,'PV Data'!A:A,MONTH(Conversions!A34846),'PV Data'!B:B,DAY(Conversions!A34846),'PV Data'!C:C,HOUR(Conversions!A34846))/1000)","v":0}]
[{"$f":"A34846+TIME(0,15,0)","v":"1900-12-29T23:15:00"},{"$f":"B34846","v":0}]
[{"$f":"A34847+TIME(0,15,0)","v":"1900-12-29T23:30:00"},{"$f":"B34846","v":0}]
[{"$f":"A34848+TIME(0,15,0)","v":"1900-12-29T23:45:00"},{"$f":"B34846","v":0}]
[{"$f":"DATE($C$8714,$D$8714,$E$8714) + TIME($F$8714,0,0)","v":"1900-12-30"},{"$f":"IF(A34850<'PV Data'!$H$10,0,SUMIFS('PV Data'!D:D,'PV Data'!A:A,MONTH(Conversions!A34850),'PV Data'!B:B,DAY(Conversions!A34850),'PV Data'!C:C,HOUR(Conversions!A34850))/1000)","v":0}]
[{"$f":"A34850+TIME(0,15,0)","v":"1900-12-30T00:15:00"},{"$f":"B34850","v":0}]
[{"$f":"A34851+TIME(0,15,0)","v":"1900-12-30T00:30:00"},{"$f":"B34850","v":0}]
[{"$f":"A34852+TIME(0,15,0)","v":"1900-12-30T00:45:00"},{"$f":"B34850","v":0}]
[{"$f":"DATE($C$8715,$D$8715,$E$8715) + TIME($F$8715,0,0)","v":"1900-12-30T01:00:00"},{"$f":"IF(A34854<'PV Data'!$H$10,0,SUMIFS('PV Data'!D:D,'PV Data'!A:A,MONTH(Conversions!A34854),'PV Data'!B:B,DAY(Conversions!A34854),'PV Data'!C:C,HOUR(Conversions!A34854))/1000)","v":0}]
[{"$f":"A34854+TIME(0,15,0)","v":"1900-12-30T01:15:00"},{"$f":"B34854","v":0}]
[{"$f":"A34855+TIME(0,15,0)","v":"1900-12-30T01:30:00"},{"$f":"B34854","v":0}]
[{"$f":"A34856+TIME(0,15,0)","v":"1900-12-30T01:45:00"},{"$f":"B34854","v":0}]
[{"$f":"DATE($C$8716,$D$8716,$E$8716) + TIME($F$8716,0,0)","v":"1900-12-30T02:00:00"},{"$f":"IF(A34858<'PV Data'!$H$10,0,SUMIFS('PV Data'!D:D,'PV Data'!A:A,MONTH(Conversions!A34858),'PV Data'!B:B,DAY(Conversions!A34858),'PV Data'!C:C,HOUR(Conversions!A34858))/1000)","v":0}]
[{"$f":"A34858+TIME(0,15,0)","v":"1900-12-30T02:15:00"},{"$f":"B34858","v":0}]
[{"$f":"A34859+TIME(0,15,0)","v":"1900-12-30T02:30:00"},{"$f":"B34858","v":0}]
[{"$f":"A34860+TIME(0,15,0)","v":"1900-12-30T02:45:00"},{"$f":"B34858","v":0}]
[{"$f":"DATE($C$8717,$D$8717,$E$8717) + TIME($F$8717,0,0)","v":"1900-12-30T03:00:00"},{"$f":"IF(A34862<'PV Data'!$H$10,0,SUMIFS('PV Data'!D:D,'PV Data'!A:A,MONTH(Conversions!A34862),'PV Data'!B:B,DAY(Conversions!A34862),'PV Data'!C:C,HOUR(Conversions!A34862))/1000)","v":0}]
[{"$f":"A34862+TIME(0,15,0)","v":"1900-12-30T03:15:00"},{"$f":"B34862","v":0}]
[{"$f":"A34863+TIME(0,15,0)","v":"1900-12-30T03:30:00"},{"$f":"B34862","v":0}]
[{"$f":"A34864+TIME(0,15,0)","v":"1900-12-30T03:45:00"},{"$f":"B34862","v":0}]
[{"$f":"DATE($C$8718,$D$8718,$E$8718) + TIME($F$8718,0,0)","v":"1900-12-30T04:00:00"},{"$f":"IF(A34866<'PV Data'!$H$10,0,SUMIFS('PV Data'!D:D,'PV Data'!A:A,MONTH(Conversions!A34866),'PV Data'!B:B,DAY(Conversions!A34866),'PV Data'!C:C,HOUR(Conversions!A34866))/1000)","v":0}]
[{"$f":"A34866+TIME(0,15,0)","v":"1900-12-30T04:15:00"},{"$f":"B34866","v":0}]
[{"$f":"A34867+TIME(0,15,0)","v":"1900-12-30T04:30:00"},{"$f":"B34866","v":0}]
[{"$f":"A34868+TIME(0,15,0)","v":"1900-12-30T04:45:00"},{"$f":"B34866","v":0}]
[{"$f":"DATE($C$8719,$D$8719,$E$8719) + TIME($F$8719,0,0)","v":"1900-12-30T05:00:00"},{"$f":"IF(A34870<'PV Data'!$H$10,0,SUMIFS('PV Data'!D:D,'PV Data'!A:A,MONTH(Conversions!A34870),'PV Data'!B:B,DAY(Conversions!A34870),'PV Data'!C:C,HOUR(Conversions!A34870))/1000)","v":0}]
[{"$f":"A34870+TIME(0,15,0)","v":"1900-12-30T05:15:00"},{"$f":"B34870","v":0}]
[{"$f":"A34871+TIME(0,15,0)","v":"1900-12-30T05:30:00"},{"$f":"B34870","v":0}]
[{"$f":"A34872+TIME(0,15,0)","v":"1900-12-30T05:45:00"},{"$f":"B34870","v":0}]
[{"$f":"DATE($C$8720,$D$8720,$E$8720) + TIME($F$8720,0,0)","v":"1900-12-30T06:00:00"},{"$f":"IF(A34874<'PV Data'!$H$10,0,SUMIFS('PV Data'!D:D,'PV Data'!A:A,MONTH(Conversions!A34874),'PV Data'!B:B,DAY(Conversions!A34874),'PV Data'!C:C,HOUR(Conversions!A34874))/1000)","v":0}]
[{"$f":"A34874+TIME(0,15,0)","v":"1900-12-30T06:15:00"},{"$f":"B34874","v":0}]
[{"$f":"A34875+TIME(0,15,0)","v":"1900-12-30T06:30:00"},{"$f":"B34874","v":0}]
[{"$f":"A34876+TIME(0,15,0)","v":"1900-12-30T06:45:00"},{"$f":"B34874","v":0}]
[{"$f":"DATE($C$8721,$D$8721,$E$8721) + TIME($F$8721,0,0)","v":"1900-12-30T07:00:00"},{"$f":"IF(A34878<'PV Data'!$H$10,0,SUMIFS('PV Data'!D:D,'PV Data'!A:A,MONTH(Conversions!A34878),'PV Data'!B:B,DAY(Conversions!A34878),'PV Data'!C:C,HOUR(Conversions!A34878))/1000)","v":0}]
[{"$f":"A34878+TIME(0,15,0)","v":"1900-12-30T07:15:00"},{"$f":"B34878","v":0}]
[{"$f":"A34879+TIME(0,15,0)","v":"1900-12-30T07:30:00"},{"$f":"B34878","v":0}]
[{"$f":"A34880+TIME(0,15,0)","v":"1900-12-30T07:45:00"},{"$f":"B34878","v":0}]
[{"$f":"DATE($C$8722,$D$8722,$E$8722) + TIME($F$8722,0,0)","v":"1900-12-30T08:00:00"},{"$f":"IF(A34882<'PV Data'!$H$10,0,SUMIFS('PV Data'!D:D,'PV Data'!A:A,MONTH(Conversions!A34882),'PV Data'!B:B,DAY(Conversions!A34882),'PV Data'!C:C,HOUR(Conversions!A34882))/1000)","v":0}]
[{"$f":"A34882+TIME(0,15,0)","v":"1900-12-30T08:15:00"},{"$f":"B34882","v":0}]
[{"$f":"A34883+TIME(0,15,0)","v":"1900-12-30T08:30:00"},{"$f":"B34882","v":0}]
[{"$f":"A34884+TIME(0,15,0)","v":"1900-12-30T08:45:00"},{"$f":"B34882","v":0}]
[{"$f":"DATE($C$8723,$D$8723,$E$8723) + TIME($F$8723,0,0)","v":"1900-12-30T09:00:00"},{"$f":"IF(A34886<'PV Data'!$H$10,0,SUMIFS('PV Data'!D:D,'PV Data'!A:A,MONTH(Conversions!A34886),'PV Data'!B:B,DAY(Conversions!A34886),'PV Data'!C:C,HOUR(Conversions!A34886))/1000)","v":0}]
[{"$f":"A34886+TIME(0,15,0)","v":"1900-12-30T09:15:00"},{"$f":"B34886","v":0}]
[{"$f":"A34887+TIME(0,15,0)","v":"1900-12-30T09:30:00"},{"$f":"B34886","v":0}]
[{"$f":"A34888+TIME(0,15,0)","v":"1900-12-30T09:45:00"},{"$f":"B34886","v":0}]
[{"$f":"DATE($C$8724,$D$8724,$E$8724) + TIME($F$8724,0,0)","v":"1900-12-30T10:00:00"},{"$f":"IF(A34890<'PV Data'!$H$10,0,SUMIFS('PV Data'!D:D,'PV Data'!A:A,MONTH(Conversions!A34890),'PV Data'!B:B,DAY(Conversions!A34890),'PV Data'!C:C,HOUR(Conversions!A34890))/1000)","v":0}]
[{"$f":"A34890+TIME(0,15,0)","v":"1900-12-30T10:15:00"},{"$f":"B34890","v":0}]
[{"$f":"A34891+TIME(0,15,0)","v":"1900-12-30T10:30:00"},{"$f":"B34890","v":0}]
[{"$f":"A34892+TIME(0,15,0)","v":"1900-12-30T10:45:00"},{"$f":"B34890","v":0}]
[{"$f":"DATE($C$8725,$D$8725,$E$8725) + TIME($F$8725,0,0)","v":"1900-12-30T11:00:00"},{"$f":"IF(A34894<'PV Data'!$H$10,0,SUMIFS('PV Data'!D:D,'PV Data'!A:A,MONTH(Conversions!A34894),'PV Data'!B:B,DAY(Conversions!A34894),'PV Data'!C:C,HOUR(Conversions!A34894))/1000)","v":0}]
[{"$f":"A34894+TIME(0,15,0)","v":"1900-12-30T11:15:00"},{"$f":"B34894","v":0}]
[{"$f":"A34895+TIME(0,15,0)","v":"1900-12-30T11:30:00"},{"$f":"B34894","v":0}]
[{"$f":"A34896+TIME(0,15,0)","v":"1900-12-30T11:45:00"},{"$f":"B34894","v":0}]
[{"$f":"DATE($C$8726,$D$8726,$E$8726) + TIME($F$8726,0,0)","v":"1900-12-30T12:00:00"},{"$f":"IF(A34898<'PV Data'!$H$10,0,SUMIFS('PV Data'!D:D,'PV Data'!A:A,MONTH(Conversions!A34898),'PV Data'!B:B,DAY(Conversions!A34898),'PV Data'!C:C,HOUR(Conversions!A34898))/1000)","v":0}]
[{"$f":"A34898+TIME(0,15,0)","v":"1900-12-30T12:15:00"},{"$f":"B34898","v":0}]
[{"$f":"A34899+TIME(0,15,0)","v":"1900-12-30T12:30:00"},{"$f":"B34898","v":0}]
[{"$f":"A34900+TIME(0,15,0)","v":"1900-12-30T12:45:00"},{"$f":"B34898","v":0}]
[{"$f":"DATE($C$8727,$D$8727,$E$8727) + TIME($F$8727,0,0)","v":"1900-12-30T13:00:00"},{"$f":"IF(A34902<'PV Data'!$H$10,0,SUMIFS('PV Data'!D:D,'PV Data'!A:A,MONTH(Conversions!A34902),'PV Data'!B:B,DAY(Conversions!A34902),'PV Data'!C:C,HOUR(Conversions!A34902))/1000)","v":0}]
[{"$f":"A34902+TIME(0,15,0)","v":"1900-12-30T13:15:00"},{"$f":"B34902","v":0}]
[{"$f":"A34903+TIME(0,15,0)","v":"1900-12-30T13:30:00"},{"$f":"B34902","v":0}]
[{"$f":"A34904+TIME(0,15,0)","v":"1900-12-30T13:45:00"},{"$f":"B34902","v":0}]
[{"$f":"DATE($C$8728,$D$8728,$E$8728) + TIME($F$8728,0,0)","v":"1900-12-30T14:00:00"},{"$f":"IF(A34906<'PV Data'!$H$10,0,SUMIFS('PV Data'!D:D,'PV Data'!A:A,MONTH(Conversions!A34906),'PV Data'!B:B,DAY(Conversions!A34906),'PV Data'!C:C,HOUR(Conversions!A34906))/1000)","v":0}]
[{"$f":"A34906+TIME(0,15,0)","v":"1900-12-30T14:15:00"},{"$f":"B34906","v":0}]
[{"$f":"A34907+TIME(0,15,0)","v":"1900-12-30T14:30:00"},{"$f":"B34906","v":0}]
[{"$f":"A34908+TIME(0,15,0)","v":"1900-12-30T14:45:00"},{"$f":"B34906","v":0}]
[{"$f":"DATE($C$8729,$D$8729,$E$8729) + TIME($F$8729,0,0)","v":"1900-12-30T15:00:00"},{"$f":"IF(A34910<'PV Data'!$H$10,0,SUMIFS('PV Data'!D:D,'PV Data'!A:A,MONTH(Conversions!A34910),'PV Data'!B:B,DAY(Conversions!A34910),'PV Data'!C:C,HOUR(Conversions!A34910))/1000)","v":0}]
[{"$f":"A34910+TIME(0,15,0)","v":"1900-12-30T15:15:00"},{"$f":"B34910","v":0}]
[{"$f":"A34911+TIME(0,15,0)","v":"1900-12-30T15:30:00"},{"$f":"B34910","v":0}]
[{"$f":"A34912+TIME(0,15,0)","v":"1900-12-30T15:45:00"},{"$f":"B34910","v":0}]
[{"$f":"DATE($C$8730,$D$8730,$E$8730) + TIME($F$8730,0,0)","v":"1900-12-30T16:00:00"},{"$f":"IF(A34914<'PV Data'!$H$10,0,SUMIFS('PV Data'!D:D,'PV Data'!A:A,MONTH(Conversions!A34914),'PV Data'!B:B,DAY(Conversions!A34914),'PV Data'!C:C,HOUR(Conversions!A34914))/1000)","v":0}]
[{"$f":"A34914+TIME(0,15,0)","v":"1900-12-30T16:15:00"},{"$f":"B34914","v":0}]
[{"$f":"A34915+TIME(0,15,0)","v":"1900-12-30T16:30:00"},{"$f":"B34914","v":0}]
[{"$f":"A34916+TIME(0,15,0)","v":"1900-12-30T16:45:00"},{"$f":"B34914","v":0}]
[{"$f":"DATE($C$8731,$D$8731,$E$8731) + TIME($F$8731,0,0)","v":"1900-12-30T17:00:00"},{"$f":"IF(A34918<'PV Data'!$H$10,0,SUMIFS('PV Data'!D:D,'PV Data'!A:A,MONTH(Conversions!A34918),'PV Data'!B:B,DAY(Conversions!A34918),'PV Data'!C:C,HOUR(Conversions!A34918))/1000)","v":0}]
[{"$f":"A34918+TIME(0,15,0)","v":"1900-12-30T17:15:00"},{"$f":"B34918","v":0}]
[{"$f":"A34919+TIME(0,15,0)","v":"1900-12-30T17:30:00"},{"$f":"B34918","v":0}]
[{"$f":"A34920+TIME(0,15,0)","v":"1900-12-30T17:45:00"},{"$f":"B34918","v":0}]
[{"$f":"DATE($C$8732,$D$8732,$E$8732) + TIME($F$8732,0,0)","v":"1900-12-30T18:00:00"},{"$f":"IF(A34922<'PV Data'!$H$10,0,SUMIFS('PV Data'!D:D,'PV Data'!A:A,MONTH(Conversions!A34922),'PV Data'!B:B,DAY(Conversions!A34922),'PV Data'!C:C,HOUR(Conversions!A34922))/1000)","v":0}]
[{"$f":"A34922+TIME(0,15,0)","v":"1900-12-30T18:15:00"},{"$f":"B34922","v":0}]
[{"$f":"A34923+TIME(0,15,0)","v":"1900-12-30T18:30:00"},{"$f":"B34922","v":0}]
[{"$f":"A34924+TIME(0,15,0)","v":"1900-12-30T18:45:00"},{"$f":"B34922","v":0}]
[{"$f":"DATE($C$8733,$D$8733,$E$8733) + TIME($F$8733,0,0)","v":"1900-12-30T19:00:00"},{"$f":"IF(A34926<'PV Data'!$H$10,0,SUMIFS('PV Data'!D:D,'PV Data'!A:A,MONTH(Conversions!A34926),'PV Data'!B:B,DAY(Conversions!A34926),'PV Data'!C:C,HOUR(Conversions!A34926))/1000)","v":0}]
[{"$f":"A34926+TIME(0,15,0)","v":"1900-12-30T19:15:00"},{"$f":"B34926","v":0}]
[{"$f":"A34927+TIME(0,15,0)","v":"1900-12-30T19:30:00"},{"$f":"B34926","v":0}]
[{"$f":"A34928+TIME(0,15,0)","v":"1900-12-30T19:45:00"},{"$f":"B34926","v":0}]
[{"$f":"DATE($C$8734,$D$8734,$E$8734) + TIME($F$8734,0,0)","v":"1900-12-30T20:00:00"},{"$f":"IF(A34930<'PV Data'!$H$10,0,SUMIFS('PV Data'!D:D,'PV Data'!A:A,MONTH(Conversions!A34930),'PV Data'!B:B,DAY(Conversions!A34930),'PV Data'!C:C,HOUR(Conversions!A34930))/1000)","v":0}]
[{"$f":"A34930+TIME(0,15,0)","v":"1900-12-30T20:15:00"},{"$f":"B34930","v":0}]
[{"$f":"A34931+TIME(0,15,0)","v":"1900-12-30T20:30:00"},{"$f":"B34930","v":0}]
[{"$f":"A34932+TIME(0,15,0)","v":"1900-12-30T20:45:00"},{"$f":"B34930","v":0}]
[{"$f":"DATE($C$8735,$D$8735,$E$8735) + TIME($F$8735,0,0)","v":"1900-12-30T21:00:00"},{"$f":"IF(A34934<'PV Data'!$H$10,0,SUMIFS('PV Data'!D:D,'PV Data'!A:A,MONTH(Conversions!A34934),'PV Data'!B:B,DAY(Conversions!A34934),'PV Data'!C:C,HOUR(Conversions!A34934))/1000)","v":0}]
[{"$f":"A34934+TIME(0,15,0)","v":"1900-12-30T21:15:00"},{"$f":"B34934","v":0}]
[{"$f":"A34935+TIME(0,15,0)","v":"1900-12-30T21:30:00"},{"$f":"B34934","v":0}]
[{"$f":"A34936+TIME(0,15,0)","v":"1900-12-30T21:45:00"},{"$f":"B34934","v":0}]
[{"$f":"DATE($C$8736,$D$8736,$E$8736) + TIME($F$8736,0,0)","v":"1900-12-30T22:00:00"},{"$f":"IF(A34938<'PV Data'!$H$10,0,SUMIFS('PV Data'!D:D,'PV Data'!A:A,MONTH(Conversions!A34938),'PV Data'!B:B,DAY(Conversions!A34938),'PV Data'!C:C,HOUR(Conversions!A34938))/1000)","v":0}]
[{"$f":"A34938+TIME(0,15,0)","v":"1900-12-30T22:15:00"},{"$f":"B34938","v":0}]
[{"$f":"A34939+TIME(0,15,0)","v":"1900-12-30T22:30:00"},{"$f":"B34938","v":0}]
[{"$f":"A34940+TIME(0,15,0)","v":"1900-12-30T22:45:00"},{"$f":"B34938","v":0}]
[{"$f":"DATE($C$8737,$D$8737,$E$8737) + TIME($F$8737,0,0)","v":"1900-12-30T23:00:00"},{"$f":"IF(A34942<'PV Data'!$H$10,0,SUMIFS('PV Data'!D:D,'PV Data'!A:A,MONTH(Conversions!A34942),'PV Data'!B:B,DAY(Conversions!A34942),'PV Data'!C:C,HOUR(Conversions!A34942))/1000)","v":0}]
[{"$f":"A34942+TIME(0,15,0)","v":"1900-12-30T23:15:00"},{"$f":"B34942","v":0}]
[{"$f":"A34943+TIME(0,15,0)","v":"1900-12-30T23:30:00"},{"$f":"B34942","v":0}]
[{"$f":"A34944+TIME(0,15,0)","v":"1900-12-30T23:45:00"},{"$f":"B34942","v":0}]
[{"$f":"DATE($C$8738,$D$8738,$E$8738) + TIME($F$8738,0,0)","v":"1900-12-31"},{"$f":"IF(A34946<'PV Data'!$H$10,0,SUMIFS('PV Data'!D:D,'PV Data'!A:A,MONTH(Conversions!A34946),'PV Data'!B:B,DAY(Conversions!A34946),'PV Data'!C:C,HOUR(Conversions!A34946))/1000)","v":0}]
[{"$f":"A34946+TIME(0,15,0)","v":"1900-12-31T00:15:00"},{"$f":"B34946","v":0}]
[{"$f":"A34947+TIME(0,15,0)","v":"1900-12-31T00:30:00"},{"$f":"B34946","v":0}]
[{"$f":"A34948+TIME(0,15,0)","v":"1900-12-31T00:45:00"},{"$f":"B34946","v":0}]
[{"$f":"DATE($C$8739,$D$8739,$E$8739) + TIME($F$8739,0,0)","v":"1900-12-31T01:00:00"},{"$f":"IF(A34950<'PV Data'!$H$10,0,SUMIFS('PV Data'!D:D,'PV Data'!A:A,MONTH(Conversions!A34950),'PV Data'!B:B,DAY(Conversions!A34950),'PV Data'!C:C,HOUR(Conversions!A34950))/1000)","v":0}]
[{"$f":"A34950+TIME(0,15,0)","v":"1900-12-31T01:15:00"},{"$f":"B34950","v":0}]
[{"$f":"A34951+TIME(0,15,0)","v":"1900-12-31T01:30:00"},{"$f":"B34950","v":0}]
[{"$f":"A34952+TIME(0,15,0)","v":"1900-12-31T01:45:00"},{"$f":"B34950","v":0}]
[{"$f":"DATE($C$8740,$D$8740,$E$8740) + TIME($F$8740,0,0)","v":"1900-12-31T02:00:00"},{"$f":"IF(A34954<'PV Data'!$H$10,0,SUMIFS('PV Data'!D:D,'PV Data'!A:A,MONTH(Conversions!A34954),'PV Data'!B:B,DAY(Conversions!A34954),'PV Data'!C:C,HOUR(Conversions!A34954))/1000)","v":0}]
[{"$f":"A34954+TIME(0,15,0)","v":"1900-12-31T02:15:00"},{"$f":"B34954","v":0}]
[{"$f":"A34955+TIME(0,15,0)","v":"1900-12-31T02:30:00"},{"$f":"B34954","v":0}]
[{"$f":"A34956+TIME(0,15,0)","v":"1900-12-31T02:45:00"},{"$f":"B34954","v":0}]
[{"$f":"DATE($C$8741,$D$8741,$E$8741) + TIME($F$8741,0,0)","v":"1900-12-31T03:00:00"},{"$f":"IF(A34958<'PV Data'!$H$10,0,SUMIFS('PV Data'!D:D,'PV Data'!A:A,MONTH(Conversions!A34958),'PV Data'!B:B,DAY(Conversions!A34958),'PV Data'!C:C,HOUR(Conversions!A34958))/1000)","v":0}]
[{"$f":"A34958+TIME(0,15,0)","v":"1900-12-31T03:15:00"},{"$f":"B34958","v":0}]
[{"$f":"A34959+TIME(0,15,0)","v":"1900-12-31T03:30:00"},{"$f":"B34958","v":0}]
[{"$f":"A34960+TIME(0,15,0)","v":"1900-12-31T03:45:00"},{"$f":"B34958","v":0}]
[{"$f":"DATE($C$8742,$D$8742,$E$8742) + TIME($F$8742,0,0)","v":"1900-12-31T04:00:00"},{"$f":"IF(A34962<'PV Data'!$H$10,0,SUMIFS('PV Data'!D:D,'PV Data'!A:A,MONTH(Conversions!A34962),'PV Data'!B:B,DAY(Conversions!A34962),'PV Data'!C:C,HOUR(Conversions!A34962))/1000)","v":0}]
[{"$f":"A34962+TIME(0,15,0)","v":"1900-12-31T04:15:00"},{"$f":"B34962","v":0}]
[{"$f":"A34963+TIME(0,15,0)","v":"1900-12-31T04:30:00"},{"$f":"B34962","v":0}]
[{"$f":"A34964+TIME(0,15,0)","v":"1900-12-31T04:45:00"},{"$f":"B34962","v":0}]
[{"$f":"DATE($C$8743,$D$8743,$E$8743) + TIME($F$8743,0,0)","v":"1900-12-31T05:00:00"},{"$f":"IF(A34966<'PV Data'!$H$10,0,SUMIFS('PV Data'!D:D,'PV Data'!A:A,MONTH(Conversions!A34966),'PV Data'!B:B,DAY(Conversions!A34966),'PV Data'!C:C,HOUR(Conversions!A34966))/1000)","v":0}]
[{"$f":"A34966+TIME(0,15,0)","v":"1900-12-31T05:15:00"},{"$f":"B34966","v":0}]
[{"$f":"A34967+TIME(0,15,0)","v":"1900-12-31T05:30:00"},{"$f":"B34966","v":0}]
[{"$f":"A34968+TIME(0,15,0)","v":"1900-12-31T05:45:00"},{"$f":"B34966","v":0}]
[{"$f":"DATE($C$8744,$D$8744,$E$8744) + TIME($F$8744,0,0)","v":"1900-12-31T06:00:00"},{"$f":"IF(A34970<'PV Data'!$H$10,0,SUMIFS('PV Data'!D:D,'PV Data'!A:A,MONTH(Conversions!A34970),'PV Data'!B:B,DAY(Conversions!A34970),'PV Data'!C:C,HOUR(Conversions!A34970))/1000)","v":0}]
[{"$f":"A34970+TIME(0,15,0)","v":"1900-12-31T06:15:00"},{"$f":"B34970","v":0}]
[{"$f":"A34971+TIME(0,15,0)","v":"1900-12-31T06:30:00"},{"$f":"B34970","v":0}]
[{"$f":"A34972+TIME(0,15,0)","v":"1900-12-31T06:45:00"},{"$f":"B34970","v":0}]
[{"$f":"DATE($C$8745,$D$8745,$E$8745) + TIME($F$8745,0,0)","v":"1900-12-31T07:00:00"},{"$f":"IF(A34974<'PV Data'!$H$10,0,SUMIFS('PV Data'!D:D,'PV Data'!A:A,MONTH(Conversions!A34974),'PV Data'!B:B,DAY(Conversions!A34974),'PV Data'!C:C,HOUR(Conversions!A34974))/1000)","v":0}]
[{"$f":"A34974+TIME(0,15,0)","v":"1900-12-31T07:15:00"},{"$f":"B34974","v":0}]
[{"$f":"A34975+TIME(0,15,0)","v":"1900-12-31T07:30:00"},{"$f":"B34974","v":0}]
[{"$f":"A34976+TIME(0,15,0)","v":"1900-12-31T07:45:00"},{"$f":"B34974","v":0}]
[{"$f":"DATE($C$8746,$D$8746,$E$8746) + TIME($F$8746,0,0)","v":"1900-12-31T08:00:00"},{"$f":"IF(A34978<'PV Data'!$H$10,0,SUMIFS('PV Data'!D:D,'PV Data'!A:A,MONTH(Conversions!A34978),'PV Data'!B:B,DAY(Conversions!A34978),'PV Data'!C:C,HOUR(Conversions!A34978))/1000)","v":0}]
[{"$f":"A34978+TIME(0,15,0)","v":"1900-12-31T08:15:00"},{"$f":"B34978","v":0}]
[{"$f":"A34979+TIME(0,15,0)","v":"1900-12-31T08:30:00"},{"$f":"B34978","v":0}]
[{"$f":"A34980+TIME(0,15,0)","v":"1900-12-31T08:45:00"},{"$f":"B34978","v":0}]
[{"$f":"DATE($C$8747,$D$8747,$E$8747) + TIME($F$8747,0,0)","v":"1900-12-31T09:00:00"},{"$f":"IF(A34982<'PV Data'!$H$10,0,SUMIFS('PV Data'!D:D,'PV Data'!A:A,MONTH(Conversions!A34982),'PV Data'!B:B,DAY(Conversions!A34982),'PV Data'!C:C,HOUR(Conversions!A34982))/1000)","v":0}]
[{"$f":"A34982+TIME(0,15,0)","v":"1900-12-31T09:15:00"},{"$f":"B34982","v":0}]
[{"$f":"A34983+TIME(0,15,0)","v":"1900-12-31T09:30:00"},{"$f":"B34982","v":0}]
[{"$f":"A34984+TIME(0,15,0)","v":"1900-12-31T09:45:00"},{"$f":"B34982","v":0}]
[{"$f":"DATE($C$8748,$D$8748,$E$8748) + TIME($F$8748,0,0)","v":"1900-12-31T10:00:00"},{"$f":"IF(A34986<'PV Data'!$H$10,0,SUMIFS('PV Data'!D:D,'PV Data'!A:A,MONTH(Conversions!A34986),'PV Data'!B:B,DAY(Conversions!A34986),'PV Data'!C:C,HOUR(Conversions!A34986))/1000)","v":0}]
[{"$f":"A34986+TIME(0,15,0)","v":"1900-12-31T10:15:00"},{"$f":"B34986","v":0}]
[{"$f":"A34987+TIME(0,15,0)","v":"1900-12-31T10:30:00"},{"$f":"B34986","v":0}]
[{"$f":"A34988+TIME(0,15,0)","v":"1900-12-31T10:45:00"},{"$f":"B34986","v":0}]
[{"$f":"DATE($C$8749,$D$8749,$E$8749) + TIME($F$8749,0,0)","v":"1900-12-31T11:00:00"},{"$f":"IF(A34990<'PV Data'!$H$10,0,SUMIFS('PV Data'!D:D,'PV Data'!A:A,MONTH(Conversions!A34990),'PV Data'!B:B,DAY(Conversions!A34990),'PV Data'!C:C,HOUR(Conversions!A34990))/1000)","v":0}]
[{"$f":"A34990+TIME(0,15,0)","v":"1900-12-31T11:15:00"},{"$f":"B34990","v":0}]
[{"$f":"A34991+TIME(0,15,0)","v":"1900-12-31T11:30:00"},{"$f":"B34990","v":0}]
[{"$f":"A34992+TIME(0,15,0)","v":"1900-12-31T11:45:00"},{"$f":"B34990","v":0}]
[{"$f":"DATE($C$8750,$D$8750,$E$8750) + TIME($F$8750,0,0)","v":"1900-12-31T12:00:00"},{"$f":"IF(A34994<'PV Data'!$H$10,0,SUMIFS('PV Data'!D:D,'PV Data'!A:A,MONTH(Conversions!A34994),'PV Data'!B:B,DAY(Conversions!A34994),'PV Data'!C:C,HOUR(Conversions!A34994))/1000)","v":0}]
[{"$f":"A34994+TIME(0,15,0)","v":"1900-12-31T12:15:00"},{"$f":"B34994","v":0}]
[{"$f":"A34995+TIME(0,15,0)","v":"1900-12-31T12:30:00"},{"$f":"B34994","v":0}]
[{"$f":"A34996+TIME(0,15,0)","v":"1900-12-31T12:45:00"},{"$f":"B34994","v":0}]
[{"$f":"DATE($C$8751,$D$8751,$E$8751) + TIME($F$8751,0,0)","v":"1900-12-31T13:00:00"},{"$f":"IF(A34998<'PV Data'!$H$10,0,SUMIFS('PV Data'!D:D,'PV Data'!A:A,MONTH(Conversions!A34998),'PV Data'!B:B,DAY(Conversions!A34998),'PV Data'!C:C,HOUR(Conversions!A34998))/1000)","v":0}]
[{"$f":"A34998+TIME(0,15,0)","v":"1900-12-31T13:15:00"},{"$f":"B34998","v":0}]
[{"$f":"A34999+TIME(0,15,0)","v":"1900-12-31T13:30:00"},{"$f":"B34998","v":0}]
[{"$f":"A35000+TIME(0,15,0)","v":"1900-12-31T13:45:00"},{"$f":"B34998","v":0}]
[{"$f":"DATE($C$8752,$D$8752,$E$8752) + TIME($F$8752,0,0)","v":"1900-12-31T14:00:00"},{"$f":"IF(A35002<'PV Data'!$H$10,0,SUMIFS('PV Data'!D:D,'PV Data'!A:A,MONTH(Conversions!A35002),'PV Data'!B:B,DAY(Conversions!A35002),'PV Data'!C:C,HOUR(Conversions!A35002))/1000)","v":0}]
[{"$f":"A35002+TIME(0,15,0)","v":"1900-12-31T14:15:00"},{"$f":"B35002","v":0}]
[{"$f":"A35003+TIME(0,15,0)","v":"1900-12-31T14:30:00"},{"$f":"B35002","v":0}]
[{"$f":"A35004+TIME(0,15,0)","v":"1900-12-31T14:45:00"},{"$f":"B35002","v":0}]
[{"$f":"DATE($C$8753,$D$8753,$E$8753) + TIME($F$8753,0,0)","v":"1900-12-31T15:00:00"},{"$f":"IF(A35006<'PV Data'!$H$10,0,SUMIFS('PV Data'!D:D,'PV Data'!A:A,MONTH(Conversions!A35006),'PV Data'!B:B,DAY(Conversions!A35006),'PV Data'!C:C,HOUR(Conversions!A35006))/1000)","v":0}]
[{"$f":"A35006+TIME(0,15,0)","v":"1900-12-31T15:15:00"},{"$f":"B35006","v":0}]
[{"$f":"A35007+TIME(0,15,0)","v":"1900-12-31T15:30:00"},{"$f":"B35006","v":0}]
[{"$f":"A35008+TIME(0,15,0)","v":"1900-12-31T15:45:00"},{"$f":"B35006","v":0}]
[{"$f":"DATE($C$8754,$D$8754,$E$8754) + TIME($F$8754,0,0)","v":"1900-12-31T16:00:00"},{"$f":"IF(A35010<'PV Data'!$H$10,0,SUMIFS('PV Data'!D:D,'PV Data'!A:A,MONTH(Conversions!A35010),'PV Data'!B:B,DAY(Conversions!A35010),'PV Data'!C:C,HOUR(Conversions!A35010))/1000)","v":0}]
[{"$f":"A35010+TIME(0,15,0)","v":"1900-12-31T16:15:00"},{"$f":"B35010","v":0}]
[{"$f":"A35011+TIME(0,15,0)","v":"1900-12-31T16:30:00"},{"$f":"B35010","v":0}]
[{"$f":"A35012+TIME(0,15,0)","v":"1900-12-31T16:45:00"},{"$f":"B35010","v":0}]
[{"$f":"DATE($C$8755,$D$8755,$E$8755) + TIME($F$8755,0,0)","v":"1900-12-31T17:00:00"},{"$f":"IF(A35014<'PV Data'!$H$10,0,SUMIFS('PV Data'!D:D,'PV Data'!A:A,MONTH(Conversions!A35014),'PV Data'!B:B,DAY(Conversions!A35014),'PV Data'!C:C,HOUR(Conversions!A35014))/1000)","v":0}]
[{"$f":"A35014+TIME(0,15,0)","v":"1900-12-31T17:15:00"},{"$f":"B35014","v":0}]
[{"$f":"A35015+TIME(0,15,0)","v":"1900-12-31T17:30:00"},{"$f":"B35014","v":0}]
[{"$f":"A35016+TIME(0,15,0)","v":"1900-12-31T17:45:00"},{"$f":"B35014","v":0}]
[{"$f":"DATE($C$8756,$D$8756,$E$8756) + TIME($F$8756,0,0)","v":"1900-12-31T18:00:00"},{"$f":"IF(A35018<'PV Data'!$H$10,0,SUMIFS('PV Data'!D:D,'PV Data'!A:A,MONTH(Conversions!A35018),'PV Data'!B:B,DAY(Conversions!A35018),'PV Data'!C:C,HOUR(Conversions!A35018))/1000)","v":0}]
[{"$f":"A35018+TIME(0,15,0)","v":"1900-12-31T18:15:00"},{"$f":"B35018","v":0}]
[{"$f":"A35019+TIME(0,15,0)","v":"1900-12-31T18:30:00"},{"$f":"B35018","v":0}]
[{"$f":"A35020+TIME(0,15,0)","v":"1900-12-31T18:45:00"},{"$f":"B35018","v":0}]
[{"$f":"DATE($C$8757,$D$8757,$E$8757) + TIME($F$8757,0,0)","v":"1900-12-31T19:00:00"},{"$f":"IF(A35022<'PV Data'!$H$10,0,SUMIFS('PV Data'!D:D,'PV Data'!A:A,MONTH(Conversions!A35022),'PV Data'!B:B,DAY(Conversions!A35022),'PV Data'!C:C,HOUR(Conversions!A35022))/1000)","v":0}]
[{"$f":"A35022+TIME(0,15,0)","v":"1900-12-31T19:15:00"},{"$f":"B35022","v":0}]
[{"$f":"A35023+TIME(0,15,0)","v":"1900-12-31T19:30:00"},{"$f":"B35022","v":0}]
[{"$f":"A35024+TIME(0,15,0)","v":"1900-12-31T19:45:00"},{"$f":"B35022","v":0}]
[{"$f":"DATE($C$8758,$D$8758,$E$8758) + TIME($F$8758,0,0)","v":"1900-12-31T20:00:00"},{"$f":"IF(A35026<'PV Data'!$H$10,0,SUMIFS('PV Data'!D:D,'PV Data'!A:A,MONTH(Conversions!A35026),'PV Data'!B:B,DAY(Conversions!A35026),'PV Data'!C:C,HOUR(Conversions!A35026))/1000)","v":0}]
[{"$f":"A35026+TIME(0,15,0)","v":"1900-12-31T20:15:00"},{"$f":"B35026","v":0}]
[{"$f":"A35027+TIME(0,15,0)","v":"1900-12-31T20:30:00"},{"$f":"B35026","v":0}]
[{"$f":"A35028+TIME(0,15,0)","v":"1900-12-31T20:45:00"},{"$f":"B35026","v":0}]
[{"$f":"DATE($C$8759,$D$8759,$E$8759) + TIME($F$8759,0,0)","v":"1900-12-31T21:00:00"},{"$f":"IF(A35030<'PV Data'!$H$10,0,SUMIFS('PV Data'!D:D,'PV Data'!A:A,MONTH(Conversions!A35030),'PV Data'!B:B,DAY(Conversions!A35030),'PV Data'!C:C,HOUR(Conversions!A35030))/1000)","v":0}]
[{"$f":"A35030+TIME(0,15,0)","v":"1900-12-31T21:15:00"},{"$f":"B35030","v":0}]
[{"$f":"A35031+TIME(0,15,0)","v":"1900-12-31T21:30:00"},{"$f":"B35030","v":0}]
[{"$f":"A35032+TIME(0,15,0)","v":"1900-12-31T21:45:00"},{"$f":"B35030","v":0}]
[{"$f":"DATE($C$8760,$D$8760,$E$8760) + TIME($F$8760,0,0)","v":"1900-12-31T22:00:00"},{"$f":"IF(A35034<'PV Data'!$H$10,0,SUMIFS('PV Data'!D:D,'PV Data'!A:A,MONTH(Conversions!A35034),'PV Data'!B:B,DAY(Conversions!A35034),'PV Data'!C:C,HOUR(Conversions!A35034))/1000)","v":0}]
[{"$f":"A35034+TIME(0,15,0)","v":"1900-12-31T22:15:00"},{"$f":"B35034","v":0}]
[{"$f":"A35035+TIME(0,15,0)","v":"1900-12-31T22:30:00"},{"$f":"B35034","v":0}]
[{"$f":"A35036+TIME(0,15,0)","v":"1900-12-31T22:45:00"},{"$f":"B35034","v":0}]
[{"$f":"DATE($C$8761,$D$8761,$E$8761) + TIME($F$8761,0,0)","v":"1900-12-31T23:00:00"},{"$f":"IF(A35038<'PV Data'!$H$10,0,SUMIFS('PV Data'!D:D,'PV Data'!A:A,MONTH(Conversions!A35038),'PV Data'!B:B,DAY(Conversions!A35038),'PV Data'!C:C,HOUR(Conversions!A35038))/1000)","v":0}]
[{"$f":"A35038+TIME(0,15,0)","v":"1900-12-31T23:15:00"},{"$f":"B35038","v":0}]
[{"$f":"A35039+TIME(0,15,0)","v":"1900-12-31T23:30:00"},{"$f":"B35038","v":0}]
[{"$f":"A35040+TIME(0,15,0)","v":"1900-12-31T23:45:00"},{"$f":"B35038","v":0}]

{"sheet":"Overlaid Data","index":6,"n_rows":7,"n_cols":14,"rows_kept":7,"cut":false,"hidden":false,"merged":[]}
["GBD Timestamp","GBD Power (kW)","PV Power (kW)","Combined Peak At GBD Timestamp",null,null,null,null,null,"Timestamp (Peak)","Timestamp Row","GBD Power (kW)","PV Power (kW)","Peak Demand (Overlaid) (kW)"]
[null,null,null,null,null,null,null,null,null,{"$f":"INDEX(A:D,MATCH(N2,D:D,0),1)","v":{"$error":"#N/A"}},{"$f":"MATCH(J2,A:A,0)","v":{"$error":"#N/A"}},{"$f":"INDEX(A:B,K2,2)","v":{"$error":"#N/A"}},{"$f":"INDEX(A:C,K2,3)","v":{"$error":"#N/A"}},{"$f":"MAX(D:D)","v":0}]
[null,null,null,null,null,null,null,null,null,"Timestamp (2nd Peak)","Timestamp Row","GBD Power (kW)","PV Power (kW)","2nd Peak Demand (Overlaid) (kW)"]
[null,null,null,null,null,null,null,null,null,{"$f":"INDEX(A:D,MATCH(N4,D:D,0),1)","v":{"$error":"#N/A"}},{"$f":"MATCH(N4,D:D,0)","v":{"$error":"#N/A"}},{"$f":"INDEX(A:B,K4,2)","v":{"$error":"#N/A"}},{"$f":"INDEX(A:C,K4,3)","v":{"$error":"#N/A"}},0]
[null,null,null,null,null,null,null,null,null,"Analysis Period Start","Analysis Period End"]
[null,null,null,null,null,null,null,null,null,"3798-12-31","00:00:00"]
[null,null,null,null,null,null,null,null,null,"Overlay Created On:","Graph Generated On:"]

{"sheet":"tblch","index":7,"n_rows":1,"n_cols":4,"rows_kept":1,"cut":false,"hidden":true,"merged":[]}
["GBD Timestamp","GBD Power (kW)","PV Power (kW)","Combined Peak At GBD Timestamp"]